BEGIN:VCALENDAR
VERSION:2.0
PRODID:-//The Wellbeing Hub - ECPv6.15.20//NONSGML v1.0//EN
CALSCALE:GREGORIAN
METHOD:PUBLISH
X-WR-CALNAME:The Wellbeing Hub
X-ORIGINAL-URL:https://thewellbeinghub.com.au
X-WR-CALDESC:Events for The Wellbeing Hub
REFRESH-INTERVAL;VALUE=DURATION:PT1H
X-Robots-Tag:noindex
X-PUBLISHED-TTL:PT1H
BEGIN:VTIMEZONE
TZID:Australia/Brisbane
BEGIN:STANDARD
TZOFFSETFROM:+1000
TZOFFSETTO:+1000
TZNAME:AEST
DTSTART:20240101T000000
END:STANDARD
END:VTIMEZONE
BEGIN:VEVENT
DTSTART;TZID=Australia/Brisbane:20251020T163000
DTEND;TZID=Australia/Brisbane:20251020T173000
DTSTAMP:20260422T183232
CREATED:20251003T023825Z
LAST-MODIFIED:20251003T023825Z
UID:10000022-1760977800-1760981400@thewellbeinghub.com.au
SUMMARY:QCWA Yeppoon Seasiders Walking Group
DESCRIPTION:Weekly Walking Group every Monday. \nYou are welcome to join us any Monday at 4.30pm in the Bowls Club carpark. \nContact: Linda Orgill \nEmail: yeppoonseasidersbranch@qcwa.org.au \nPh 0434003694 \nFacebook: https://www.facebook.com/qcwayeppoonseasiders
URL:https://thewellbeinghub.com.au/event/qcwa-yeppoon-seasiders-walking-group-2/
LOCATION:Bowls Club Car Park\, Yeppoon\, Queensland\, 4703\, Australia
CATEGORIES:walking group
ATTACH;FMTTYPE=image/jpeg:https://thewellbeinghub.com.au/wp-content/uploads/2025/10/qcwa-logo-1.jpg
ORGANIZER;CN="QCWA Yeppoon Seasiders":MAILTO:yeppoonseasidersbranch@qcwa.org.au
END:VEVENT
BEGIN:VEVENT
DTSTART;TZID=Australia/Brisbane:20251020T190000
DTEND;TZID=Australia/Brisbane:20251020T200000
DTSTAMP:20260422T183232
CREATED:20251017T060103Z
LAST-MODIFIED:20251017T060103Z
UID:10000031-1760986800-1760990400@thewellbeinghub.com.au
SUMMARY:Turtle Hour
DESCRIPTION:Turn off your lights to raise awareness and protect our local marine turtles!\n\nThe turtles are coming! Soon\, our beautiful beaches will be a bustling nursery for marine turtles. But light from our homes and businesses creates a glow that disorients mother turtles and stops hatchlings from finding their way to the ocean.\n\nJoin us for Turtle Hour. By simply turning off your lights for one hour\, you can help these threatened species find their way.
URL:https://thewellbeinghub.com.au/event/turtle-hour/
LOCATION:Queensland
ATTACH;FMTTYPE=image/jpeg:https://thewellbeinghub.com.au/wp-content/uploads/2025/10/Turtle-hour.jpg
END:VEVENT
END:VCALENDAR