BEGIN:VCALENDAR
VERSION:2.0
PRODID:-//The Wellbeing Hub - ECPv6.15.20//NONSGML v1.0//EN
CALSCALE:GREGORIAN
METHOD:PUBLISH
X-WR-CALNAME:The Wellbeing Hub
X-ORIGINAL-URL:https://thewellbeinghub.com.au
X-WR-CALDESC:Events for The Wellbeing Hub
REFRESH-INTERVAL;VALUE=DURATION:PT1H
X-Robots-Tag:noindex
X-PUBLISHED-TTL:PT1H
BEGIN:VTIMEZONE
TZID:Australia/Brisbane
BEGIN:STANDARD
TZOFFSETFROM:+1000
TZOFFSETTO:+1000
TZNAME:AEST
DTSTART:20240101T000000
END:STANDARD
END:VTIMEZONE
BEGIN:VEVENT
DTSTART;TZID=Australia/Brisbane:20251024T090000
DTEND;TZID=Australia/Brisbane:20251024T113000
DTSTAMP:20260425T234634
CREATED:20251017T061440Z
LAST-MODIFIED:20251017T061440Z
UID:10000036-1761296400-1761305400@thewellbeinghub.com.au
SUMMARY:CCTL - Stay & Play
DESCRIPTION:Looking for a Friday morning outing with a safe and supportive environment?\n\nCapricorn Coast Toy Library is hosting weekly Stay and Play sessions for families with children with disabilities or developmental delays (even if you are just concerned about your child’s development!).\n\nNo diagnosis or referrals are required\, though it will assist us to cater for your child’s needs if you register for our PLAYFUL STEPS CLUB.\n\nSend us a message if you have any questions.\n\nHope to see you there!
URL:https://thewellbeinghub.com.au/event/cctl-stay-play/
LOCATION:33 Cordingley Street\, Yeppoon\, 33 Cordingley Street\, Yeppoon\, Queensland\, 4703\, Australia
CATEGORIES:neuro divergent,parenting,peer support,Toy Library
ATTACH;FMTTYPE=image/jpeg:https://thewellbeinghub.com.au/wp-content/uploads/2025/10/cap-coast-tl.jpg
END:VEVENT
BEGIN:VEVENT
DTSTART;TZID=Australia/Brisbane:20251024T113000
DTEND;TZID=Australia/Brisbane:20251024T130000
DTSTAMP:20260425T234634
CREATED:20251021T222939Z
LAST-MODIFIED:20251021T222939Z
UID:10000041-1761305400-1761310800@thewellbeinghub.com.au
SUMMARY:Friday Lunch Rock Painting Club
DESCRIPTION:Join us for a free lunch and get in touch with your creative side.
URL:https://thewellbeinghub.com.au/event/friday-lunch-rock-painting-club/
LOCATION:Yeppoon Community Centre\, John Street\, Yeppoon\, Q\, Australia
ATTACH;FMTTYPE=image/jpeg:https://thewellbeinghub.com.au/wp-content/uploads/2025/10/567364888_1127275652912958_4123803410365707734_n.jpg
END:VEVENT
BEGIN:VEVENT
DTSTART;TZID=Australia/Brisbane:20251024T120000
DTEND;TZID=Australia/Brisbane:20251024T130000
DTSTAMP:20260425T234634
CREATED:20251002T063101Z
LAST-MODIFIED:20251002T063101Z
UID:10000011-1761307200-1761310800@thewellbeinghub.com.au
SUMMARY:I CARE Community Lunch
DESCRIPTION:I Care Friday Lunch at the Community Centre\, John Street Yeppoon. \nTime: 12pm – 1pm \nWe are seeking to bring the community together over a shared meal to create meaningful connections and a sense of support and wellbeing in our thriving community. \n  \nContact: Robyn Kleinhans \nPh: 074913 3840 \nEmail: robyn.kleinhans@livingstone.qld.gov.au \nFacebook: https://www.facebook.com/YeppoonCommunityCentre
URL:https://thewellbeinghub.com.au/event/i-care-community-lunch/
LOCATION:John Street Yeppoon\, John Street\, Yeppoon\, Qld\, 4703\, Australia
CATEGORIES:Community event
ATTACH;FMTTYPE=image/jpeg:https://thewellbeinghub.com.au/wp-content/uploads/2025/10/community-centre-logo.jpg
END:VEVENT
END:VCALENDAR