BEGIN:VCALENDAR
VERSION:2.0
PRODID:-//The Wellbeing Hub - ECPv6.15.20//NONSGML v1.0//EN
CALSCALE:GREGORIAN
METHOD:PUBLISH
X-ORIGINAL-URL:https://thewellbeinghub.com.au
X-WR-CALDESC:Events for The Wellbeing Hub
REFRESH-INTERVAL;VALUE=DURATION:PT1H
X-Robots-Tag:noindex
X-PUBLISHED-TTL:PT1H
BEGIN:VTIMEZONE
TZID:Australia/Brisbane
BEGIN:STANDARD
TZOFFSETFROM:+1000
TZOFFSETTO:+1000
TZNAME:AEST
DTSTART:20240101T000000
END:STANDARD
END:VTIMEZONE
BEGIN:VEVENT
DTSTART;TZID=Australia/Brisbane:20251025T070000
DTEND;TZID=Australia/Brisbane:20251025T090000
DTSTAMP:20260421T232649
CREATED:20251017T060917Z
LAST-MODIFIED:20251017T061112Z
UID:10000035-1761375600-1761382800@thewellbeinghub.com.au
SUMMARY:Walk n Talk Men's Catch Up- Yeppoon
DESCRIPTION:Thanks to The Keppel Bay Sailing Club our Men’s walks are coming to Yeppoon!\nStarting from 7am on the Fourth Saturday of each month we will meet at the Sail Inn Cafe underneath the Keppel Bay Sailing Club for a catch up\, go for a walk along the Yeppoon beachfront then back to the cafe for coffees\, a feed and a chat.\n\nCome and meet some blokes\, clear your head\, get some fresh air and make some connections!
URL:https://thewellbeinghub.com.au/event/walk-n-talk-yeppoon/
LOCATION:Queensland
CATEGORIES:Community event,Men's Mental Health,peer support,walking group
ATTACH;FMTTYPE=image/jpeg:https://thewellbeinghub.com.au/wp-content/uploads/2025/10/yeppoon-walk-n-talk.jpg
END:VEVENT
END:VCALENDAR