BEGIN:VCALENDAR
VERSION:2.0
PRODID:-//The Wellbeing Hub - ECPv6.15.20//NONSGML v1.0//EN
CALSCALE:GREGORIAN
METHOD:PUBLISH
X-ORIGINAL-URL:https://thewellbeinghub.com.au
X-WR-CALDESC:Events for The Wellbeing Hub
REFRESH-INTERVAL;VALUE=DURATION:PT1H
X-Robots-Tag:noindex
X-PUBLISHED-TTL:PT1H
BEGIN:VTIMEZONE
TZID:Australia/Brisbane
BEGIN:STANDARD
TZOFFSETFROM:+1000
TZOFFSETTO:+1000
TZNAME:AEST
DTSTART:20240101T000000
END:STANDARD
END:VTIMEZONE
BEGIN:VEVENT
DTSTART;TZID=Australia/Brisbane:20251026T063000
DTEND;TZID=Australia/Brisbane:20251026T073000
DTSTAMP:20260426T031744
CREATED:20251017T060357Z
LAST-MODIFIED:20251024T042516Z
UID:10000032-1761460200-1761463800@thewellbeinghub.com.au
SUMMARY:Salty Steps
DESCRIPTION: 26 October – Lammermoor (Coffee at Gather)\n\nSession includes: 30-min coastal walk 10-min guided breathwork Optional ocean dip Optional café catch-up to connect and unwind\n Free community event | All ages & abilities welcome | Pets too! \nWe can’t wait to see you there — come join the movement\, meet amazing people\, and start your Sunday the salty way 
URL:https://thewellbeinghub.com.au/event/salty-steps/
LOCATION:Lammermoor Beach\, Lammermoor\, Queensland\, 4703\, Australia
CATEGORIES:Community event,walking group
ATTACH;FMTTYPE=image/jpeg:https://thewellbeinghub.com.au/wp-content/uploads/2025/10/Salty-Steps.jpg
END:VEVENT
END:VCALENDAR