BEGIN:VCALENDAR
VERSION:2.0
PRODID:-//The Wellbeing Hub - ECPv6.15.20//NONSGML v1.0//EN
CALSCALE:GREGORIAN
METHOD:PUBLISH
X-WR-CALNAME:The Wellbeing Hub
X-ORIGINAL-URL:https://thewellbeinghub.com.au
X-WR-CALDESC:Events for The Wellbeing Hub
REFRESH-INTERVAL;VALUE=DURATION:PT1H
X-Robots-Tag:noindex
X-PUBLISHED-TTL:PT1H
BEGIN:VTIMEZONE
TZID:Australia/Brisbane
BEGIN:STANDARD
TZOFFSETFROM:+1000
TZOFFSETTO:+1000
TZNAME:AEST
DTSTART:20240101T000000
END:STANDARD
END:VTIMEZONE
BEGIN:VEVENT
DTSTART;TZID=Australia/Brisbane:20251030T100000
DTEND;TZID=Australia/Brisbane:20251115T160000
DTSTAMP:20260420T000644
CREATED:20251030T010508Z
LAST-MODIFIED:20251030T010508Z
UID:10000050-1761818400-1763222400@thewellbeinghub.com.au
SUMMARY:Nature + Art III
DESCRIPTION:The Latitude 23 Arts small group exhibition ‘Nature + Art III : Nature takes flight’ is still open..Sally North\, Peta Lloyd\, Michelle Black and Kate Lacy invite you to take a wander through the beautiful and closely observe all the beauty that they have found in nature taking flight. Beautiful birds\, captured through photography\, photogravure prints and linoprints\, bees and butterflies and moths and dragonflies abound – just look at the detail in Peta’s hand stitched works..The exhibition continues daily from 10am-4pm until Saturday 15 November\, closing at 1pm on the final day..With thanks to Fig Tree Galleries\, Keppel Coast Arts and Livingstone Shire Council......Follow our artists:Imprinted365Peta LloydMichelle Black Printmaker@katelacy99Latitude 23 ArtsFig Tree GalleriesKeppel Coast Arts
URL:https://thewellbeinghub.com.au/event/nature-art-iii/
LOCATION:Fig Tree Galleries\, Normanby Street\, Yeppoon\, Queensland\, 4703\, Australia
ATTACH;FMTTYPE=image/jpeg:https://thewellbeinghub.com.au/wp-content/uploads/2025/10/nature-art.jpg
END:VEVENT
BEGIN:VEVENT
DTSTART;TZID=Australia/Brisbane:20251101T085000
DTEND;TZID=Australia/Brisbane:20251102T170000
DTSTAMP:20260420T000644
CREATED:20251030T020344Z
LAST-MODIFIED:20251030T020344Z
UID:10000058-1761987000-1762102800@thewellbeinghub.com.au
SUMMARY:Cultivating a Compassionate Heart The Extraordinary Qualities of Bodhictta
DESCRIPTION:Please note this is also available online if in person is not possible.\n\nWe are incredibly fortunate to welcome Prof. Geshe Ngawang Samten to the Ananda Buddhist Centre for a special teaching on The Wonderful Qualities of Bodhicitta\, based on the first chapter of The Bodhisattva’s Way of Life by Shantideva.\n\nBodhicitta — the heartfelt wish to help all beings find freedom from suffering and reach enlightenment — is described by Shantideva as a rare and precious jewel that transforms our ordinary lives into extraordinary ones filled with compassion and wisdom.\n\nProfessor Geshe Samten’s visit and lecture tour of Australia is sponsored by Sakya Losal Choe Dzong to honour the Year of Compassion. . This is a rare opportunity to learn from such a highly respected and deeply experienced teacher.\n\nDon’t miss this inspiring event — a chance to open your heart and deepen your understanding of kindness\, compassion\, and the path of awakening.\nCost: Both days: $150Individual days: $75\nMorning and afternoon tea and shared vegetarian lunch included.\nWe believe that everyone should have access to these teachings. If cost is a factor\, please speak to one of our friendly volunteers.\n\nDate: Weekend teaching 1st to the 2nd of November.Time: 8:50 am to 5 pm Sat and Sun.Address: Ananda Buddhist Centre Cnr Hinchliff & Munro Streets Rockhampton\, QLD\,Bookings/Information: www.anandabuddhist.com.au
URL:https://thewellbeinghub.com.au/event/cultivating-a-compassionate-heart-the-extraordinary-qualities-of-bodhictta/
LOCATION:Ananda Buddhist Centre\, Cnr HInchcliffe & Munro Streets\, Rockhampton\, Queensland\, Australia
CATEGORIES:Buddhism,Class,workshop
ATTACH;FMTTYPE=image/jpeg:https://thewellbeinghub.com.au/wp-content/uploads/2025/10/cultivating.jpg
END:VEVENT
BEGIN:VEVENT
DTSTART;TZID=Australia/Brisbane:20251102T063000
DTEND;TZID=Australia/Brisbane:20251102T073000
DTSTAMP:20260420T000644
CREATED:20251030T014432Z
LAST-MODIFIED:20251030T014432Z
UID:10000052-1762065000-1762068600@thewellbeinghub.com.au
SUMMARY:Roll & Release Yoga
DESCRIPTION:Roll & Release Yoga is your go-to practice for easing tension\, enhancing mobility\, and awakening the body—all in a gentle\, accessible way. \n\nThis 60-minute\, all-level class blends self-myofascial release techniques\, breathwork\, and fluid yoga sequences\, using simple tools to target fascia and improve flexibility without overstretching. Through mindful rolling\, restorative movement\, and deep relaxation\, you’ll release built-up tightness\, find greater ease in motion\, and leave feeling refreshed and balanced. Perfect for anyone looking to unwind\, mobilize\, and reconnect. \n\nThis in person class is perfect for any level of experience or fitness held at Main Beach Stage\, Yeppoon. \n\n$10 per adult – with three payment options: \n\n1. Pay with Credit card (Stripe is my payment processor) upon booking in. \n2. Choose Pay Later if you would like to pay with cash on arrival. \n3. Yoga 10 Class Pass only $80 – purchase through this link BEFORE registering for class: 10 CLASS PASS \n\nBYO mat\, hat and water. \n\nSee you on the mat\, \nTracy
URL:https://thewellbeinghub.com.au/event/roll-release-yoga/
LOCATION:Main Stage\, Yeppoon Beachfront\, Yeppoon\, Qld\, 4703\, Australia
ATTACH;FMTTYPE=image/jpeg:https://thewellbeinghub.com.au/wp-content/uploads/2025/10/roll-and-release.jpg
ORGANIZER;CN="Yoga with Tracy":MAILTO:admin@yogawithtracy.com.au
END:VEVENT
BEGIN:VEVENT
DTSTART;TZID=Australia/Brisbane:20251102T080000
DTEND;TZID=Australia/Brisbane:20251102T090000
DTSTAMP:20260420T000644
CREATED:20251030T022510Z
LAST-MODIFIED:20251030T022510Z
UID:10000063-1762070400-1762074000@thewellbeinghub.com.au
SUMMARY:Yoga in the Gallery
DESCRIPTION:The first Sunday of the month\, extend yourself holistically at Rockhampton Museum of Art’s Yoga in the Gallery class. Experience the collection and touring exhibitions while enjoying an enriching yoga session
URL:https://thewellbeinghub.com.au/event/yoga-in-the-gallery/
LOCATION:Rockhampton Museum of Art\, 220 Quay Street\, Rockhampton\, Queensland\, 4703\, Australia
CATEGORIES:yoga
ATTACH;FMTTYPE=image/jpeg:https://thewellbeinghub.com.au/wp-content/uploads/2025/10/yoga-in-the-gallery.jpg
ORGANIZER;CN="Rockhampton Museum of Art":MAILTO:rmoa@rrc.qld.gov.au
END:VEVENT
BEGIN:VEVENT
DTSTART;TZID=Australia/Brisbane:20251102T080000
DTEND;TZID=Australia/Brisbane:20251102T120000
DTSTAMP:20260420T000644
CREATED:20251003T025642Z
LAST-MODIFIED:20251003T025642Z
UID:10000026-1762070400-1762084800@thewellbeinghub.com.au
SUMMARY:Fig Tree Creek Markets
DESCRIPTION:Held on the first Sunday of each month Fig Tree Creek Markets stallholders display\, demonstrate and sell unique\, handmade\, locally designed \nContact: figtreecreekmarkets@gmail.com \nWebsite: keppelcoastarts.org.au/figtree-markets
URL:https://thewellbeinghub.com.au/event/fig-tree-creek-markets-2/
LOCATION:Queensland
CATEGORIES:market
ATTACH;FMTTYPE=image/jpeg:https://thewellbeinghub.com.au/wp-content/uploads/2025/10/fig-tree-creek.jpg
ORGANIZER;CN="Keppel Coast Arts":MAILTO:figtreecreekmarkets@gmail.com
END:VEVENT
BEGIN:VEVENT
DTSTART;TZID=Australia/Brisbane:20251102T083000
DTEND;TZID=Australia/Brisbane:20251102T133000
DTSTAMP:20260420T000644
CREATED:20251030T022128Z
LAST-MODIFIED:20251030T022128Z
UID:10000062-1762072200-1762090200@thewellbeinghub.com.au
SUMMARY:CQ Wedding Expo
DESCRIPTION:Robert Schwarten Pavilion Sunday\, 2nd November 2025 8:30am til 1:30pm $5 per person\, children 14 & under free
URL:https://thewellbeinghub.com.au/event/cq-wedding-expo/
LOCATION:Robert Schwarten Pavillion\, Rockhampton Showgrounds\, Rockhampton\, Queensland\, Australia
ATTACH;FMTTYPE=image/jpeg:https://thewellbeinghub.com.au/wp-content/uploads/2025/10/wedding.jpg
ORGANIZER;CN="CQ Wedding Expo":MAILTO:cqweddingexpo@outlook.com
END:VEVENT
BEGIN:VEVENT
DTSTART;TZID=Australia/Brisbane:20251102T090000
DTEND;TZID=Australia/Brisbane:20251102T100000
DTSTAMP:20260420T000644
CREATED:20251030T014709Z
LAST-MODIFIED:20251030T015143Z
UID:10000053-1762074000-1762077600@thewellbeinghub.com.au
SUMMARY:60 minute In-Studio Sacred Yin Journeys: Elemental Yin
DESCRIPTION:Sunday – Elemental Yin\nGrounding\, Fluidity\, and Energy Shifts Through the Five Elements\nSundays invite you into the wisdom of the five elements — Earth\, Water\, Fire\, Air\, and Ether. Each class draws on the qualities of one or more elements to guide your Yin practice\, fostering connection with nature’s cycles and rhythms. \nExpect deep release\, mindful stillness\, and an energetic reset to prepare you for the week ahead. This practice is grounding\, nourishing\, and spacious — a perfect Sunday ritual for body and soul. \nSuitable for all levels — beginners welcome. \n\nBooking Details\n\nLocation: The Yoga Space\nSpaces are limited — bookings essential\nPrice: $15 per person\n\nPay at booking or cash on arrival*\n5-Class or 10-Class Pass available (purchase as you register)\n\n\nWhat to bring: A towel or sarong to cover bolsters\nWhat to wear: Comfortable clothing; the room is set to a cosy temperature\nArrival: Please arrive at least 5 minutes before class\n\n*cancellations are required 2 hours before the class begins to ensure space is filled from wait list.\n*no shows are charged accordingly.
URL:https://thewellbeinghub.com.au/event/60-minute-in-studio-sacred-yin-journeys-elemental-yin/
LOCATION:The Yoga Space\, 13 James Street\, Yeppoon\, Queensland\, 4703\, Australia
CATEGORIES:Class,yin yoga,yoga
ATTACH;FMTTYPE=image/jpeg:https://thewellbeinghub.com.au/wp-content/uploads/2025/10/sacred-yin.jpg
ORGANIZER;CN="Yoga with Tracy":MAILTO:admin@yogawithtracy.com.au
END:VEVENT
BEGIN:VEVENT
DTSTART;TZID=Australia/Brisbane:20251102T130000
DTEND;TZID=Australia/Brisbane:20251102T150000
DTSTAMP:20260420T000644
CREATED:20251030T015943Z
LAST-MODIFIED:20251030T015943Z
UID:10000057-1762088400-1762095600@thewellbeinghub.com.au
SUMMARY:Country Music Group Afternoon
DESCRIPTION:CapRescue’s wonderful friends at the Country Music Group are getting ready for another one of their legendary afternoons — part old-time dance\, part jam session\, and all-round good fun!
URL:https://thewellbeinghub.com.au/event/country-music-group-afternoon/
LOCATION:Yeppoon Town Hall\, Normanby Street\, Yeppoon\, Queensalnd\, 4703\, Australia
CATEGORIES:Country Music,Dance
ATTACH;FMTTYPE=image/jpeg:https://thewellbeinghub.com.au/wp-content/uploads/2025/10/country-music.jpg
ORGANIZER;CN="CapRescue":MAILTO:info@caprescue.org.au
END:VEVENT
END:VCALENDAR