BEGIN:VCALENDAR
VERSION:2.0
PRODID:-//The Wellbeing Hub - ECPv6.15.20//NONSGML v1.0//EN
CALSCALE:GREGORIAN
METHOD:PUBLISH
X-WR-CALNAME:The Wellbeing Hub
X-ORIGINAL-URL:https://thewellbeinghub.com.au
X-WR-CALDESC:Events for The Wellbeing Hub
REFRESH-INTERVAL;VALUE=DURATION:PT1H
X-Robots-Tag:noindex
X-PUBLISHED-TTL:PT1H
BEGIN:VTIMEZONE
TZID:Australia/Brisbane
BEGIN:STANDARD
TZOFFSETFROM:+1000
TZOFFSETTO:+1000
TZNAME:AEST
DTSTART:20240101T000000
END:STANDARD
END:VTIMEZONE
BEGIN:VEVENT
DTSTART;TZID=Australia/Brisbane:20251030T100000
DTEND;TZID=Australia/Brisbane:20251115T160000
DTSTAMP:20260422T012620
CREATED:20251030T010508Z
LAST-MODIFIED:20251030T010508Z
UID:10000050-1761818400-1763222400@thewellbeinghub.com.au
SUMMARY:Nature + Art III
DESCRIPTION:The Latitude 23 Arts small group exhibition ‘Nature + Art III : Nature takes flight’ is still open..Sally North\, Peta Lloyd\, Michelle Black and Kate Lacy invite you to take a wander through the beautiful and closely observe all the beauty that they have found in nature taking flight. Beautiful birds\, captured through photography\, photogravure prints and linoprints\, bees and butterflies and moths and dragonflies abound – just look at the detail in Peta’s hand stitched works..The exhibition continues daily from 10am-4pm until Saturday 15 November\, closing at 1pm on the final day..With thanks to Fig Tree Galleries\, Keppel Coast Arts and Livingstone Shire Council......Follow our artists:Imprinted365Peta LloydMichelle Black Printmaker@katelacy99Latitude 23 ArtsFig Tree GalleriesKeppel Coast Arts
URL:https://thewellbeinghub.com.au/event/nature-art-iii/
LOCATION:Fig Tree Galleries\, Normanby Street\, Yeppoon\, Queensland\, 4703\, Australia
ATTACH;FMTTYPE=image/jpeg:https://thewellbeinghub.com.au/wp-content/uploads/2025/10/nature-art.jpg
END:VEVENT
BEGIN:VEVENT
DTSTART;TZID=Australia/Brisbane:20251110T080000
DTEND;TZID=Australia/Brisbane:20251110T170000
DTSTAMP:20260422T012620
CREATED:20251002T061145Z
LAST-MODIFIED:20251002T061145Z
UID:10000004-1762761600-1762794000@thewellbeinghub.com.au
SUMMARY:QCWA Yeppoon Seasiders Monthly Meeting
DESCRIPTION:QCWA Yeppoon Seasiders is a branch of the QCWA. We meet the second Monday each month at the Garage at the Community Centre\, John Street Yeppoon. \n  \nFor more information contact: \nLinda Orgill \nEmail yeppoonseasidersbranch@qcwa.org.au \nPh 0434003694 \nFacebook page
URL:https://thewellbeinghub.com.au/event/qcwa-yeppoon-seasiders-monthly-meeting/
LOCATION:Queensland
CATEGORIES:Community event
ATTACH;FMTTYPE=image/jpeg:https://thewellbeinghub.com.au/wp-content/uploads/2025/10/qcwa-logo-1.jpg
ORGANIZER;CN="QCWA Yeppoon Seasiders":MAILTO:yeppoonseasidersbranch@qcwa.org.au
END:VEVENT
BEGIN:VEVENT
DTSTART;TZID=Australia/Brisbane:20251110T181500
DTEND;TZID=Australia/Brisbane:20251110T203000
DTSTAMP:20260422T012620
CREATED:20251017T062036Z
LAST-MODIFIED:20251017T062036Z
UID:10000038-1762798500-1762806600@thewellbeinghub.com.au
SUMMARY:Yeppoon Toastmasters Fortnightly Meeting
DESCRIPTION:Do you want to become a confident public speaker\, sharpen your leadership skills\, or simply meet friendly\, like-minded people?\nYeppoon Toastmasters is the perfect place to practice\, learn\, and grow in a supportive environment.\n Build confidence in speaking Develop leadership skills Improve communication Meet new people\nEveryone is welcome and guests attend for free. No pressure to speak; just come along\, see how it works\, and have some fun.\nCome along to The Hub Yeppoon\, or contact us to receive the online link.
URL:https://thewellbeinghub.com.au/event/yeppoon-toastmasters-fortnightly-meeting-2/
LOCATION:The Hub\, James Street\, Yeppoon\, Queensland\, 4703\, Australia
ATTACH;FMTTYPE=image/jpeg:https://thewellbeinghub.com.au/wp-content/uploads/2025/10/toastmasters.jpg
ORGANIZER;CN="Yeppoon Toastmasters Club":MAILTO:contact-3822605@toastmastersclubs.org
END:VEVENT
END:VCALENDAR