BEGIN:VCALENDAR
VERSION:2.0
PRODID:-//The Wellbeing Hub - ECPv6.15.20//NONSGML v1.0//EN
CALSCALE:GREGORIAN
METHOD:PUBLISH
X-ORIGINAL-URL:https://thewellbeinghub.com.au
X-WR-CALDESC:Events for The Wellbeing Hub
REFRESH-INTERVAL;VALUE=DURATION:PT1H
X-Robots-Tag:noindex
X-PUBLISHED-TTL:PT1H
BEGIN:VTIMEZONE
TZID:Australia/Brisbane
BEGIN:STANDARD
TZOFFSETFROM:+1000
TZOFFSETTO:+1000
TZNAME:AEST
DTSTART:20240101T000000
END:STANDARD
END:VTIMEZONE
BEGIN:VEVENT
DTSTART;TZID=Australia/Brisbane:20251030T100000
DTEND;TZID=Australia/Brisbane:20251115T160000
DTSTAMP:20260421T193502
CREATED:20251030T010508Z
LAST-MODIFIED:20251030T010508Z
UID:10000050-1761818400-1763222400@thewellbeinghub.com.au
SUMMARY:Nature + Art III
DESCRIPTION:The Latitude 23 Arts small group exhibition ‘Nature + Art III : Nature takes flight’ is still open..Sally North\, Peta Lloyd\, Michelle Black and Kate Lacy invite you to take a wander through the beautiful and closely observe all the beauty that they have found in nature taking flight. Beautiful birds\, captured through photography\, photogravure prints and linoprints\, bees and butterflies and moths and dragonflies abound – just look at the detail in Peta’s hand stitched works..The exhibition continues daily from 10am-4pm until Saturday 15 November\, closing at 1pm on the final day..With thanks to Fig Tree Galleries\, Keppel Coast Arts and Livingstone Shire Council......Follow our artists:Imprinted365Peta LloydMichelle Black Printmaker@katelacy99Latitude 23 ArtsFig Tree GalleriesKeppel Coast Arts
URL:https://thewellbeinghub.com.au/event/nature-art-iii/
LOCATION:Fig Tree Galleries\, Normanby Street\, Yeppoon\, Queensland\, 4703\, Australia
ATTACH;FMTTYPE=image/jpeg:https://thewellbeinghub.com.au/wp-content/uploads/2025/10/nature-art.jpg
END:VEVENT
BEGIN:VEVENT
DTSTART;TZID=Australia/Brisbane:20251112T090000
DTEND;TZID=Australia/Brisbane:20251112T100000
DTSTAMP:20260421T193502
CREATED:20251112T054540Z
LAST-MODIFIED:20251112T054540Z
UID:10000114-1762938000-1762941600@thewellbeinghub.com.au
SUMMARY:60 minute In-Studio Sacred Yin Journeys: Elemental Yin
DESCRIPTION:Sunday – Elemental Yin\nGrounding\, Fluidity\, and Energy Shifts Through the Five Elements\n\nSundays invite you into the wisdom of the five elements — Earth\, Water\, Fire\, Air\, and Ether. Each class draws on the qualities of one or more elements to guide your Yin practice\, fostering connection with nature’s cycles and rhythms. \n\nExpect deep release\, mindful stillness\, and an energetic reset to prepare you for the week ahead. This practice is grounding\, nourishing\, and spacious — a perfect Sunday ritual for body and soul. \n\nSuitable for all levels — beginners welcome. \nBooking Details\n\nLocation: The Yoga Space\nSpaces are limited — bookings essential\nPrice: $15 per person\n\nPay at booking or cash on arrival*\n5-Class or 10-Class Pass available (purchase as you register)\n\n\nWhat to bring: A towel or sarong to cover bolsters\nWhat to wear: Comfortable clothing; the room is set to a cosy temperature\nArrival: Please arrive at least 5 minutes before class\n\n*cancellations are required 2 hours before the class begins to ensure space is filled from wait list.\n*no shows are charged accordingly.
URL:https://thewellbeinghub.com.au/event/60-minute-in-studio-sacred-yin-journeys-elemental-yin-2/
LOCATION:The Yoga Space\, 13 James Street\, Yeppoon\, Queensland\, 4703\, Australia
CATEGORIES:yin yoga,yoga
ATTACH;FMTTYPE=image/jpeg:https://thewellbeinghub.com.au/wp-content/uploads/2025/10/sacred-yin.jpg
ORGANIZER;CN="Yoga with Tracy":MAILTO:admin@yogawithtracy.com.au
END:VEVENT
BEGIN:VEVENT
DTSTART;TZID=Australia/Brisbane:20251112T090000
DTEND;TZID=Australia/Brisbane:20251112T103000
DTSTAMP:20260421T193502
CREATED:20251021T222749Z
LAST-MODIFIED:20251021T222749Z
UID:10000040-1762938000-1762943400@thewellbeinghub.com.au
SUMMARY:Monthly Family Gardening Group
DESCRIPTION:Register now for Judie’s Family Gardening Group . \nEveryone is welcome to help us transfer the garden into a community led garden. \nChildren are welcome\, and they will have their own garden to create. \nTea and coffee plus awesome chats. \nConnection to community is key for good mental health and a sense of belonging.
URL:https://thewellbeinghub.com.au/event/monthly-family-gardening-group/
LOCATION:Yeppoon Community Centre\, John Street\, Yeppoon\, Q\, Australia
ATTACH;FMTTYPE=image/jpeg:https://thewellbeinghub.com.au/wp-content/uploads/2025/10/community-centre-logo.jpg
END:VEVENT
BEGIN:VEVENT
DTSTART;TZID=Australia/Brisbane:20251112T163000
DTEND;TZID=Australia/Brisbane:20251112T173000
DTSTAMP:20260421T193502
CREATED:20251112T054855Z
LAST-MODIFIED:20251112T054855Z
UID:10000116-1762965000-1762968600@thewellbeinghub.com.au
SUMMARY:60 minute In-Studio Sacred Yin Journeys: Yama/Niyamas Yin
DESCRIPTION:Monday – Yamas/Niyamas Yin\nPhilosophical Exploration Through Movement\n\nThis Monday Yin practice blends the stillness of Yin postures with the wisdom of yoga’s guiding principles — the Yamas and Niyamas. Each week we focus on a different principle\, letting it gently shape our breath\, awareness\, and the shapes we rest in. \n\nExpect a calm\, reflective atmosphere where physical release meets inner clarity. Postures are held for 3–8 minutes\, giving both body and mind the space to soften. You’ll leave feeling grounded\, open\, and inspired to take your practice beyond the mat. \n\nSuitable for all levels — from beginners to seasoned yogis seeking a deeper\, more mindful approach. \n\nBooking Details\n\nLocation: The Yoga Space\nSpaces are limited — bookings essential\nPrice: $15 per person\n\nPay at booking or cash on arrival*\n5-Class or 10-Class Pass available (purchase as you register)\n\n\nWhat to bring: A towel or sarong to cover bolsters\nWhat to wear: Comfortable clothing; the room is set to a cosy temperature\nArrival: Please arrive at least 5 minutes before class\n\n*cancellations are required 2 hours before the class begins to ensure space is filled from wait list.\n*no shows are charged accordingly.
URL:https://thewellbeinghub.com.au/event/60-minute-in-studio-sacred-yin-journeys-yama-niyamas-yin-2/
LOCATION:The Yoga Space\, 13 James Street\, Yeppoon\, Queensland\, 4703\, Australia
CATEGORIES:yoga
ATTACH;FMTTYPE=image/jpeg:https://thewellbeinghub.com.au/wp-content/uploads/2025/10/sacred-yin.jpg
ORGANIZER;CN="Yoga with Tracy":MAILTO:admin@yogawithtracy.com.au
END:VEVENT
BEGIN:VEVENT
DTSTART;TZID=Australia/Brisbane:20251112T180000
DTEND;TZID=Australia/Brisbane:20251112T200000
DTSTAMP:20260421T193502
CREATED:20251002T061857Z
LAST-MODIFIED:20251002T061921Z
UID:10000008-1762970400-1762977600@thewellbeinghub.com.au
SUMMARY:QCWA Yeppoon Seasiders Fortnightly Craft Night
DESCRIPTION:QCWA Yeppoon Seasiders is a branch of the QCWA. Our fortnightly Craft Evenings are held at 6pm at the Garage at the Community Centre\, John Street Yeppoon. \n  \nFor more information contact: \nLinda Orgill \nEmail yeppoonseasidersbranch@qcwa.org.au \nPh 0434003694 \nFacebook page
URL:https://thewellbeinghub.com.au/event/qcwa-yeppoon-seasiders-fortnightly-craft-night-3/
LOCATION:John Street Yeppoon\, John Street\, Yeppoon\, Qld\, 4703\, Australia
CATEGORIES:Community event
ATTACH;FMTTYPE=image/jpeg:https://thewellbeinghub.com.au/wp-content/uploads/2025/10/qcwa-logo-1.jpg
ORGANIZER;CN="QCWA Yeppoon Seasiders":MAILTO:yeppoonseasidersbranch@qcwa.org.au
END:VEVENT
END:VCALENDAR