BEGIN:VCALENDAR
VERSION:2.0
PRODID:-//The Wellbeing Hub - ECPv6.15.20//NONSGML v1.0//EN
CALSCALE:GREGORIAN
METHOD:PUBLISH
X-ORIGINAL-URL:https://thewellbeinghub.com.au
X-WR-CALDESC:Events for The Wellbeing Hub
REFRESH-INTERVAL;VALUE=DURATION:PT1H
X-Robots-Tag:noindex
X-PUBLISHED-TTL:PT1H
BEGIN:VTIMEZONE
TZID:Australia/Brisbane
BEGIN:STANDARD
TZOFFSETFROM:+1000
TZOFFSETTO:+1000
TZNAME:AEST
DTSTART:20240101T000000
END:STANDARD
END:VTIMEZONE
BEGIN:VEVENT
DTSTART;TZID=Australia/Brisbane:20251116T180000
DTEND;TZID=Australia/Brisbane:20251213T150000
DTSTAMP:20260420T015616
CREATED:20251112T042541Z
LAST-MODIFIED:20251112T042541Z
UID:10000089-1763316000-1765638000@thewellbeinghub.com.au
SUMMARY:Interwoven Realms Exhibition Opening
DESCRIPTION:Mark your calendars! \nNot long to go until the ‘Interwoven Realms’ exhibition kicks off. \nGet ready for exciting new artworks that offer unique perspectives!
URL:https://thewellbeinghub.com.au/event/interwoven-realms-exhibition-opening/
LOCATION:Fig Tree Galleries\, Normanby Street\, Yeppoon\, Queensland\, 4703\, Australia
CATEGORIES:Art Exhibition
ATTACH;FMTTYPE=image/jpeg:https://thewellbeinghub.com.au/wp-content/uploads/2025/11/interwoven.jpg
ORGANIZER;CN="The Elton Gallery Fine Art":MAILTO:etchedluxuryart@outlook.com
END:VEVENT
BEGIN:VEVENT
DTSTART;TZID=Australia/Brisbane:20251128T184500
DTEND;TZID=Australia/Brisbane:20251224T220000
DTSTAMP:20260420T015616
CREATED:20251126T024721Z
LAST-MODIFIED:20251203T233931Z
UID:10000154-1764355500-1766613600@thewellbeinghub.com.au
SUMMARY:Radiance 2025
DESCRIPTION:This season\, step into the Toy Maker’s workshop!​​\n\nBeginning on Friday 28 November\, Radiance illuminates the Botanic Gardens via an all-new\, interactive light and sound show nightly until Christmas Eve.\n\nUnder the cover of dark experience immersive light displays\, pulsating special effects\, interactive zones and custom soundscapes\, while crowd favourites such as the reflective Japanese Gardens and bedazzling falling snow return to transport attendees into a Christmas wonderland.\n\nThe must-see event of the holiday season. Gather your family and friends to experience the vivid adventure that is Radiance!\nTickets – https://www.radiancerockhampton.com.au/
URL:https://thewellbeinghub.com.au/event/radiance-2025/
LOCATION:Rockhampton Botanic Gardens\, Rockhampton\, Australia
CATEGORIES:Christmas
ATTACH;FMTTYPE=image/jpeg:https://thewellbeinghub.com.au/wp-content/uploads/2025/11/radiance.jpg
END:VEVENT
BEGIN:VEVENT
DTSTART;TZID=Australia/Brisbane:20251203T100000
DTEND;TZID=Australia/Brisbane:20260126T160000
DTSTAMP:20260420T015616
CREATED:20251126T053036Z
LAST-MODIFIED:20251126T053036Z
UID:10000181-1764756000-1769443200@thewellbeinghub.com.au
SUMMARY:Summer Member's Exhibition
DESCRIPTION:Come and join us for our Members Exhibition at Emu Park Art Gallery! \n  \nFeatured artists of Anna-Maree Perfect’s class ‘Watercolour Whispers’ present their annual exhibition\, showcasing techniques acquired throughout the year. \n  \nParkie Potters – our talented potters will present creative works produced at their regular potter sessions at the gallery throughout the year.
URL:https://thewellbeinghub.com.au/event/summer-members-exhibition/
LOCATION:Emu Park Art Gallery\, 13 Hill Street\, Emu Park\, Queensland\, Australia
CATEGORIES:Art Exhibition
ATTACH;FMTTYPE=image/jpeg:https://thewellbeinghub.com.au/wp-content/uploads/2025/11/members.jpg
END:VEVENT
BEGIN:VEVENT
DTSTART;TZID=Australia/Brisbane:20251206T060000
DTEND;TZID=Australia/Brisbane:20251206T100000
DTSTAMP:20260420T015616
CREATED:20251126T053457Z
LAST-MODIFIED:20251126T053457Z
UID:10000183-1765000800-1765015200@thewellbeinghub.com.au
SUMMARY:Yeppoon Community Market
DESCRIPTION:EVERY SATURDAY MORNING YEPPOON SHOWGROUNDS 6AM-10AM. BOOKINGS AND INSURANCE ESSENTIAL \n  \nGreat stallholders selling craft\, plants\, chilli products\, bric-a-brac\, hats\, fruit\, vegetables\, essential oils\, eggs\, honey\, flowers\, dolls’ clothes\, jewellery\, embroidery\, women’s clothing\, healthy dog biscuits and other dog products\, fresh herbs\, turmeric products\, bags\, local artist\, handmade floral bouquets\, hair clips\, key rings\, pre-loved clothing\, tea tree products\, books\, cds\, dvds\, nuts\, oils\, seeds\, flours\, muesli\, dried fuits etc. We also have sourdough bread\, sweet pastries\, cookies\, muffins\, brownies\, cinnamon rolls and freshly made chai tea.\n\nCome and join us for a great morning.\nEVERY SATURDAY IN YEPPOON SHOWGROUNDS 6AM-10AM\nsOrRy nO dOgS allOWed Mostly a CASH Market
URL:https://thewellbeinghub.com.au/event/yeppoon-community-market-2/
LOCATION:Yeppoon Show Grounds\, Morris Street\, Yeppoon\, Queensland\, Australia
CATEGORIES:market
ATTACH;FMTTYPE=image/jpeg:https://thewellbeinghub.com.au/wp-content/uploads/2025/11/market.jpg
END:VEVENT
BEGIN:VEVENT
DTSTART;TZID=Australia/Brisbane:20251206T080000
DTEND;TZID=Australia/Brisbane:20251206T110000
DTSTAMP:20260420T015616
CREATED:20251203T223538Z
LAST-MODIFIED:20251203T223538Z
UID:10000192-1765008000-1765018800@thewellbeinghub.com.au
SUMMARY:HLTAID011 - First Aid Training Yeppoon
DESCRIPTION:This course is delivered Online with face-to-face assessment. Face to Face contact time of at approximately 2 hours.\n\nONLINE COMPONENT MUST BE COMPLETED PRIOR TO ATTENDANCE.\n\nHLTAID011 – Provide First Aid – is a nationally recognised unit designed to equip individuals with the essential skills and knowledge needed to provide a first aid response in a variety of situations. This comprehensive training covers the practical techniques required to manage medical emergencies such as injuries\, illnesses\, and accidents\, offering participants the confidence to act promptly and effectively when first aid is needed. The course includes both theoretical knowledge and hands-on practice to ensure learners are fully prepared to handle real-life emergency situations.\n\nThroughout the course\, participants will learn how to assess the scene of an emergency\, manage casualties\, and administer life-saving procedures such as cardiopulmonary resuscitation (CPR)\, use an automated external defibrillator (AED)\, and treat wounds\, burns\, and fractures. The unit also covers first aid for common conditions like allergic reactions\, asthma\, and shock\, alongside the proper care for bleeding\, sprains\, and other injuries. Participants will follow the DRSABCD action plan\, which ensures a structured and safe approach to first aid responses.
URL:https://thewellbeinghub.com.au/event/hltaid011-first-aid-training-yeppoon/
LOCATION:Green Fields Health & Performance\, 84 Queen Street\, Yeppoon\, Australia
CATEGORIES:First Aid Training
ATTACH;FMTTYPE=image/jpeg:https://thewellbeinghub.com.au/wp-content/uploads/2025/12/reen.jpg
ORGANIZER;CN="Green Fields Health & Performance":MAILTO:Intake@greenfieldspsychology.com.au
END:VEVENT
BEGIN:VEVENT
DTSTART;TZID=Australia/Brisbane:20251206T080000
DTEND;TZID=Australia/Brisbane:20251206T130000
DTSTAMP:20260420T015616
CREATED:20251112T060222Z
LAST-MODIFIED:20251112T060222Z
UID:10000119-1765008000-1765026000@thewellbeinghub.com.au
SUMMARY:Artisans of CQ - Exclusively Handmade Mega Xmas Market
DESCRIPTION:Artisans of CQ – Exclusively Handmade Mega Christmas Market – 6th December from 8am to 1pm –\nAIR CONDITIONED Robert Schwarten Pavilion\, Rockhampton Showgrounds –\nLIVE music – Burgers & Sausage Sizzle – Coffee\, Cakes\, Cookies\, Confectionery\, OMG Donuts\, Gorgeous HANDMADE products –\nPlenty of seating\,\nFREE entry\, Parking right outside.\nArtisans of CQ – https://www.facebook.com/profile.php?id=100085011938085
URL:https://thewellbeinghub.com.au/event/artisans-of-cq-exclusively-handmade-mega-xmas-market/
LOCATION:Robert Schwarten Pavillion\, Rockhampton Showgrounds\, Rockhampton\, Queensland\, Australia
CATEGORIES:Christmas,Craft,market
ATTACH;FMTTYPE=image/jpeg:https://thewellbeinghub.com.au/wp-content/uploads/2025/11/artisans-1.jpg
END:VEVENT
BEGIN:VEVENT
DTSTART;TZID=Australia/Brisbane:20251206T090000
DTEND;TZID=Australia/Brisbane:20251206T110000
DTSTAMP:20260420T015616
CREATED:20251203T225353Z
LAST-MODIFIED:20251203T225353Z
UID:10000194-1765011600-1765018800@thewellbeinghub.com.au
SUMMARY:Chad Collins Muay Thai Seminar
DESCRIPTION: MUAY THAI SEMINAR WITH CHADD ‘THE SHARK’ COLLINS \n ALL GYMS WELCOME \n\nWe are excited to announce that we will be hosting 7x World Champion Chadd Collins for a Muay Thai Seminar.\nKnown for his “Shark Style” of relentless pressure\, devastating power\, fight IQ & speed\, Chadd has become one of the most accomplished fighters to ever come out of Australia.\n\nLearn the concepts of ‘The Shark’ over this 2hr seminar \nThis is an amazing opportunity for those wanting to level up their skills and learn from one of the best \nThere will be a FREE BBQ at the end of the seminar for everyone \n RTC – 234 Limestone Creek Rd 9-11am 11-1130pm Technical Sparring (optional)$100pp (cash on the day) RSVP via DM or at the gym
URL:https://thewellbeinghub.com.au/event/chad-collins-muay-thai-seminar/
LOCATION:Revolution Training Centre\, 234 Limestone Creek Road\, Yeppoon\, Australia
CATEGORIES:workshop
ATTACH;FMTTYPE=image/jpeg:https://thewellbeinghub.com.au/wp-content/uploads/2025/12/muay.jpg
END:VEVENT
BEGIN:VEVENT
DTSTART;TZID=Australia/Brisbane:20251206T093000
DTEND;TZID=Australia/Brisbane:20251206T113000
DTSTAMP:20260420T015616
CREATED:20251126T020611Z
LAST-MODIFIED:20251126T020611Z
UID:10000153-1765013400-1765020600@thewellbeinghub.com.au
SUMMARY:MIDWIFING YOUR BUSINESS - The Art of Creating with Heart: Sharing Circle
DESCRIPTION: Midwifing Your Business | The Art of Creating with Heart\n\nHeart-Centred\, Small Group Sharing Circle for the Rising Feminine.\n\nYour business is not separate from you — it is an extension of your heart\, your rhythm\, and your wild wisdom We will gather to explore how your heart weaves through your work\, your leadership\, and your creative flow.\n\nTogether\, we will: Root into the landscape of your professional journey and the stories your heart longs to tell Breathe heart-connection into your daily rhythms\, finding confidence\, resilience\, and flow Align your choices with your deeper values and vision\, so work feels like devotion\, not depletion Soften the weight of stress and old patterns\, and return to authenticity\, purpose\, and presence Cultivate boundaries\, compassion\, and clarity as living practices of sustainable leadership\n\n This circle calls to the women who: Feels caught in transition or uncertainty in her work Longs to move from stagnation into flow and growth Wants to lead with heart\, not hustle Seeks a grounded\, feminine way of being in business\n\n Tanby Garden Café\, Tanby Saturday 6th December | 9:30–11:30am $25 | Small group (4–6 women)\nSign up here: https://www.feminineattunement.com/…/midwifing-your…\n Book: Text 0429 824 582 feminineattunement.com |  @alissa_feminineattunement |  alissa@feminineattunement.com
URL:https://thewellbeinghub.com.au/event/midwifing-your-business-the-art-of-creating-with-heart-sharing-circle/
LOCATION:Tanby Garden Centre\, 178 Kinka Beach Road\, Tanby\, Queensland\, 4703\, Australia
CATEGORIES:Business,Small Business,women in business,women's circle,workshop
ATTACH;FMTTYPE=image/jpeg:https://thewellbeinghub.com.au/wp-content/uploads/2025/11/mw.jpg
END:VEVENT
BEGIN:VEVENT
DTSTART;TZID=Australia/Brisbane:20251206T160000
DTEND;TZID=Australia/Brisbane:20251206T190000
DTSTAMP:20260420T015616
CREATED:20251203T223158Z
LAST-MODIFIED:20251203T223158Z
UID:10000191-1765036800-1765047600@thewellbeinghub.com.au
SUMMARY:Christmas Pet Photos in Yeppoon - Beach Access FB11
DESCRIPTION: Make memories\, help animals \n\nYour pet can star in a Christmas photo while supporting local animals in need. All funds raised go directly to Capricorn Animal Aid to cover vet bills and provide care for pets in our community.\n\n Yeppoon – 6 December\, 4–7PM\, Beach Access FB11\n Photos:\n$10 per photo3 photos for $20Gold coin donation if you’d like a volunteer to take the photo on your own device\n\n If your pet is reactive\, please message us ahead of time so we can do our best to accommodate them.\n Eftpos available – no booking needed
URL:https://thewellbeinghub.com.au/event/christmas-pet-photos-in-yeppoon-beach-access-fb11/
LOCATION:FB Access 11\, Access 11 Farnborough Beach\, Yeppoon\, Australia
CATEGORIES:Christmas,Community event
ATTACH;FMTTYPE=image/jpeg:https://thewellbeinghub.com.au/wp-content/uploads/2025/12/pet.jpg
ORGANIZER;CN="Capricorn Animal Aid":MAILTO:capricornanimalaid@gmail.com
END:VEVENT
BEGIN:VEVENT
DTSTART;TZID=Australia/Brisbane:20251206T170000
DTEND;TZID=Australia/Brisbane:20251206T183000
DTSTAMP:20260420T015616
CREATED:20251126T052845Z
LAST-MODIFIED:20251126T052845Z
UID:10000180-1765040400-1765045800@thewellbeinghub.com.au
SUMMARY:Official Opening of the Summer Member's Exhibition
DESCRIPTION:Come and join us for our Members Exhibition at Emu Park Art Gallery! \n  \nFeatured artists of Anna-Maree Perfect’s class ‘Watercolour Whispers’ present their annual exhibition\, showcasing techniques acquired throughout the year. \n  \nParkie Potters – our talented potters will present creative works produced at their regular potter sessions at the gallery throughout the year.
URL:https://thewellbeinghub.com.au/event/official-opening-of-the-summer-members-exhibition/
LOCATION:Emu Park Art Gallery\, 13 Hill Street\, Emu Park\, Queensland\, Australia
CATEGORIES:Art Exhibition
ATTACH;FMTTYPE=image/jpeg:https://thewellbeinghub.com.au/wp-content/uploads/2025/11/members.jpg
END:VEVENT
BEGIN:VEVENT
DTSTART;TZID=Australia/Brisbane:20251206T170000
DTEND;TZID=Australia/Brisbane:20251206T210000
DTSTAMP:20260420T015616
CREATED:20251117T051226Z
LAST-MODIFIED:20251117T051226Z
UID:10000133-1765040400-1765054800@thewellbeinghub.com.au
SUMMARY:CBD Christmas Fair
DESCRIPTION:Date: Saturday\, 6 December 2025Location: CBD – Quay Street and Riverside PrecinctTime: 5pm – 9pmEntry: FREE\nCelebrate the festive season at the CBD Christmas Fair\, a joyful evening filled with holiday cheer\, family-friendly activities\, and local entertainment.\nWhether you’re shopping for unique Christmas gifts\, enjoying dinner riverside\, or soaking up the festive atmosphere\, the CBD Christmas Fair is a great family outing.\nHighlights Include:• Free face painting• Free Christmas craft workshop• Santa letter writing station• Live music and roving performers• Movie: The Grinch (G – 2018) 6pm to 7:30pm• Santa photos at Customs House from 6.30pm to 8.30pm• Christmas Tree Lighting Ceremony at 7.45pm\nEnjoy local market stalls\, delicious food trucks\, and festive lights as we kick off the holiday season in the heart of the CBD. Bring your family and friends for an unforgettable evening of Christmas magic.
URL:https://thewellbeinghub.com.au/event/cbd-christmas-fair/
LOCATION:Rockhampton CBD\, Quay Street & Riverside Precinct\, Rockhampton\, Queensland\, 4703\, Australia
CATEGORIES:Christmas,market
ATTACH;FMTTYPE=image/jpeg:https://thewellbeinghub.com.au/wp-content/uploads/2025/11/cbs.jpg
END:VEVENT
END:VCALENDAR