BEGIN:VCALENDAR
VERSION:2.0
PRODID:-//The Wellbeing Hub - ECPv6.15.20//NONSGML v1.0//EN
CALSCALE:GREGORIAN
METHOD:PUBLISH
X-WR-CALNAME:The Wellbeing Hub
X-ORIGINAL-URL:https://thewellbeinghub.com.au
X-WR-CALDESC:Events for The Wellbeing Hub
REFRESH-INTERVAL;VALUE=DURATION:PT1H
X-Robots-Tag:noindex
X-PUBLISHED-TTL:PT1H
BEGIN:VTIMEZONE
TZID:Australia/Brisbane
BEGIN:STANDARD
TZOFFSETFROM:+1000
TZOFFSETTO:+1000
TZNAME:AEST
DTSTART:20240101T000000
END:STANDARD
END:VTIMEZONE
BEGIN:VEVENT
DTSTART;TZID=Australia/Brisbane:20251128T184500
DTEND;TZID=Australia/Brisbane:20251224T220000
DTSTAMP:20260420T073014
CREATED:20251126T024721Z
LAST-MODIFIED:20251203T233931Z
UID:10000154-1764355500-1766613600@thewellbeinghub.com.au
SUMMARY:Radiance 2025
DESCRIPTION:This season\, step into the Toy Maker’s workshop!​​\n\nBeginning on Friday 28 November\, Radiance illuminates the Botanic Gardens via an all-new\, interactive light and sound show nightly until Christmas Eve.\n\nUnder the cover of dark experience immersive light displays\, pulsating special effects\, interactive zones and custom soundscapes\, while crowd favourites such as the reflective Japanese Gardens and bedazzling falling snow return to transport attendees into a Christmas wonderland.\n\nThe must-see event of the holiday season. Gather your family and friends to experience the vivid adventure that is Radiance!\nTickets – https://www.radiancerockhampton.com.au/
URL:https://thewellbeinghub.com.au/event/radiance-2025/
LOCATION:Rockhampton Botanic Gardens\, Rockhampton\, Australia
CATEGORIES:Christmas
ATTACH;FMTTYPE=image/jpeg:https://thewellbeinghub.com.au/wp-content/uploads/2025/11/radiance.jpg
END:VEVENT
BEGIN:VEVENT
DTSTART;TZID=Australia/Brisbane:20251203T100000
DTEND;TZID=Australia/Brisbane:20260126T160000
DTSTAMP:20260420T073014
CREATED:20251126T053036Z
LAST-MODIFIED:20251126T053036Z
UID:10000181-1764756000-1769443200@thewellbeinghub.com.au
SUMMARY:Summer Member's Exhibition
DESCRIPTION:Come and join us for our Members Exhibition at Emu Park Art Gallery! \n  \nFeatured artists of Anna-Maree Perfect’s class ‘Watercolour Whispers’ present their annual exhibition\, showcasing techniques acquired throughout the year. \n  \nParkie Potters – our talented potters will present creative works produced at their regular potter sessions at the gallery throughout the year.
URL:https://thewellbeinghub.com.au/event/summer-members-exhibition/
LOCATION:Emu Park Art Gallery\, 13 Hill Street\, Emu Park\, Queensland\, Australia
CATEGORIES:Art Exhibition
ATTACH;FMTTYPE=image/jpeg:https://thewellbeinghub.com.au/wp-content/uploads/2025/11/members.jpg
END:VEVENT
BEGIN:VEVENT
DTSTART;TZID=Australia/Brisbane:20251210T060000
DTEND;TZID=Australia/Brisbane:20251222T170000
DTSTAMP:20260420T073014
CREATED:20251107T072759Z
LAST-MODIFIED:20251204T001947Z
UID:10000082-1765346400-1766422800@thewellbeinghub.com.au
SUMMARY:12 Days of Local Wellbeing Giveaway!
DESCRIPTION: 12 Days of Local Wellbeing Giveaway! \n\nJoin us as we celebrate the season of giving — wellbeing style! \n\nFrom 12 December to 24 December\, The Wellbeing Hub Capricorn Coast will be sharing 12 incredible giveaways featuring our amazing local wellbeing businesses.\n\nEach day\, a new prize and a new story of local goodness will be revealed — from pamper packs and wellness sessions to locally made treats and mindful experiences. \n\n More details on how you can join in on the festive fun will be released soon\, but for now – mark yourself as ‘going’ in the event and we’ll share the details as the come to hand!\n\nLet’s spread kindness\, connection\, and community this festive season while supporting the beautiful small businesses that make the Capricorn Coast shine. 
URL:https://thewellbeinghub.com.au/event/12-days-of-local-wellbeing-giveaway/
LOCATION:Yeppoon
ATTACH;FMTTYPE=image/png:https://thewellbeinghub.com.au/wp-content/uploads/2025/11/12-days-12-local-business-giveaways-1.png
ORGANIZER;CN="The Wellbeing Hub":MAILTO:thehubcapricorncoast@gmail.com
END:VEVENT
BEGIN:VEVENT
DTSTART;TZID=Australia/Brisbane:20251215T180000
DTEND;TZID=Australia/Brisbane:20251223T200000
DTSTAMP:20260420T073014
CREATED:20251117T032943Z
LAST-MODIFIED:20251209T060738Z
UID:10000125-1765821600-1766520000@thewellbeinghub.com.au
SUMMARY:Christmas Ground Experience at The Paddock
DESCRIPTION:Date: 15-19th December / 22nd-23rd DecemberLocation: The Paddock\, YeppoonTickets: $10 adult / $5 children under 12Event details: Food stalls\, sample bags\, Santa photos & drink stalls \n6pm – 8pm between 15th – 23rd December
URL:https://thewellbeinghub.com.au/event/christmas-ground-experience-at-the-paddock/
LOCATION:The Paddock\, 6 Milroy Drive\, Yeppoon\, Queensland\, Australia
CATEGORIES:Christmas
ATTACH;FMTTYPE=image/jpeg:https://thewellbeinghub.com.au/wp-content/uploads/2025/11/real.jpg
ORGANIZER;CN="The Real Group":MAILTO:Admin@therealgroup.com.au
END:VEVENT
BEGIN:VEVENT
DTSTART;TZID=Australia/Brisbane:20251217T080000
DTEND;TZID=Australia/Brisbane:20251219T170000
DTSTAMP:20260420T073014
CREATED:20251209T054439Z
LAST-MODIFIED:20251209T054439Z
UID:10000202-1765958400-1766163600@thewellbeinghub.com.au
SUMMARY:North Pole Wonderland
DESCRIPTION:Get ready to experience the magic of the North Pole right here in Yeppoon! Over three festive days\, Yeppoon Town Hall will be transformed into a Christmas wonderland bursting with activities for children of all ages.\n\nLittle ones can enjoy Christmas crafts\, explore the gumball river\, ride the gingerbread train\, and play in the cubby house with softplay flooring. A whimsical sensory walk-through adds to the adventure\, along with face painting\, balloon twisting\, glitter hair\, and roving carollers bringing festive cheer.\n\nDon’t miss storytime with the elves at 1pm each day\, plus a special visit from Santa.\n\nCraft activities are drop-in\, no bookings needed.\n\nBookings are required for the gingerbread house decorating\, on Thursday\, 18 December.\nThis event is part of Council’s Summer on the Capricorn Coast program.
URL:https://thewellbeinghub.com.au/event/north-pole-wonderland/
LOCATION:Yeppoon Town Hall\, Normanby Street\, Yeppoon\, Queensalnd\, 4703\, Australia
CATEGORIES:Christmas,Community event,Kid friendly
ATTACH;FMTTYPE=image/jpeg:https://thewellbeinghub.com.au/wp-content/uploads/2025/12/north.jpg
END:VEVENT
BEGIN:VEVENT
DTSTART;TZID=Australia/Brisbane:20251218T100000
DTEND;TZID=Australia/Brisbane:20251218T120000
DTSTAMP:20260420T073014
CREATED:20251118T025413Z
LAST-MODIFIED:20251118T025413Z
UID:10000144-1766052000-1766059200@thewellbeinghub.com.au
SUMMARY:Kids Christmas Craft
DESCRIPTION: Kids Christmas Craft Thursday 18th December | 10am–12noon\nBring the little ones for a fun and festive morning of crafting cute Christmas decorations! Each child will create something special and receive a FREE Christmas activity book.\n $12 per child Bookings essential: Call 4939 7200 to save your spot\n Hygge Cafe will be open for parents to enjoy a coffee while the kids get creative!\nLet’s make some Christmas magic together!
URL:https://thewellbeinghub.com.au/event/kids-christmas-craft/
LOCATION:Tanby Garden Centre\, 178 Kinka Beach Road\, Tanby\, Queensland\, 4703\, Australia
CATEGORIES:Christmas,Craft,Kid friendly
ATTACH;FMTTYPE=image/jpeg:https://thewellbeinghub.com.au/wp-content/uploads/2025/11/tanby.jpg
ORGANIZER;CN="Tanby Garden Centre":MAILTO:tanbygardencentre.com.au
END:VEVENT
END:VCALENDAR