BEGIN:VCALENDAR
VERSION:2.0
PRODID:-//The Wellbeing Hub - ECPv6.15.20//NONSGML v1.0//EN
CALSCALE:GREGORIAN
METHOD:PUBLISH
X-ORIGINAL-URL:https://thewellbeinghub.com.au
X-WR-CALDESC:Events for The Wellbeing Hub
REFRESH-INTERVAL;VALUE=DURATION:PT1H
X-Robots-Tag:noindex
X-PUBLISHED-TTL:PT1H
BEGIN:VTIMEZONE
TZID:Australia/Brisbane
BEGIN:STANDARD
TZOFFSETFROM:+1000
TZOFFSETTO:+1000
TZNAME:AEST
DTSTART:20240101T000000
END:STANDARD
END:VTIMEZONE
BEGIN:VEVENT
DTSTART;TZID=Australia/Brisbane:20251203T100000
DTEND;TZID=Australia/Brisbane:20260126T160000
DTSTAMP:20260422T045945
CREATED:20251126T053036Z
LAST-MODIFIED:20251126T053036Z
UID:10000181-1764756000-1769443200@thewellbeinghub.com.au
SUMMARY:Summer Member's Exhibition
DESCRIPTION:Come and join us for our Members Exhibition at Emu Park Art Gallery! \n  \nFeatured artists of Anna-Maree Perfect’s class ‘Watercolour Whispers’ present their annual exhibition\, showcasing techniques acquired throughout the year. \n  \nParkie Potters – our talented potters will present creative works produced at their regular potter sessions at the gallery throughout the year.
URL:https://thewellbeinghub.com.au/event/summer-members-exhibition/
LOCATION:Emu Park Art Gallery\, 13 Hill Street\, Emu Park\, Queensland\, Australia
CATEGORIES:Art Exhibition
ATTACH;FMTTYPE=image/jpeg:https://thewellbeinghub.com.au/wp-content/uploads/2025/11/members.jpg
END:VEVENT
BEGIN:VEVENT
DTSTART;TZID=Australia/Brisbane:20260114T173000
DTEND;TZID=Australia/Brisbane:20260118T210000
DTSTAMP:20260422T045945
CREATED:20260114T030603Z
LAST-MODIFIED:20260114T030603Z
UID:10000255-1768411800-1768770000@thewellbeinghub.com.au
SUMMARY:Rockhampton Family Carnival
DESCRIPTION: ROCKHAMPTON FAMILY CARNIVAL – JAN 7TH TO 18TH! \nThe biggest\, brightest\, most FUN-filled event of the school holidays is BACK! Gather the kids\, call your mates\, and get ready for 12 epic nights of rides\, food\, games\, prizes\, and themed entertainment at the Rockhampton Showgrounds — and guess what? ENTRY IS 100% FREE into the event! \n\n Dates: 7th – 18th January Time: 5:30pm – 9:00pm (Gates open at 5pm!) Location: Robert Schwarten Pavilion\, Rockhampton Showgrounds Entry: FREE for everyone!\n\n What’s Waiting for You?\n Thrilling rides for little ones and adrenaline lovers Mouthwatering carnival food Sideshow alley games where YOU can win awesome prizes Showbags packed with goodies to take home\n Unlimited Ride Passes\n $45 per person\, per sessionGo wild with unlimited rides — or grab individual ride tickets on the night!\n\n SPECIAL THEMES & SUPER SAVINGS!\nThese nights are BIG — don’t miss them! \n WEDNESDAY WILD SAVINGS – 7th & 14th January ONLY!Get ready for MIDWEEK MADNESS! When you buy a child’s armband\, one parent rides FREE! That’s right — you ride right alongside them without paying a cent extra! The ultimate Wednesday bonus! \n Country & Western Night – Friday\, 9th JanuaryYEEEHAW! Dust off your cowboy hats and boots! Meet the adorable Eden Bann Cuties Animal Farm crew\, take on the bucking Mechanical Bull\, and dive into our hilarious Donut Eating Competition! \n Market Night – Saturday\, 10th January (5pm–9pm)A magical mix of stalls\, treats\, gifts\, games\, food\, and carnival vibes! Shop\, snack\, explore\, and enjoy a huge carnival night under the lights! \n Monday Mates Rates – Monday\, 12th JanuaryThe BEST Monday ever! Buy 1 Unlimited Ride Pass\, get the 2nd HALF PRICE! Bring your mate\, your sibling\, your cousin — and double the fun for less! \n Hawaiian Night – Saturday\, 16th JanuaryAloha!  Slip into your brightest Hawaiian shirt and enjoy FREE balloon twisting\, and Hawaiian themed messy play stations for the under-5s! A totally chill\, family-friendly island escape! \n 12 NIGHTS OF NONSTOP FAMILY FUN AWAIT!From thrilling rides to themed nights\, delicious food to exciting games — the Rockhampton Family Carnival is the place to be these holidays! \n Tag your friends\, rally the kids\, and mark your calendars — this is one carnival you WON’T want to miss!
URL:https://thewellbeinghub.com.au/event/rockhampton-family-carnival/
LOCATION:Robert Schwarten Pavillion\, Rockhampton Showgrounds\, Rockhampton\, Queensland\, Australia
CATEGORIES:Family friendly,Kid friendly,School holiday activity
ATTACH;FMTTYPE=image/jpeg:https://thewellbeinghub.com.au/wp-content/uploads/2026/01/583488676_1408742364386001_7559291654669605186_n.jpg
END:VEVENT
BEGIN:VEVENT
DTSTART;TZID=Australia/Brisbane:20260117T060000
DTEND;TZID=Australia/Brisbane:20260117T070000
DTSTAMP:20260422T045945
CREATED:20260114T030013Z
LAST-MODIFIED:20260114T030013Z
UID:10000252-1768629600-1768633200@thewellbeinghub.com.au
SUMMARY:Yoga Flow
DESCRIPTION:Weekly Yoga Flow 6am. 1 hour class to start your weekend with intention and movement. $10. BYO mat 
URL:https://thewellbeinghub.com.au/event/yoga-flow/
LOCATION:Yeppoon Lagoon\, Lagoon Place\, Yeppoon\, Queensland\, Australia
CATEGORIES:Outdoor Yoga,yoga
ATTACH;FMTTYPE=image/jpeg:https://thewellbeinghub.com.au/wp-content/uploads/2026/01/607837749_1432283305350270_8785053822790915163_n.jpg
END:VEVENT
BEGIN:VEVENT
DTSTART;TZID=Australia/Brisbane:20260117T080000
DTEND;TZID=Australia/Brisbane:20260117T090000
DTSTAMP:20260422T045945
CREATED:20260114T030926Z
LAST-MODIFIED:20260114T030926Z
UID:10000256-1768636800-1768640400@thewellbeinghub.com.au
SUMMARY:Pilates Among the Paintings
DESCRIPTION:Immerse yourself in the captivating ambiance of RMOA\, where creativity and wellness intertwine. Our mat Pilates program offers a harmonious blend of body-toning exercises and mindful movement\, designed to sculpt your physique while fostering a deep sense of inner calm.
URL:https://thewellbeinghub.com.au/event/pilates-among-the-paintings-2/
LOCATION:Rockhampton Museum of Art\, 220 Quay Street\, Rockhampton\, Queensland\, 4703\, Australia
CATEGORIES:pilates
ATTACH;FMTTYPE=image/jpeg:https://thewellbeinghub.com.au/wp-content/uploads/2026/01/615147294_1454935966631593_6014635503267927264_n.jpg
ORGANIZER;CN="Rockhampton Museum of Art":MAILTO:rmoa@rrc.qld.gov.au
END:VEVENT
BEGIN:VEVENT
DTSTART;TZID=Australia/Brisbane:20260117T083000
DTEND;TZID=Australia/Brisbane:20260117T113000
DTSTAMP:20260422T045945
CREATED:20260114T024507Z
LAST-MODIFIED:20260114T024507Z
UID:10000246-1768638600-1768649400@thewellbeinghub.com.au
SUMMARY:HLTAID011 - First Aid Training - Discounted to $120 in January
DESCRIPTION:This course is delivered Online with face-to-face assessment. Face to Face contact time of at approximately 2 hours.\n\nONLINE COMPONENT MUST BE COMPLETED PRIOR TO ATTENDANCE.\n\nHLTAID011 – Provide First Aid – is a nationally recognised unit designed to equip individuals with the essential skills and knowledge needed to provide a first aid response in a variety of situations. This comprehensive training covers the practical techniques required to manage medical emergencies such as injuries\, illnesses\, and accidents\, offering participants the confidence to act promptly and effectively when first aid is needed. The course includes both theoretical knowledge and hands-on practice to ensure learners are fully prepared to handle real-life emergency situations.\n\nThroughout the course\, participants will learn how to assess the scene of an emergency\, manage casualties\, and administer life-saving procedures such as cardiopulmonary resuscitation (CPR)\, use an automated external defibrillator (AED)\, and treat wounds\, burns\, and fractures. The unit also covers first aid for common conditions like allergic reactions\, asthma\, and shock\, alongside the proper care for bleeding\, sprains\, and other injuries. Participants will follow the DRSABCD action plan\, which ensures a structured and safe approach to first aid responses.
URL:https://thewellbeinghub.com.au/event/hltaid011-first-aid-training-discounted-to-120-in-january/
LOCATION:Green Fields Health & Performance\, 84 Queen Street\, Yeppoon\, Australia
CATEGORIES:First Aid Training
ATTACH;FMTTYPE=image/jpeg:https://thewellbeinghub.com.au/wp-content/uploads/2025/12/reen.jpg
ORGANIZER;CN="Green Fields Health & Performance":MAILTO:Intake@greenfieldspsychology.com.au
END:VEVENT
BEGIN:VEVENT
DTSTART;TZID=Australia/Brisbane:20260117T100000
DTEND;TZID=Australia/Brisbane:20260117T113000
DTSTAMP:20260422T045945
CREATED:20260114T233642Z
LAST-MODIFIED:20260114T233642Z
UID:10000258-1768644000-1768649400@thewellbeinghub.com.au
SUMMARY:QCWA Yeppoon Seasiders Coffee Catch Up
DESCRIPTION:Join us this Saturday for our first relaxed and chill coffee morning get together. \nWe meet at the BBQ area at Ross Creek. \nEveryone welcome\, byo beverage.
URL:https://thewellbeinghub.com.au/event/qcwa-yeppoon-seasiders-coffee-catch-up/
LOCATION:Ross Creek
CATEGORIES:Coffee Catch Up,Community event
ATTACH;FMTTYPE=image/jpeg:https://thewellbeinghub.com.au/wp-content/uploads/2026/01/615910001_1331007262403400_6383438769233456889_n.jpg
ORGANIZER;CN="QCWA Yeppoon Seasiders":MAILTO:yeppoonseasidersbranch@qcwa.org.au
END:VEVENT
BEGIN:VEVENT
DTSTART;TZID=Australia/Brisbane:20260117T140000
DTEND;TZID=Australia/Brisbane:20260117T160000
DTSTAMP:20260422T045945
CREATED:20260112T050836Z
LAST-MODIFIED:20260112T050836Z
UID:10000229-1768658400-1768665600@thewellbeinghub.com.au
SUMMARY:Day 3 - Flathead
DESCRIPTION:Event by Capricorn Film Festival\, Flathead Film and Keppel Coast Arts\n\n\n\n\n\n\n\n\n\n\n\n\nYeppoon Town Hall\n\n\n\n\n\n\n\n\n\n\n\n\n\nPublic  · Anyone on or off Facebook\n\n\n\n\n\n\n\n\nVIEW TRAILER: https://youtu.be/YUz53gsQvts\nFlathead\, CQ Premiere w Q&A\nLate in life\, Cass is drawn to his long-forsaken child- hood home of Bundaberg\, where he finds himself on a spiritual search for redemption.\nJaydon Martin’s feature directorial debut combines fiction and documentary to present a compassionate portrait of blue-col- lar life in Australia. Cass Cumerford has borne more than his fair share of setbacks in life. Now in his seventies\, he decides to re- turn to his childhood home of Bundaberg\, a small city famous for its rum\, in Queensland. Through conversations with the strangers he encounters and the friends he makes\, Cass gradually reveals the events that have shaped his life – the mistakes he has made\, the moments of joy and the grief that weighs him down.\nDrawing on the lives and past of a rich panoply of characters in Bundaberg\, Martin creates an environment that allows those in front of the camera to perform – summoning the fabric of their lives to interact with others\, with subjects that range from ad- diction\, race\, faith and the forces that bind and repel us. Shot in crisp monochrome\, Flathead traverses its landscape in search of a country that rarely appears in the headlines or on screen. In doing so\, it becomes a vital\, spirited and poignant portrait of community life.
URL:https://thewellbeinghub.com.au/event/day-3-flathead/
LOCATION:Yeppoon Town Hall\, Normanby Street\, Yeppoon\, Queensalnd\, 4703\, Australia
CATEGORIES:Film festival
ATTACH;FMTTYPE=image/jpeg:https://thewellbeinghub.com.au/wp-content/uploads/2026/01/600270515_1428128455981114_7281777267544764792_n.jpg
ORGANIZER;CN="Keppel Coast Arts":MAILTO:figtreecreekmarkets@gmail.com
END:VEVENT
BEGIN:VEVENT
DTSTART;TZID=Australia/Brisbane:20260117T170000
DTEND;TZID=Australia/Brisbane:20260117T190000
DTSTAMP:20260422T045945
CREATED:20260114T024159Z
LAST-MODIFIED:20260114T024159Z
UID:10000245-1768669200-1768676400@thewellbeinghub.com.au
SUMMARY:Kirtan Rockhampton
DESCRIPTION:A special guest Band of Bhakti Yogi’s from Krishna Village will join us this time! Prasadam (a feast) on us. \n13 Murray street Wandal (Body N Soul Yoga) \nDuring Kirtan we chant Vedic mantras together\, accompanied by musical instruments. We are very excited to share this sacred practice from the Bhakti Yoga tradition\, with the community! \nFree of cost and no need to book\, we are always donation based. \nExperience the true power of sound vibration \nLearn the art of group mantra meditation (Kirtan)Listen\, learn\, play\, sing\, or chantNo experience needed!Free Vegetarian food provided in the true style of the traditionBring something comfortable to sit on
URL:https://thewellbeinghub.com.au/event/kirtan-rockhampton/
LOCATION:Body n Soul Yoga\, 13 Murray Street\, Rockhampton\, Queensland\, Australia
CATEGORIES:Community event,Free event,Kirtan
ATTACH;FMTTYPE=image/jpeg:https://thewellbeinghub.com.au/wp-content/uploads/2026/01/600421701_122165635532841784_7602189476657941142_n.jpg
END:VEVENT
BEGIN:VEVENT
DTSTART;TZID=Australia/Brisbane:20260117T180000
DTEND;TZID=Australia/Brisbane:20260117T200000
DTSTAMP:20260422T045945
CREATED:20260112T044249Z
LAST-MODIFIED:20260112T044249Z
UID:10000217-1768672800-1768680000@thewellbeinghub.com.au
SUMMARY:Tides & Tunes
DESCRIPTION: Grab some takeaway or pack a picnic dinner and head down to the Yeppoon foreshore to see local musicians playing live at the amphitheatre during the school holidays.  \n  \nSaturday 17 January / Celeste Caught feat A2Z Entertainment
URL:https://thewellbeinghub.com.au/event/tides-tunes-7/
LOCATION:Main Stage\, Yeppoon Beachfront\, Yeppoon\, Qld\, 4703\, Australia
CATEGORIES:Community event,Family friendly,Free event
ATTACH;FMTTYPE=image/jpeg:https://thewellbeinghub.com.au/wp-content/uploads/2026/01/612027342_1315903637233491_2264223858565950400_n.jpg
END:VEVENT
BEGIN:VEVENT
DTSTART;TZID=Australia/Brisbane:20260117T180000
DTEND;TZID=Australia/Brisbane:20260117T210000
DTSTAMP:20260422T045945
CREATED:20260114T010405Z
LAST-MODIFIED:20260114T010405Z
UID:10000235-1768672800-1768683600@thewellbeinghub.com.au
SUMMARY:Movie at the Park - Byfield
DESCRIPTION: Movie in the Park: Byfield\n\nJonin us for: How to train your dragon! \nThere will be plenty of food\, snacks and drinks on offer! Come together to kickstart the year with your Byfield community!\n\nIt’s the perfect night out for families\, friends\, and gamers alike — chill vibes\, good food\, and a movie everyone will love! \n\nEvent start time : 6pm – come along to get some food\, a drink\, catch up and enjoy the atmosphere. Movie starts at approx. 7:15pm\, once the sun goes down!\nMovie end time: approx. 8:45pm!
URL:https://thewellbeinghub.com.au/event/movie-at-the-park-byfield/
LOCATION:Raspberry Tree Creek Homestead\, 2289 Byfield Road\, Byfield\, Quee\, Australia
CATEGORIES:Community event,Family friendly,Free event,Kid friendly,School holiday activity
ATTACH;FMTTYPE=image/jpeg:https://thewellbeinghub.com.au/wp-content/uploads/2026/01/592218039_859327543142163_5851366232260581887_n.jpg
END:VEVENT
END:VCALENDAR