BEGIN:VCALENDAR
VERSION:2.0
PRODID:-//The Wellbeing Hub - ECPv6.15.20//NONSGML v1.0//EN
CALSCALE:GREGORIAN
METHOD:PUBLISH
X-ORIGINAL-URL:https://thewellbeinghub.com.au
X-WR-CALDESC:Events for The Wellbeing Hub
REFRESH-INTERVAL;VALUE=DURATION:PT1H
X-Robots-Tag:noindex
X-PUBLISHED-TTL:PT1H
BEGIN:VTIMEZONE
TZID:Australia/Brisbane
BEGIN:STANDARD
TZOFFSETFROM:+1000
TZOFFSETTO:+1000
TZNAME:AEST
DTSTART:20250101T000000
END:STANDARD
END:VTIMEZONE
BEGIN:VEVENT
DTSTART;TZID=Australia/Brisbane:20260203T083000
DTEND;TZID=Australia/Brisbane:20260203T170000
DTSTAMP:20260422T082613
CREATED:20260203T003238Z
LAST-MODIFIED:20260203T003238Z
UID:10000298-1770107400-1770138000@thewellbeinghub.com.au
SUMMARY:Yeppoon Surf Lifesaving Club FAMILY DAY
DESCRIPTION:Join us for a day of fun on the beach!BBQ lunch and bar will be open for purchase.
URL:https://thewellbeinghub.com.au/event/yeppoon-surf-lifesaving-club-family-day/
LOCATION:Yeppoon Surf Lifesaving Club\, Anzac Parade\, Yeppoon\, Queensland\, 4703\, Australia
ATTACH;FMTTYPE=image/jpeg:https://thewellbeinghub.com.au/wp-content/uploads/2026/02/558934568_122221913162113009_2071903298782003010_n.jpg
END:VEVENT
END:VCALENDAR