BEGIN:VCALENDAR
VERSION:2.0
PRODID:-//The Wellbeing Hub - ECPv6.15.20//NONSGML v1.0//EN
CALSCALE:GREGORIAN
METHOD:PUBLISH
X-ORIGINAL-URL:https://thewellbeinghub.com.au
X-WR-CALDESC:Events for The Wellbeing Hub
REFRESH-INTERVAL;VALUE=DURATION:PT1H
X-Robots-Tag:noindex
X-PUBLISHED-TTL:PT1H
BEGIN:VTIMEZONE
TZID:Australia/Brisbane
BEGIN:STANDARD
TZOFFSETFROM:+1000
TZOFFSETTO:+1000
TZNAME:AEST
DTSTART:20250101T000000
END:STANDARD
END:VTIMEZONE
BEGIN:VEVENT
DTSTART;TZID=Australia/Brisbane:20260208T060000
DTEND;TZID=Australia/Brisbane:20260208T073000
DTSTAMP:20260424T002701
CREATED:20260204T230154Z
LAST-MODIFIED:20260204T230154Z
UID:10000302-1770530400-1770535800@thewellbeinghub.com.au
SUMMARY:Yeppoon Conscious Community Event
DESCRIPTION:Sunrise – Sacredness – Synergy – Sovereignty\n\nFREE weekly Conscious Community Event hosted by the community for the community\, with changing content each week. Bring something to share (if you’d like to contribute).Weather dependant on the    and we’ll notify on this page by 5.45am for any cancellation or venue change.\n\nSchedule of Events (example):6:00 am Meditation / Yoga / Tai Chi\, etc7:00 am Dance 7:30 am Closing CircleSwim!\n\nThis is a special\, sacred opportunity to connect\, move our bodies\, shake our souls and start our days with high vibes and gathering with like minded souls\, honouring Mother Earth  and the Universe \nCome as you are\, absolutely no experience needed. This event is for EVERYONE; our bodies are designed to MOVE!Allow the beat\, music and nature to take over and move you freely. No instructions or steps to follow\, let your body’s knowing guide you!Bring togs and towel for a dip in the ocean afterwards! We often stay for a coffee from Gather\, however they are away at the moment.\n\nLOCATION : Lammermoor Beach access LB10. Walk to the notth of Lioness Park to the new beach access near the Gather Coffee Van and turn right on the beach\, you’ll find us in our usual spot!). (If buggy access required use entrance LB11\, to the South of the park and turn left on the beach.)\nAny questions\, comment below or dm Lindy
URL:https://thewellbeinghub.com.au/event/yeppoon-conscious-community-event-2/
LOCATION:Lammermoor Beach\, Lammermoor\, Queensland\, 4703\, Australia
CATEGORIES:Community event,Free event
ATTACH;FMTTYPE=image/jpeg:https://thewellbeinghub.com.au/wp-content/uploads/2026/01/618174863_10163618255590733_971500284984052329_n.jpg
END:VEVENT
BEGIN:VEVENT
DTSTART;TZID=Australia/Brisbane:20260208T063000
DTEND;TZID=Australia/Brisbane:20260208T073000
DTSTAMP:20260424T002701
CREATED:20260204T232122Z
LAST-MODIFIED:20260204T232122Z
UID:10000310-1770532200-1770535800@thewellbeinghub.com.au
SUMMARY:60 Min Roll & Release Outdoor Yoga
DESCRIPTION:Roll & Release Yoga is your go-to practice for easing tension\, enhancing mobility\, and awakening the body—all in a gentle\, accessible way. \n\nThis 60-minute\, all-level class blends self-myofascial release techniques\, breathwork\, and fluid yoga sequences\, using simple tools to target fascia and improve flexibility without overstretching. Through mindful rolling\, restorative movement\, and deep relaxation\, you’ll release built-up tightness\, find greater ease in motion\, and leave feeling refreshed and balanced. Perfect for anyone looking to unwind\, mobilize\, and reconnect. \n\nThis in person class is perfect for any level of experience or fitness held at Main Beach Stage\, Yeppoon. \n\n$10 per adult – with three payment options: \n\n1. Pay with Credit card (Stripe is my payment processor) upon booking in. \n2. Choose Pay Later if you would like to pay with cash on arrival. \n3. Yoga 10 Class Pass only $80 – purchase through this link BEFORE registering for class: 10 CLASS PASS \n\nBYO mat\, hat and water. \n\nSee you on the mat\, \nTracy
URL:https://thewellbeinghub.com.au/event/60-min-roll-release-outdoor-yoga/
LOCATION:Main Stage\, Yeppoon Beachfront\, Yeppoon\, Qld\, 4703\, Australia
CATEGORIES:Outdoor Yoga,yoga
ATTACH;FMTTYPE=image/jpeg:https://thewellbeinghub.com.au/wp-content/uploads/2025/10/roll-and-release.jpg
ORGANIZER;CN="Yoga with Tracy":MAILTO:admin@yogawithtracy.com.au
END:VEVENT
BEGIN:VEVENT
DTSTART;TZID=Australia/Brisbane:20260208T090000
DTEND;TZID=Australia/Brisbane:20260208T100000
DTSTAMP:20260424T002701
CREATED:20260204T232238Z
LAST-MODIFIED:20260204T232238Z
UID:10000311-1770541200-1770544800@thewellbeinghub.com.au
SUMMARY:Sacred Yin Journeys
DESCRIPTION:🌿 In Studio Sacred Yin Journeys\nStep into a season of renewal with Sacred Yin Journeys — a series designed to weave together the wisdom of yogic philosophy\, the flow of elemental cycles\, the healing pathways of Traditional Chinese Medicine\, and the subtle energy work of chakra alignment. \nEach practice is a gentle yet profound invitation to balance body and mind while deepening your connection to self. \nWhy Yin Yoga?\nYin Yoga is a deeply restorative practice where postures are held for 3–8 minutes\, inviting release in the connective tissues — ligaments\, fascia\, and joints.\nThis slow\, intentional approach fosters physical ease and inner stillness\, creating space for reflection\, renewal\, and deep energetic balance. \nEach 60-minute session is part of our Sacred Yin Journeys\, guiding you through seasonal cycles of restoration\, awareness\, and embodied wisdom. You’ll leave feeling grounded yet re-energised\, carrying the benefits far beyond the mat. \n  \nBooking details\nBookings essential as spaces are limited.\n$18 per person – Pay online at booking or use a class package. Cash accepted on arrival* \nPlease arrive a few minutes early to settle in.\nComfortable clothing recommended. \n*cancellations are required 2 hours before the class begins to ensure space is filled from wait list. \n*no shows are charged accordingly.
URL:https://thewellbeinghub.com.au/event/sacred-yin-journeys-2/
LOCATION:The Yoga Space\, 13 James Street\, Yeppoon\, Queensland\, 4703\, Australia
CATEGORIES:yin yoga,yoga
ATTACH;FMTTYPE=image/jpeg:https://thewellbeinghub.com.au/wp-content/uploads/2025/11/ty.jpg
ORGANIZER;CN="Yoga with Tracy":MAILTO:admin@yogawithtracy.com.au
END:VEVENT
BEGIN:VEVENT
DTSTART;TZID=Australia/Brisbane:20260208T103000
DTEND;TZID=Australia/Brisbane:20260208T123000
DTSTAMP:20260424T002701
CREATED:20260114T004106Z
LAST-MODIFIED:20260114T004106Z
UID:10000233-1770546600-1770553800@thewellbeinghub.com.au
SUMMARY:FREE BBQ for Men
DESCRIPTION:Location – Bluff Point – Kemp Beach Picnic AreaTime 10:30am – 12:30pm\n\nWet Weather Location – Causeway Lake Coffee Shop\n\nWHAT IS IT?A community organisation connecting men across Australia over a relaxed free BBQ to chat about all things life.But we are more than a BBQ.Online we provide quality resources for the good of men’s mental health.\nWHY DO IT? Conversation (and listening) always helps.Weather\, work\, footy\, family challenges and life changes. Getting outside in the sunshine is healthy.An antidote to the COVID-age isolation\, meeting a welcoming bunch of guys. Meeting new mates.\n\nOur community has met outside of the BBQ\, to cycle\, have coffee and form a support network.
URL:https://thewellbeinghub.com.au/event/free-bbq-for-men/
LOCATION:Kemp Beach Picnic Area\, Kemp Beach\, Queen\, Australia
CATEGORIES:Free event,Men's Mental Health,mental health,peer support
ATTACH;FMTTYPE=image/png:https://thewellbeinghub.com.au/wp-content/uploads/2025/10/mr-perfect.png
END:VEVENT
BEGIN:VEVENT
DTSTART;TZID=Australia/Brisbane:20260208T130000
DTEND;TZID=Australia/Brisbane:20260208T160000
DTSTAMP:20260424T002701
CREATED:20260204T230333Z
LAST-MODIFIED:20260204T230333Z
UID:10000303-1770555600-1770566400@thewellbeinghub.com.au
SUMMARY:Live on the Lawn
DESCRIPTION:Live on the LawnThe Waterline Restaurant\, Keppel Bay Marina.1pm to 4pm
URL:https://thewellbeinghub.com.au/event/live-on-the-lawn/
LOCATION:The Waterline Restaurant\, 1 Waterline Way\, Yeppoon\, Queensland\, 4703\, Australia
CATEGORIES:Live music
ATTACH;FMTTYPE=image/jpeg:https://thewellbeinghub.com.au/wp-content/uploads/2026/02/616783027_1479435157516495_2340580294231156328_n.jpg
ORGANIZER;CN="The Waterline Restaurant":MAILTO:info@keppelbaymarina.com.au
END:VEVENT
BEGIN:VEVENT
DTSTART;TZID=Australia/Brisbane:20260208T143000
DTEND;TZID=Australia/Brisbane:20260208T180000
DTSTAMP:20260424T002701
CREATED:20260114T025218Z
LAST-MODIFIED:20260114T025218Z
UID:10000250-1770561000-1770573600@thewellbeinghub.com.au
SUMMARY:Keppel Coast Blues Club February Jam Session
DESCRIPTION:We provide an opportunity for novice and experienced musicians in the Capricorn Coast and neighbouring area to network and jam and is also open to the wider public to attend.\nWe provide a full backline (Guitar & Bass Amps\, Drum kit)\n\nRegistrations begin at 2PM with music commencing at 3PM
URL:https://thewellbeinghub.com.au/event/keppel-coast-blues-club-february-jam-session/
LOCATION:Yeppoon RSL Club\, Normanby Street\, Yeppoon\, Queensland\, 4703\, Australia
CATEGORIES:Live music
ATTACH;FMTTYPE=image/jpeg:https://thewellbeinghub.com.au/wp-content/uploads/2026/01/614355663_1362200595707708_7873995706750727199_n.jpg
ORGANIZER;CN="Keppel Coast Blues Club":MAILTO:adrian@mclardy.com
END:VEVENT
BEGIN:VEVENT
DTSTART;TZID=Australia/Brisbane:20260208T160000
DTEND;TZID=Australia/Brisbane:20260208T170000
DTSTAMP:20260424T002701
CREATED:20260128T002407Z
LAST-MODIFIED:20260128T002407Z
UID:10000268-1770566400-1770570000@thewellbeinghub.com.au
SUMMARY:Capricorn Coast Produce Swap Feb 26
DESCRIPTION:The Produce Swap is on the second Sunday each month at 4pm. A monthly event where home gardeners share the abundant produce from their backyard garden rather than let it go to waste.
URL:https://thewellbeinghub.com.au/event/capricorn-coast-produce-swap-feb-26/
LOCATION:Jack’s Paddock\, Yeppoon\, 25 Ross Street\, Yeppoon\, Queensland\, 4703\, Australia
CATEGORIES:Community Garden
ATTACH;FMTTYPE=image/jpeg:https://thewellbeinghub.com.au/wp-content/uploads/2026/01/jack.jpg
END:VEVENT
END:VCALENDAR