BEGIN:VCALENDAR
VERSION:2.0
PRODID:-//The Wellbeing Hub - ECPv6.15.20//NONSGML v1.0//EN
CALSCALE:GREGORIAN
METHOD:PUBLISH
X-ORIGINAL-URL:https://thewellbeinghub.com.au
X-WR-CALDESC:Events for The Wellbeing Hub
REFRESH-INTERVAL;VALUE=DURATION:PT1H
X-Robots-Tag:noindex
X-PUBLISHED-TTL:PT1H
BEGIN:VTIMEZONE
TZID:Australia/Brisbane
BEGIN:STANDARD
TZOFFSETFROM:+1000
TZOFFSETTO:+1000
TZNAME:AEST
DTSTART:20250101T000000
END:STANDARD
END:VTIMEZONE
BEGIN:VEVENT
DTSTART;TZID=Australia/Brisbane:20260212T170000
DTEND;TZID=Australia/Brisbane:20260212T190000
DTSTAMP:20260422T064426
CREATED:20260112T045737Z
LAST-MODIFIED:20260112T045737Z
UID:10000224-1770915600-1770922800@thewellbeinghub.com.au
SUMMARY:Linked in Local Rockhampton
DESCRIPTION:On Thursday\, 12 February\, LinkedIn Local Rockhampton returns to CocoBrew\, welcoming business owners\, professionals\, and community leaders from right across Central Queensland for our first event of the year.\n\nNo presentations. No sales pitches. Just genuine conversations\, familiar faces\, and plenty of new ones.\n\nProudly sponsored in February by SV Partners\, each LinkedIn Local Rockhampton event attracts 60–100 attendees\, from emerging start-ups and local SMEs to major industry and regional organisations. What connects them all is simple: a shared belief that strong relationships are built face-to-face\, not through a screen.\n\nIf you value real connections\, meaningful conversations\, and being part of a growing regional business community\, this is the night to be there.\nThanks to our partners: Connecting Industry\, Hit CQ and Triple M Central Queensland\, Bishopp Outdoor Advertising\, and CocoBrew Rockhampton.
URL:https://thewellbeinghub.com.au/event/linked-in-local-rockhampton/
LOCATION:Cocobrew Rockhampton\, 114 William Street\, Rockhampton\, Queensland\, 4703\, Australia
CATEGORIES:networking,Small Business
ATTACH;FMTTYPE=image/jpeg:https://thewellbeinghub.com.au/wp-content/uploads/2026/01/480461603_651198984254326_6591259386288577938_n.jpg
ORGANIZER;CN="LinkedIn Local":MAILTO:info@linkedinlocalrockhampton.com.au
END:VEVENT
END:VCALENDAR