BEGIN:VCALENDAR
VERSION:2.0
PRODID:-//The Wellbeing Hub - ECPv6.15.20//NONSGML v1.0//EN
CALSCALE:GREGORIAN
METHOD:PUBLISH
X-ORIGINAL-URL:https://thewellbeinghub.com.au
X-WR-CALDESC:Events for The Wellbeing Hub
REFRESH-INTERVAL;VALUE=DURATION:PT1H
X-Robots-Tag:noindex
X-PUBLISHED-TTL:PT1H
BEGIN:VTIMEZONE
TZID:Australia/Brisbane
BEGIN:STANDARD
TZOFFSETFROM:+1000
TZOFFSETTO:+1000
TZNAME:AEST
DTSTART:20250101T000000
END:STANDARD
END:VTIMEZONE
BEGIN:VEVENT
DTSTART;TZID=Australia/Brisbane:20260213T093000
DTEND;TZID=Australia/Brisbane:20260213T113000
DTSTAMP:20260423T225001
CREATED:20260208T032218Z
LAST-MODIFIED:20260208T032218Z
UID:10000318-1770975000-1770982200@thewellbeinghub.com.au
SUMMARY:CCTL Playful Steps Club
DESCRIPTION:Looking for a Friday morning outing with a safe and supportive environment?\n\nCapricorn Coast Toy Library is hosting weekly Stay and Play sessions for families with children with disabilities or developmental delays (even if you are just concerned about your child’s development!).\n\nNo diagnosis or referrals are required\, though it will assist us to cater for your child’s needs if you register for our PLAYFUL STEPS CLUB.\n\nSend us a message if you have any questions.\n\nHope to see you there!
URL:https://thewellbeinghub.com.au/event/cctl-playful-steps-club-2/
LOCATION:Cap Coast Toy Library\, Cordingley Street\, Yeppoon\, Queensland\, Australia
CATEGORIES:Toy Library
ATTACH;FMTTYPE=image/jpeg:https://thewellbeinghub.com.au/wp-content/uploads/2026/02/623365913_1172993961710969_9043306860678783006_n.jpg
END:VEVENT
BEGIN:VEVENT
DTSTART;TZID=Australia/Brisbane:20260213T100000
DTEND;TZID=Australia/Brisbane:20260213T120000
DTSTAMP:20260423T225001
CREATED:20260208T032029Z
LAST-MODIFIED:20260208T032029Z
UID:10000317-1770976800-1770984000@thewellbeinghub.com.au
SUMMARY:Garden Gathering - Homeopathy
DESCRIPTION: Garden Gathering – Homeopathy with Morgan \n\nJoin us for our next Garden Gathering with Morgan from Sacred Acres Tallow & Homeopathy\, talking all about homeopathy for you\, your plants and your pets.\n\n Friday 13th Feb 10am–12noon Free to attend Call 4939 7200 to book your spot Hygge Café will be open\n\nCome along\, bring a friend\, and learn how to bring homeopathy into your home and garden. 
URL:https://thewellbeinghub.com.au/event/garden-gathering-homeopathy/
LOCATION:Tanby Garden Centre\, 178 Kinka Beach Road\, Tanby\, Queensland\, 4703\, Australia
CATEGORIES:Community event,free talk,Homeopathy
ATTACH;FMTTYPE=image/jpeg:https://thewellbeinghub.com.au/wp-content/uploads/2026/02/619109990_1363518012456097_8895799723652289847_n.jpg
ORGANIZER;CN="Tanby Garden Centre":MAILTO:tanbygardencentre.com.au
END:VEVENT
BEGIN:VEVENT
DTSTART;TZID=Australia/Brisbane:20260213T113000
DTEND;TZID=Australia/Brisbane:20260213T130000
DTSTAMP:20260423T225001
CREATED:20260209T003937Z
LAST-MODIFIED:20260209T003937Z
UID:10000320-1770982200-1770987600@thewellbeinghub.com.au
SUMMARY:Friday Lunch - Yeppoon Community Centre
DESCRIPTION:
URL:https://thewellbeinghub.com.au/event/friday-lunch-yeppoon-community-centre/
LOCATION:Yeppoon Community Centre\, John Street\, Yeppoon\, Q\, Australia
CATEGORIES:Community event,Free event
ATTACH;FMTTYPE=image/jpeg:https://thewellbeinghub.com.au/wp-content/uploads/2026/02/626394608_1206967284943794_6124351144302141846_n.jpg
END:VEVENT
BEGIN:VEVENT
DTSTART;TZID=Australia/Brisbane:20260213T160000
DTEND;TZID=Australia/Brisbane:20260213T173000
DTSTAMP:20260423T225001
CREATED:20260212T021630Z
LAST-MODIFIED:20260212T021630Z
UID:10000332-1770998400-1771003800@thewellbeinghub.com.au
SUMMARY:Fishing Frenzies
DESCRIPTION:Looking for something to do THIS FRIDAY after school?\n\n\n\nCome join us at Fishing Friendzies—a relaxed social fishing catch-up for friends and families on the Capricorn Coast!\n\n\n\nThis week\, we’ll be casting a line on the incoming tide at Ross Creek. Just bring your rod—we’ll help out with tackle\, bait\, and food.\n\n\n\nSpots are limited\, so register now to book your place.\nhttps://events.humanitix.com/fishing-friendzies-feb-2026\n\n\nWe can’t wait to see you there!
URL:https://thewellbeinghub.com.au/event/fishing-frenzies/
LOCATION:Ross Creek
CATEGORIES:Fishing,Free event
ATTACH;FMTTYPE=image/jpeg:https://thewellbeinghub.com.au/wp-content/uploads/2026/02/629209204_913198081088442_6685343613452756840_n.jpg
END:VEVENT
BEGIN:VEVENT
DTSTART;TZID=Australia/Brisbane:20260213T180000
DTEND;TZID=Australia/Brisbane:20260213T213000
DTSTAMP:20260423T225001
CREATED:20260208T223901Z
LAST-MODIFIED:20260208T223901Z
UID:10000319-1771005600-1771018200@thewellbeinghub.com.au
SUMMARY:Long Table Vinyl Night
DESCRIPTION:TICKETED EVENT  at Ol’ Coterie\n\nThis is a night for Vinyl Records\, Conversation & Connection. Bring a vinyl from home and take a turn spinning it for the room.\nNo record? No worries – choose one from our record collection.\n\nGrab a $10 ticket at olcoterie.com & join us for our “Long Table Vinyl Night” event at Ol’ Coterie and receive a drink on arrival.\n\nDesigned for friends\, date nights\, singles & anyone that would love to connect with others over music and a meal – this night is all about coming together over music and conversation.\n\n– Tapas plates will be available to purchase per person.\n– Tap Beer\, Wines\, Sangria\, Cocktails\, Mocktails & Coffee.\n– Take turns in playing a record of your choice. Each song becomes a story\, a memory or a conversation starter.\n\nIf you don’t have any records to bring along\, you can choose one from Ol’ Coterie & Yeppoon Music’s collection to play.\nReserve a seat at the OC Long Table & enjoy your first cocktail or tap beer on us.
URL:https://thewellbeinghub.com.au/event/long-table-vinyl-night/
LOCATION:Ol Coterie\, Farnborough Road\, Yeppoon\, Queensland\, 4703\, Australia
CATEGORIES:music
ATTACH;FMTTYPE=image/jpeg:https://thewellbeinghub.com.au/wp-content/uploads/2026/02/625296166_833016056437994_5550681918358575127_n.jpg
END:VEVENT
END:VCALENDAR