BEGIN:VCALENDAR
VERSION:2.0
PRODID:-//The Wellbeing Hub - ECPv6.15.20//NONSGML v1.0//EN
CALSCALE:GREGORIAN
METHOD:PUBLISH
X-ORIGINAL-URL:https://thewellbeinghub.com.au
X-WR-CALDESC:Events for The Wellbeing Hub
REFRESH-INTERVAL;VALUE=DURATION:PT1H
X-Robots-Tag:noindex
X-PUBLISHED-TTL:PT1H
BEGIN:VTIMEZONE
TZID:Australia/Brisbane
BEGIN:STANDARD
TZOFFSETFROM:+1000
TZOFFSETTO:+1000
TZNAME:AEST
DTSTART:20250101T000000
END:STANDARD
END:VTIMEZONE
BEGIN:VEVENT
DTSTART;TZID=Australia/Brisbane:20260215T063000
DTEND;TZID=Australia/Brisbane:20260215T073000
DTSTAMP:20260426T121824
CREATED:20260212T023152Z
LAST-MODIFIED:20260212T023152Z
UID:10000337-1771137000-1771140600@thewellbeinghub.com.au
SUMMARY:60 Minute Roll & Release Yoga Class
DESCRIPTION:Roll & Release Yoga is your go-to practice for easing tension\, enhancing mobility\, and awakening the body—all in a gentle\, accessible way. \n\nThis 60-minute\, all-level class blends self-myofascial release techniques\, breathwork\, and fluid yoga sequences\, using simple tools to target fascia and improve flexibility without overstretching. Through mindful rolling\, restorative movement\, and deep relaxation\, you’ll release built-up tightness\, find greater ease in motion\, and leave feeling refreshed and balanced. Perfect for anyone looking to unwind\, mobilize\, and reconnect. \n\nThis in person class is perfect for any level of experience or fitness held at Main Beach Stage\, Yeppoon. \n\n$10 per adult – with three payment options: \n\n1. Pay with Credit card (Stripe is my payment processor) upon booking in. \n2. Choose Pay Later if you would like to pay with cash on arrival. \n3. Yoga 10 Class Pass only $80 – purchase through this link BEFORE registering for class: 10 CLASS PASS \n\nBYO mat\, hat and water. \n\nSee you on the mat\, \nTracy
URL:https://thewellbeinghub.com.au/event/60-minute-roll-release-yoga-class/
LOCATION:Main Stage\, Yeppoon Beachfront\, Yeppoon\, Qld\, 4703\, Australia
CATEGORIES:Outdoor Yoga,yoga
ATTACH;FMTTYPE=image/jpeg:https://thewellbeinghub.com.au/wp-content/uploads/2025/10/roll-and-release.jpg
ORGANIZER;CN="Yoga with Tracy":MAILTO:admin@yogawithtracy.com.au
END:VEVENT
BEGIN:VEVENT
DTSTART;TZID=Australia/Brisbane:20260215T090000
DTEND;TZID=Australia/Brisbane:20260215T100000
DTSTAMP:20260426T121824
CREATED:20260212T023309Z
LAST-MODIFIED:20260212T023309Z
UID:10000338-1771146000-1771149600@thewellbeinghub.com.au
SUMMARY:Sacred Yin Journeys
DESCRIPTION:🌿 In Studio Sacred Yin Journeys\nStep into a season of renewal with Sacred Yin Journeys — a series designed to weave together the wisdom of yogic philosophy\, the flow of elemental cycles\, the healing pathways of Traditional Chinese Medicine\, and the subtle energy work of chakra alignment. \nEach practice is a gentle yet profound invitation to balance body and mind while deepening your connection to self. \nWhy Yin Yoga?\nYin Yoga is a deeply restorative practice where postures are held for 3–8 minutes\, inviting release in the connective tissues — ligaments\, fascia\, and joints.\nThis slow\, intentional approach fosters physical ease and inner stillness\, creating space for reflection\, renewal\, and deep energetic balance. \nEach 60-minute session is part of our Sacred Yin Journeys\, guiding you through seasonal cycles of restoration\, awareness\, and embodied wisdom. You’ll leave feeling grounded yet re-energised\, carrying the benefits far beyond the mat. \n  \nBooking details\nBookings essential as spaces are limited.\n$18 per person – Pay online at booking or use a class package. Cash accepted on arrival* \nPlease arrive a few minutes early to settle in.\nComfortable clothing recommended. \n*cancellations are required 2 hours before the class begins to ensure space is filled from wait list. \n*no shows are charged accordingly.
URL:https://thewellbeinghub.com.au/event/sacred-yin-journeys-3/
LOCATION:The Yoga Space\, 13 James Street\, Yeppoon\, Queensland\, 4703\, Australia
CATEGORIES:yin yoga,yoga
ATTACH;FMTTYPE=image/jpeg:https://thewellbeinghub.com.au/wp-content/uploads/2025/10/sacred-yin.jpg
ORGANIZER;CN="Yoga with Tracy":MAILTO:admin@yogawithtracy.com.au
END:VEVENT
BEGIN:VEVENT
DTSTART;TZID=Australia/Brisbane:20260215T100000
DTEND;TZID=Australia/Brisbane:20260215T120000
DTSTAMP:20260426T121824
CREATED:20260203T001046Z
LAST-MODIFIED:20260212T020410Z
UID:10000293-1771149600-1771156800@thewellbeinghub.com.au
SUMMARY:Blackcat Breathwork 9D Breathwork Journey - The Origin
DESCRIPTION:What is 9D Breathwork?\nEver wondered what makes 9D breathwork different?\n9D breathwork is a multi-dimensional healing experience that combines conscious breathing techniques with layered soundscapes\, binaural beats\, guided visualization\, and somatic movement. The “9D” refers to the nine dimensions of the experience working together—from the breath itself to the neuroscience-backed audio technology that helps shift your brainwave states.\nIt’s not just breathing. It’s a full-body journey that works on physical\, emotional\, mental\, and spiritual levels all at once.\nReady to experience it for yourself?\nBook here��\nhttps://events.humanitix.com/9d-breathwork-journey-the…
URL:https://thewellbeinghub.com.au/event/blackcat-breathwork-9d-breathwork-journey-the-origin/
LOCATION:57 Dolphin Crescent\, Yeppoon
CATEGORIES:Breathwork
ATTACH;FMTTYPE=image/jpeg:https://thewellbeinghub.com.au/wp-content/uploads/2026/01/622380249_122118447483066346_3959503625917692127_n.jpg
END:VEVENT
BEGIN:VEVENT
DTSTART;TZID=Australia/Brisbane:20260215T100000
DTEND;TZID=Australia/Brisbane:20260313T160000
DTSTAMP:20260426T121824
CREATED:20260212T022352Z
LAST-MODIFIED:20260212T022352Z
UID:10000334-1771149600-1773417600@thewellbeinghub.com.au
SUMMARY:Play with Clay Art Exhibition
DESCRIPTION:PLAY WITH CLAY’\n\nA Ceramic Exhibition featuring the works of:\nMAY BRIGGS\nRO ATWELL\nKAY REDMAN\n15 Feb – 13 Mar\n\nOpening Night Sunday 15th at 6pm\n10am -4pm daily
URL:https://thewellbeinghub.com.au/event/play-with-clay-art-exhibition/
LOCATION:Fig Tree Galleries\, Normanby Street\, Yeppoon\, Queensland\, 4703\, Australia
CATEGORIES:Art Exhibition
ATTACH;FMTTYPE=image/jpeg:https://thewellbeinghub.com.au/wp-content/uploads/2026/02/629629023_17958941859048086_2345534518250327897_n.jpg
END:VEVENT
BEGIN:VEVENT
DTSTART;TZID=Australia/Brisbane:20260215T160000
DTEND;TZID=Australia/Brisbane:20260215T190000
DTSTAMP:20260426T121824
CREATED:20260212T021036Z
LAST-MODIFIED:20260212T021036Z
UID:10000331-1771171200-1771182000@thewellbeinghub.com.au
SUMMARY:Jay Jackson - Yeppoon RSL Club
DESCRIPTION:You name it … I’ll play it!!
URL:https://thewellbeinghub.com.au/event/jay-jackson-yeppoon-rsl-club/
LOCATION:Yeppoon RSL Club\, Normanby Street\, Yeppoon\, Queensland\, 4703\, Australia
CATEGORIES:Live music
ATTACH;FMTTYPE=image/jpeg:https://thewellbeinghub.com.au/wp-content/uploads/2026/02/629274009_1719023542549061_2861377619946758575_n.jpg
END:VEVENT
BEGIN:VEVENT
DTSTART;TZID=Australia/Brisbane:20260215T180000
DTEND;TZID=Australia/Brisbane:20260215T200000
DTSTAMP:20260426T121824
CREATED:20260212T021853Z
LAST-MODIFIED:20260212T021853Z
UID:10000333-1771178400-1771185600@thewellbeinghub.com.au
SUMMARY:Play with Clay Exhibition Opening
DESCRIPTION:ANNOUNCEMENT  Our next exciting exhibition is opening THIS SUNDAY 15th Feb at 6pm.\n\n\n\n‘PLAY WITH CLAY’\n\nA Ceramic Exhibition featuring the works of:\nMAY BRIGGS\nRO ATWELL\nKAY REDMAN\n15 Feb – 13 Mar\n\nOpening Night Sunday 15th at 6pm\n10am -4pm daily
URL:https://thewellbeinghub.com.au/event/play-with-clay-exhibition-opening/
LOCATION:Fig Tree Galleries\, Normanby Street\, Yeppoon\, Queensland\, 4703\, Australia
CATEGORIES:Art Exhibition
ATTACH;FMTTYPE=image/jpeg:https://thewellbeinghub.com.au/wp-content/uploads/2026/02/629629023_17958941859048086_2345534518250327897_n.jpg
END:VEVENT
END:VCALENDAR