BEGIN:VCALENDAR
VERSION:2.0
PRODID:-//The Wellbeing Hub - ECPv6.15.20//NONSGML v1.0//EN
CALSCALE:GREGORIAN
METHOD:PUBLISH
X-WR-CALNAME:The Wellbeing Hub
X-ORIGINAL-URL:https://thewellbeinghub.com.au
X-WR-CALDESC:Events for The Wellbeing Hub
REFRESH-INTERVAL;VALUE=DURATION:PT1H
X-Robots-Tag:noindex
X-PUBLISHED-TTL:PT1H
BEGIN:VTIMEZONE
TZID:Australia/Brisbane
BEGIN:STANDARD
TZOFFSETFROM:+1000
TZOFFSETTO:+1000
TZNAME:AEST
DTSTART:20250101T000000
END:STANDARD
END:VTIMEZONE
BEGIN:VEVENT
DTSTART;TZID=Australia/Brisbane:20260215T100000
DTEND;TZID=Australia/Brisbane:20260313T160000
DTSTAMP:20260424T001748
CREATED:20260212T022352Z
LAST-MODIFIED:20260212T022352Z
UID:10000334-1771149600-1773417600@thewellbeinghub.com.au
SUMMARY:Play with Clay Art Exhibition
DESCRIPTION:PLAY WITH CLAY’\n\nA Ceramic Exhibition featuring the works of:\nMAY BRIGGS\nRO ATWELL\nKAY REDMAN\n15 Feb – 13 Mar\n\nOpening Night Sunday 15th at 6pm\n10am -4pm daily
URL:https://thewellbeinghub.com.au/event/play-with-clay-art-exhibition/
LOCATION:Fig Tree Galleries\, Normanby Street\, Yeppoon\, Queensland\, 4703\, Australia
CATEGORIES:Art Exhibition
ATTACH;FMTTYPE=image/jpeg:https://thewellbeinghub.com.au/wp-content/uploads/2026/02/629629023_17958941859048086_2345534518250327897_n.jpg
END:VEVENT
BEGIN:VEVENT
DTSTART;TZID=Australia/Brisbane:20260226T100000
DTEND;TZID=Australia/Brisbane:20260301T160000
DTSTAMP:20260424T001748
CREATED:20260226T011209Z
LAST-MODIFIED:20260226T012101Z
UID:10000411-1772100000-1772380800@thewellbeinghub.com.au
SUMMARY:CQ Playabilities
DESCRIPTION:
URL:https://thewellbeinghub.com.au/event/cq-playabilities/
LOCATION:Yeppoon Show Grounds\, Morris Street\, Yeppoon\, Queensland\, Australia
CATEGORIES:Family friendly,Kid friendly
ATTACH;FMTTYPE=image/jpeg:https://thewellbeinghub.com.au/wp-content/uploads/2026/02/640720079_891259757134835_2223860649285669121_n.jpg
END:VEVENT
BEGIN:VEVENT
DTSTART;TZID=Australia/Brisbane:20260227T063000
DTEND;TZID=Australia/Brisbane:20260227T071500
DTSTAMP:20260424T001748
CREATED:20260226T005708Z
LAST-MODIFIED:20260226T005708Z
UID:10000406-1772173800-1772176500@thewellbeinghub.com.au
SUMMARY:Awaken & Release - 45 Minute Yoga
DESCRIPTION:Awaken & Release Yoga\n  \nA gentle fusion of mobility\, mindful flow\, and deep ease. \n  \nAwaken & Release Yoga is a nourishing blend of gentle movement\, functional mobility\, and restorative release — designed to help you feel spacious\, aligned\, and at ease in your body. \n  \nThis 45 minute all-level practice begins with a short exploration of breath and awareness\, noticing where the body feels open and where it’s holding. We then move into soft\, fluid sequences that warm the body and build mobility without strain. \n  \nLight self-myofascial release may be included\, using simple tools to ease tension and support functional movement — but the focus is on gentle flows that loosen\, awaken\, and reconnect you to your natural rhythm. \nThe practice closes with supported restorative postures and a soothing breath-based meditation\, helping your whole system unwind so you leave feeling refreshed\, grounded\, and balanced. \n\nBooking details\nBookings essential as spaces are limited.\n$18 per person – Pay online at booking or use a class package. Cash accepted on arrival* \nPlease arrive a few minutes early to settle in.\nComfortable clothing recommended. \n*cancellations are required 2 hours before the class begins to ensure space is filled from wait list. \n*no shows are charged accordingly.
URL:https://thewellbeinghub.com.au/event/awaken-release-45-minute-yoga/
LOCATION:The Yoga Space\, 13 James Street\, Yeppoon\, Queensland\, 4703\, Australia
CATEGORIES:yoga
ATTACH;FMTTYPE=image/jpeg:https://thewellbeinghub.com.au/wp-content/uploads/2025/11/roll.jpg
ORGANIZER;CN="Yoga with Tracy":MAILTO:admin@yogawithtracy.com.au
END:VEVENT
BEGIN:VEVENT
DTSTART;TZID=Australia/Brisbane:20260227T080000
DTEND;TZID=Australia/Brisbane:20260227T120000
DTSTAMP:20260424T001748
CREATED:20260223T003501Z
LAST-MODIFIED:20260223T003501Z
UID:10000381-1772179200-1772193600@thewellbeinghub.com.au
SUMMARY:Re-purporsed Doiley Dream Catcher
DESCRIPTION:Repurposed Doily Dream Catcher\n\n Fri 27 Feb |  8am–12pm |  Drop in and create (while stocks last)\n\n\n The Tinkerage\nLakes Creek Road Waste Management Centre
URL:https://thewellbeinghub.com.au/event/re-purporsed-doiley-dream-catcher/
LOCATION:The Tinkerage\, Lakes Creek Road Waste Management Facility\, Lakes Creek\, Queensland\, Australia
CATEGORIES:Craft
ATTACH;FMTTYPE=image/jpeg:https://thewellbeinghub.com.au/wp-content/uploads/2026/02/633886680_122173043582755792_229879648037878120_n.jpg
ORGANIZER;CN="The Tinkerage Shed":MAILTO:sy.holloway@resourcerecovery.org.au
END:VEVENT
BEGIN:VEVENT
DTSTART;TZID=Australia/Brisbane:20260227T090000
DTEND;TZID=Australia/Brisbane:20260227T110000
DTSTAMP:20260424T001748
CREATED:20260226T010546Z
LAST-MODIFIED:20260226T010546Z
UID:10000410-1772182800-1772190000@thewellbeinghub.com.au
SUMMARY:The Fourth Trimester - The Mama Brunch Club
DESCRIPTION:This one has been created with so much care. \nOur next TMBC gathering is a space to feel held in preparation\, in solidarity\, and in sisterhood. A place to sit alongside other mums and remember that you are not meant to navigate this season alone. \nThis event is especially for\n• pregnant mamas\n• new mamas with babies 0 to 6 months\n• and anyone who feels tender\, unsure\, or in need of reassurance and community right now \nThere is nothing to fix here and nothing to perform. Babies are welcome exactly as they are. You are invited to feed\, rock\, step out\, listen\, or simply exist in the space in whatever way feels right for you. \nWe will be joined by Sarah from Capricorn Chiropractic\, who specialises in pregnancy and infant care. Sarah will be sharing a short\, gentle keynote around the physical realities of the fourth trimester for mums and babies. Grounded\, reassuring\, and offered with no pressure or expectation. \n🗓 Friday 27th February\nMore details on Heylo App: l.instagram.com/?u=https%3A%2F%2Fwww.heylo.com%2Finvite%2F6fad66c7-7a28-481c-a70a-dc0af7f1fde2%3Futm_source%3Dig%26utm_medium%3Dsocial%26utm_content%3Dlink_in_bio%26fbclid%3DPAZXh0bgNhZW0CMTEAc3J0YwZhcHBfaWQMMjU2MjgxMDQwNTU4AAGnw1jUVld6HLPwBqa4FJxzFp92uqzpXnQDOLS1J8X0r7VxSRhBfCtoyI_yan8_aem_U4pi2eOI1ClcN1T8Nsf-Ow&e=AT5LT6iBAxFrCvhG-pRHm47kBakwHpm5-IiiTIHiIeLqv35EKcuA2f8jT7KMvBaH-tpfx_bG5lucU-qN2IKS_dNc3V_RemMMhqTa4_7dhQ \nIf you know a pregnant mama\, a brand new mum\, or someone who could really use this kind of support right now\, please share this with them 🤍\nSometimes the most loving thing we can do is gently point someone toward a space where they do not have to do it all alone. \nWith so much love\,\nEm ✨\nThe Mama Brunch Club
URL:https://thewellbeinghub.com.au/event/the-fourth-trimester-the-mama-brunch-club/
LOCATION:The Expresso\, 23 James Street\, Yeppoon\, Queensland\, 4703\, Australia
CATEGORIES:mums group
ATTACH;FMTTYPE=image/jpeg:https://thewellbeinghub.com.au/wp-content/uploads/2026/02/617576024_17870366838518912_773647579275133082_n.jpg
END:VEVENT
BEGIN:VEVENT
DTSTART;TZID=Australia/Brisbane:20260227T093000
DTEND;TZID=Australia/Brisbane:20260227T113000
DTSTAMP:20260424T001748
CREATED:20260226T003846Z
LAST-MODIFIED:20260226T003846Z
UID:10000396-1772184600-1772191800@thewellbeinghub.com.au
SUMMARY:CCTL Playful Steps Club - Play & Stay
DESCRIPTION:Looking for a Friday morning outing with a safe and supportive environment?\n\nCapricorn Coast Toy Library is hosting weekly Stay and Play sessions for families with children with disabilities or developmental delays (even if you are just concerned about your child’s development!).\n\nNo diagnosis or referrals are required\, though it will assist us to cater for your child’s needs if you register for our PLAYFUL STEPS CLUB.\n\nSend us a message if you have any questions.\n\nHope to see you there!
URL:https://thewellbeinghub.com.au/event/cctl-playful-steps-club-play-stay/
LOCATION:Cap Coast Toy Library\, Cordingley Street\, Yeppoon\, Queensland\, Australia
CATEGORIES:Toy Library
ATTACH;FMTTYPE=image/jpeg:https://thewellbeinghub.com.au/wp-content/uploads/2026/02/623365913_1172993961710969_9043306860678783006_n.jpg
END:VEVENT
BEGIN:VEVENT
DTSTART;TZID=Australia/Brisbane:20260227T170000
DTEND;TZID=Australia/Brisbane:20260227T190000
DTSTAMP:20260424T001748
CREATED:20260225T053910Z
LAST-MODIFIED:20260225T053910Z
UID:10000390-1772211600-1772218800@thewellbeinghub.com.au
SUMMARY:Wizarding World Disco
DESCRIPTION:🪄 Wizarding World Disco 🪩 \nGrab your robes\, practise your best spell-casting moves and get ready to dance the night away! Our Wizarding World Disco transforms the play café into a magical dance floor filled with music\, lights and plenty of wizard-worthy fun. \nExpect toe-tapping tunes\, glow vibes\, playful games and lots of chances to show off your magical moves. Children are encouraged to dress up as their favourite witches\, wizards or magical creatures and enjoy a spellbinding disco experience with friends. \n✨ Music • Lights • Dancing • Magic vibes \n \n ✨ Dress-ups encouraged
URL:https://thewellbeinghub.com.au/event/wizarding-world-disco/
LOCATION:Coomoonity Play Cafe\, 155 Alma Street\, Rockhampton\, Queensland\, Australia
CATEGORIES:Disco,Kid friendly
ATTACH;FMTTYPE=image/jpeg:https://thewellbeinghub.com.au/wp-content/uploads/2026/02/641396560_1214431570868425_7539307708551758323_n.jpg
ORGANIZER;CN="Coomoonity Play Cafe":MAILTO:hello@comoonityplaycafe.com.au
END:VEVENT
BEGIN:VEVENT
DTSTART;TZID=Australia/Brisbane:20260227T173000
DTEND;TZID=Australia/Brisbane:20260227T183000
DTSTAMP:20260424T001748
CREATED:20260225T053121Z
LAST-MODIFIED:20260225T053121Z
UID:10000387-1772213400-1772217000@thewellbeinghub.com.au
SUMMARY:Books & Bubbles with author Amy Andrews - Official Book Launch for 'Engaged\, Apparently'
DESCRIPTION:🥂📚 Books & Bubbles with Amy Andrews\nOfficial Book Launch: Engaged\, Apparently \nJoin us at Yeppoon Library for a sparkling evening celebrating the launch of bestselling author Amy Andrews’ brand-new romance\, Engaged\, Apparently. \nEnjoy a complimentary glass of bubbles and a platter of nibbles as Amy takes you behind the scenes of this sassy\, fake-dating-with-a-twist\, friends-to-lovers rom-com that’s guaranteed to make you laugh out loud. \nAmy will share the secrets behind crafting irresistible chemistry\, witty banter and heartfelt moments in a story perfect for fans of Rachael Johns and Marian Keyes. \n🗓 Friday 27 February\n🕠 5:30-6:30 PM\n📍 Yeppoon Library\n🎟 FREE EVENT \nWhether you’re a devoted romance reader or just love a fun night out with books and bubbles\, this is a launch you won’t want to miss. \n✨ Book your spot today! ✨
URL:https://thewellbeinghub.com.au/event/books-bubbles-with-author-amy-andrews-official-book-launch-for-engaged-apparently/
LOCATION:Yeppoon Library\, John Street\, Yeppoon\, Australia
CATEGORIES:Book Launch,Community event,Free event
ATTACH;FMTTYPE=image/jpeg:https://thewellbeinghub.com.au/wp-content/uploads/2026/02/640827589_1292432286040129_535628113865554094_n.jpg
END:VEVENT
BEGIN:VEVENT
DTSTART;TZID=Australia/Brisbane:20260227T180000
DTEND;TZID=Australia/Brisbane:20260227T200000
DTSTAMP:20260424T001748
CREATED:20260221T232724Z
LAST-MODIFIED:20260221T232724Z
UID:10000366-1772215200-1772222400@thewellbeinghub.com.au
SUMMARY:Xbox Community Game Night
DESCRIPTION: Xbox Cowmunity Game Night is Coming! \n\nWe’re loading up the green machine for our next Cowmunity Game Night\, and this time it’s a full Xbox takeover. Get ready to relive the golden era and throw down on some of the greatest Xbox classics ever made.\n\nJoin Cowman Gaming Co and Kerr Solutions for a night of nostalgia\, competition\, and pure multiplayer chaos.\n Friday\, February 27th 6:00–8:00pm @greatwesternhotel FREE ENTRY\n\nWe’re bringing the heat with legendary titles including: Halo 3 Party Animals Call of Duty: Modern Warfare 2 Plus extra surprise titles you won’t see coming…\n Free to play All skill levels welcome Classic Xbox multiplayer experiences Awesome food + cold drinks available\nThis is where friendships are forged\, rivalries are born\, and memories are made. Round up your squad. Power on. And finish the fight. 
URL:https://thewellbeinghub.com.au/event/xbox-community-game-night/
LOCATION:The Great Western Hotel\, 39 Stanley Street\, Rockhampton\, QLD\, Australia
CATEGORIES:Gaming
END:VEVENT
BEGIN:VEVENT
DTSTART;TZID=Australia/Brisbane:20260227T180000
DTEND;TZID=Australia/Brisbane:20260227T200000
DTSTAMP:20260424T001748
CREATED:20260225T054138Z
LAST-MODIFIED:20260225T054138Z
UID:10000391-1772215200-1772222400@thewellbeinghub.com.au
SUMMARY:Botanical Watercolours - Rockhampton
DESCRIPTION:Our darling Botanical Watercolours workshop is iconic Aphrodite Art School\, and she is returning to the magical East Hall. Join Jules in her stunning Art Studio Loft surrounded by an abundance of fresh blooms and beautiful like minded souls to enjoy an evening of creativity and connection.\n\nBotanical Watercolour Illustration:\nImagine learning watercolor techniques that breathe life into petals\, leaves\, and stems all while surrounded by vases and jars of bright blooms\, branches\, and botanicals. Our Botanical Watercolour Art Workshop is your gateway to mastering these techniques\, no matter your artistic background\, experience\, or skill level.\n\nOur voyage delves deeper\, teaching you the art of infusing dimension and detail. Through the looking glass of watercolors\, we shall explore watercolour techniques that will make you feel confident to tackle this ever-inspiring subject in the studio or out in nature. From the tiniest dewdrop on a petal to the intricate labyrinth of veins\, your paintings will transcend mere art – they shall become living moments.\n\nGuided by professional artist and teacher Julianne Holland\, you’ll immerse yourself in hands-on practice. From mixing lush shades to detailing intricate textures\, you’ll create botanical wonders that you would be proud to display in your home.\n\nAll supplies are included as well as the bunch of flowers to take home at the end of class alongside your beautiful new artwork.\nAll supplies and 2 glasses of bubbles are included. You are welcome to bring any food or drinks that you wish.\n\n**Class starts at 6 pm and will run for 2ish hours. See you at the studio my loves!\nSave the details darlings!:\nDate: Friday Feb 27thTime: 4pmDuration: 2 hrsLocation: East Hall – 111 East Street Rockhampton\nWhat’s supplied: All art supplies 2 glasses of prosecco and a small bunch of blooms to take home.\nWhat to bring: Any additional food or drinks.
URL:https://thewellbeinghub.com.au/event/botanical-watercolours-rockhampton/
LOCATION:East Hall\, 111 East Street\, Rockhampton\, Queensland\, Australia
CATEGORIES:Art class,workshop
ATTACH;FMTTYPE=image/jpeg:https://thewellbeinghub.com.au/wp-content/uploads/2026/02/586238222_1149587563952707_8070090151699681327_n.jpg
ORGANIZER;CN="Aphrodite Art School":MAILTO:Hello@aphroditeartschool.com
END:VEVENT
BEGIN:VEVENT
DTSTART;TZID=Australia/Brisbane:20260227T180000
DTEND;TZID=Australia/Brisbane:20260227T210000
DTSTAMP:20260424T001748
CREATED:20260225T054625Z
LAST-MODIFIED:20260225T054625Z
UID:10000393-1772215200-1772226000@thewellbeinghub.com.au
SUMMARY:Friday Night Countdown!
DESCRIPTION:The songs you forgot you loved.\n\nThe era you still know every word to.\n\nFriday Night Countdown at OC\, this Friday 27th.\n\n\n\nBook your table  olcoterie.com | 0400416307\n\nAnd play a little table trivia to test your memory!
URL:https://thewellbeinghub.com.au/event/friday-night-countdown/
LOCATION:Ol Coterie\, Farnborough Road\, Yeppoon\, Queensland\, 4703\, Australia
ATTACH;FMTTYPE=image/jpeg:https://thewellbeinghub.com.au/wp-content/uploads/2026/02/641313174_18008483243842128_2031768795284175096_n.jpg
END:VEVENT
BEGIN:VEVENT
DTSTART;TZID=Australia/Brisbane:20260227T180000
DTEND;TZID=Australia/Brisbane:20260227T210000
DTSTAMP:20260424T001748
CREATED:20260226T005159Z
LAST-MODIFIED:20260226T005159Z
UID:10000403-1772215200-1772226000@thewellbeinghub.com.au
SUMMARY:Dawn & The Sax - Yeppoon RSL Club
DESCRIPTION:DAWN & THE SAX\n\nFriday 27th February\nLunch from midday\nDinner from 5:30pm.\nBar open from 11:30am\nMusic from 6pm.\n\nThe best raffles in Yeppoon. \n\n\nFRIDAY EVENING WITH THE SAX & DAWN\n\nCome and watch this duet belt out songs. Songs from the ages all the way up to today’s hits. Dance\, singalong or just watch while enjoying a cold bevy. We are lucky enough to get Dawn and Greg after a recent tour of the states\n\nYou will be impressed.\n\n\nCARLTON DRY\nVICTORIA BITTER\nGREAT NORTHERN\nYEPP\nHAHN 3.5\nHARD RATED\njust some of our beers on tap.\nSIP OF THE DAY\nWINE OF THE WEEK\nAND NOW PINTS OF YOUR FAVES\nThe Yeppoon RSL.\nThe place to be.\nEAT\, DRINK\, ENJOY
URL:https://thewellbeinghub.com.au/event/dawn-the-sax-yeppoon-rsl-club/
LOCATION:Yeppoon RSL Club\, Normanby Street\, Yeppoon\, Queensland\, 4703\, Australia
CATEGORIES:Live music
ATTACH;FMTTYPE=image/jpeg:https://thewellbeinghub.com.au/wp-content/uploads/2026/02/638882481_1614082026791842_2912716109786755489_n.jpg
END:VEVENT
END:VCALENDAR