BEGIN:VCALENDAR
VERSION:2.0
PRODID:-//The Wellbeing Hub - ECPv6.15.20//NONSGML v1.0//EN
CALSCALE:GREGORIAN
METHOD:PUBLISH
X-WR-CALNAME:The Wellbeing Hub
X-ORIGINAL-URL:https://thewellbeinghub.com.au
X-WR-CALDESC:Events for The Wellbeing Hub
REFRESH-INTERVAL;VALUE=DURATION:PT1H
X-Robots-Tag:noindex
X-PUBLISHED-TTL:PT1H
BEGIN:VTIMEZONE
TZID:Australia/Brisbane
BEGIN:STANDARD
TZOFFSETFROM:+1000
TZOFFSETTO:+1000
TZNAME:AEST
DTSTART:20250101T000000
END:STANDARD
END:VTIMEZONE
BEGIN:VEVENT
DTSTART;TZID=Australia/Brisbane:20260315T100000
DTEND;TZID=Australia/Brisbane:20260410T160000
DTSTAMP:20260425T232135
CREATED:20260313T034201Z
LAST-MODIFIED:20260313T034201Z
UID:10000481-1773568800-1775836800@thewellbeinghub.com.au
SUMMARY:100 Days & Beyond
DESCRIPTION:ANNOUNCING our next exciting exhibition here at Fig Tree Galleries!‘100 Days and Beyond’A joint exhibition from Nikki Wex and Josephine MorganMarch 15 – April 10OPENING NIGHT March 15 Sunday 6pm to 8pmWe are looking forward to this dynamic display.\n— with nikki_wex and josephine_morgan_artwork at Fig Tree Galleries.
URL:https://thewellbeinghub.com.au/event/100-days-beyond/
LOCATION:Fig Tree Galleries\, Normanby Street\, Yeppoon\, Queensland\, 4703\, Australia
CATEGORIES:Art Exhibition
ATTACH;FMTTYPE=image/jpeg:https://thewellbeinghub.com.au/wp-content/uploads/2026/03/650913954_17962646799048086_8283072967665538869_n.jpg
END:VEVENT
BEGIN:VEVENT
DTSTART;TZID=Australia/Brisbane:20260402T100000
DTEND;TZID=Australia/Brisbane:20260405T160000
DTSTAMP:20260425T232135
CREATED:20260319T013409Z
LAST-MODIFIED:20260319T033846Z
UID:10000510-1775124000-1775404800@thewellbeinghub.com.au
SUMMARY:Yeppoon Playability
DESCRIPTION:
URL:https://thewellbeinghub.com.au/event/yeppoon-playability/2026-04-02/
LOCATION:Yeppoon Show Grounds\, Morris Street\, Yeppoon\, Queensland\, Australia
CATEGORIES:Family friendly,Kid friendly
ATTACH;FMTTYPE=image/jpeg:https://thewellbeinghub.com.au/wp-content/uploads/2026/03/653711389_907443078849836_7305843221958883784_n.jpg
END:VEVENT
BEGIN:VEVENT
DTSTART;TZID=Australia/Brisbane:20260403T090000
DTEND;TZID=Australia/Brisbane:20260403T100000
DTSTAMP:20260425T232135
CREATED:20260330T013617Z
LAST-MODIFIED:20260330T013617Z
UID:10003351-1775206800-1775210400@thewellbeinghub.com.au
SUMMARY:Easter Basket Decorating
DESCRIPTION:Join us for a fun morning of Easter basket decorating\, followed by an Easter hunt at the end!\n\nCome and enjoy a quiet coffee while your kids get crafty.\n\n$20 per child\nPop in and pay to secure your spot!
URL:https://thewellbeinghub.com.au/event/easter-basket-decorating/
LOCATION:The Attic Espresso Bar\, 44 James Street\, Yeppoon\, Queensland\, Australia
CATEGORIES:Craft,Easter,Family friendly,Kid friendly,School holiday activity
ATTACH;FMTTYPE=image/jpeg:https://thewellbeinghub.com.au/wp-content/uploads/2026/03/656632315_1536840795114019_7869152409537496319_n.jpg
ORGANIZER;CN="The Attic Espresso Bar":MAILTO:theatticyeppoon@hotmail.com
END:VEVENT
BEGIN:VEVENT
DTSTART;TZID=Australia/Brisbane:20260403T100000
DTEND;TZID=Australia/Brisbane:20260403T140000
DTSTAMP:20260425T232135
CREATED:20260401T225111Z
LAST-MODIFIED:20260401T225111Z
UID:10003439-1775210400-1775224800@thewellbeinghub.com.au
SUMMARY:Easter Egg Hunts with Maggie Moo
DESCRIPTION:Join Maggie Moo in Wonderland on an Easter Egg Hunt!\nAs we enter Wonderland\, we will have to tread carefully around the Easter Eggs! Every child will need to find plastic eggs numbered 1 to 10 and return it to Maggie to receive their chocolate egg/bubbles.\n\nSessions each Hour: 10am\, 11am\, 12pm and 1pm\nEach session is limited\, so be sure to book so you don’t miss out on the Eggs-tra fun this Easter\n$12 per child.$5 for members
URL:https://thewellbeinghub.com.au/event/easter-egg-hunts-with-maggie-moo/
LOCATION:Coomoonity Play Cafe\, 155 Alma Street\, Rockhampton\, Queensland\, Australia
CATEGORIES:Easter,Family friendly
ATTACH;FMTTYPE=image/jpeg:https://thewellbeinghub.com.au/wp-content/uploads/2026/04/655957610_1234550905523158_3242973800841003947_n.jpg
ORGANIZER;CN="Coomoonity Play Cafe":MAILTO:hello@comoonityplaycafe.com.au
END:VEVENT
BEGIN:VEVENT
DTSTART;TZID=Australia/Brisbane:20260403T133000
DTEND;TZID=Australia/Brisbane:20260403T143000
DTSTAMP:20260425T232135
CREATED:20260330T014936Z
LAST-MODIFIED:20260330T014936Z
UID:10003354-1775223000-1775226600@thewellbeinghub.com.au
SUMMARY:Easter Cake Make Fun
DESCRIPTION:Hop into something sweet this Easter \n\nJoin us for a EGGCELENT Cake & Sip experience filled with pastel vibes\, fun company\, and delicious creativity! Come and decorate your own adorable Easter cake and sip on a tasty juice.\n\n All supplies provided Juice to sip & enjoy Step-by-step guidance Perfect fun time\n Friday 03rd April 1.30pm – 2.30pm : @theatticyeppoon\n\nSpots are limited\, so don’t miss out on this egg-stra special treat!\nApologise at this time. No alternatives with intolerances can be made: eg\, gf\, egg\, nuts. . Thank-you for understanding xx\nPop in store and pay the $30 cash deposit to book your seat 
URL:https://thewellbeinghub.com.au/event/easter-cake-make-fun/
LOCATION:The Attic Espresso Bar\, 44 James Street\, Yeppoon\, Queensland\, Australia
CATEGORIES:Easter,School holiday activity
ATTACH;FMTTYPE=image/jpeg:https://thewellbeinghub.com.au/wp-content/uploads/2026/03/653390288_1532061112258654_1341384461346816404_n.jpg
ORGANIZER;CN="The Attic Espresso Bar":MAILTO:theatticyeppoon@hotmail.com
END:VEVENT
BEGIN:VEVENT
DTSTART;TZID=Australia/Brisbane:20260403T180000
DTEND;TZID=Australia/Brisbane:20260403T200000
DTSTAMP:20260425T232135
CREATED:20260401T012624Z
LAST-MODIFIED:20260401T012624Z
UID:10003422-1775239200-1775246400@thewellbeinghub.com.au
SUMMARY:Tides & tunes
DESCRIPTION: Grab some takeaway or pack a picnic dinner and head down to the Yeppoon foreshore to see local musicians playing live at the amphitheatre during the school holidays. 
URL:https://thewellbeinghub.com.au/event/tides-tunes-11/2026-04-03/
LOCATION:Main Stage\, Yeppoon Beachfront\, Yeppoon\, Qld\, 4703\, Australia
CATEGORIES:Community event,Family friendly,Free event,Live music
ATTACH;FMTTYPE=image/jpeg:https://thewellbeinghub.com.au/wp-content/uploads/2025/12/tides.jpg
END:VEVENT
END:VCALENDAR