BEGIN:VCALENDAR
VERSION:2.0
PRODID:-//The Wellbeing Hub - ECPv6.15.20//NONSGML v1.0//EN
CALSCALE:GREGORIAN
METHOD:PUBLISH
X-WR-CALNAME:The Wellbeing Hub
X-ORIGINAL-URL:https://thewellbeinghub.com.au
X-WR-CALDESC:Events for The Wellbeing Hub
REFRESH-INTERVAL;VALUE=DURATION:PT1H
X-Robots-Tag:noindex
X-PUBLISHED-TTL:PT1H
BEGIN:VTIMEZONE
TZID:Australia/Brisbane
BEGIN:STANDARD
TZOFFSETFROM:+1000
TZOFFSETTO:+1000
TZNAME:AEST
DTSTART:20250101T000000
END:STANDARD
END:VTIMEZONE
BEGIN:VEVENT
DTSTART;TZID=Australia/Brisbane:20260423T100000
DTEND;TZID=Australia/Brisbane:20260426T160000
DTSTAMP:20260424T012528
CREATED:20260319T013409Z
LAST-MODIFIED:20260319T033846Z
UID:10000513-1776938400-1777219200@thewellbeinghub.com.au
SUMMARY:Yeppoon Playability
DESCRIPTION:
URL:https://thewellbeinghub.com.au/event/yeppoon-playability/2026-04-23/
LOCATION:Yeppoon Show Grounds\, Morris Street\, Yeppoon\, Queensland\, Australia
CATEGORIES:Family friendly,Kid friendly
ATTACH;FMTTYPE=image/jpeg:https://thewellbeinghub.com.au/wp-content/uploads/2026/03/653711389_907443078849836_7305843221958883784_n.jpg
END:VEVENT
BEGIN:VEVENT
DTSTART;TZID=Australia/Brisbane:20260424T093000
DTEND;TZID=Australia/Brisbane:20260424T113000
DTSTAMP:20260424T012528
CREATED:20260423T003236Z
LAST-MODIFIED:20260423T003236Z
UID:10003866-1777023000-1777030200@thewellbeinghub.com.au
SUMMARY:CCTL Playful Steps Club
DESCRIPTION:Looking for a Friday morning outing with a safe and supportive environment?\n\nCapricorn Coast Toy Library is hosting weekly Stay and Play sessions for families with children with disabilities or developmental delays (even if you are just concerned about your child’s development!).\n\nNo diagnosis or referrals are required\, though it will assist us to cater for your child’s needs if you register for our PLAYFUL STEPS CLUB.\n\nSend us a message if you have any questions.\n\nHope to see you there!
URL:https://thewellbeinghub.com.au/event/cctl-playful-steps-club-6/2026-04-24/
LOCATION:Cap Coast Toy Library\, Cordingley Street\, Yeppoon\, Queensland\, Australia
CATEGORIES:Toy Library
ATTACH;FMTTYPE=image/jpeg:https://thewellbeinghub.com.au/wp-content/uploads/2026/04/659691810_1224327683244263_3503466957949721609_n.jpg
END:VEVENT
BEGIN:VEVENT
DTSTART;TZID=Australia/Brisbane:20260424T113000
DTEND;TZID=Australia/Brisbane:20260424T130000
DTSTAMP:20260424T012528
CREATED:20260209T004617Z
LAST-MODIFIED:20260209T004617Z
UID:10000324-1777030200-1777035600@thewellbeinghub.com.au
SUMMARY:Friday Lunch - Yeppoon Community Centre
DESCRIPTION:
URL:https://thewellbeinghub.com.au/event/friday-lunch-yeppoon-community-centre-6/
LOCATION:Yeppoon Community Centre\, John Street\, Yeppoon\, Q\, Australia
CATEGORIES:Community event,Free event
ATTACH;FMTTYPE=image/jpeg:https://thewellbeinghub.com.au/wp-content/uploads/2026/02/626394608_1206967284943794_6124351144302141846_n.jpg
END:VEVENT
BEGIN:VEVENT
DTSTART;TZID=Australia/Brisbane:20260424T180000
DTEND;TZID=Australia/Brisbane:20260424T213000
DTSTAMP:20260424T012528
CREATED:20260423T012113Z
LAST-MODIFIED:20260423T040553Z
UID:10004185-1777053600-1777066200@thewellbeinghub.com.au
SUMMARY:Long Table Vinyl Night
DESCRIPTION:Long Table Vinyl Night\n\n\n24 Apr 2026\, 6:00 pm – 9:30 pm\nOl’ Coterie\, 66a Farnborough Rd\, Meikleville Hill QLD 4703\, Australia\n\n\nThis is a night for vinyl records\, conversation & connection. Bring a vinyl from home and take a turn spinning it for the room. No record? No worries – choose one from our record collection.
URL:https://thewellbeinghub.com.au/event/long-table-vinyl-night-3/
LOCATION:Ol Coterie\, Farnborough Road\, Yeppoon\, Queensland\, 4703\, Australia
ATTACH;FMTTYPE=image/avif:https://thewellbeinghub.com.au/wp-content/uploads/2026/04/cca743_c7e9db24f3ae4b07b465aa28772cd3b8mv2.avif
END:VEVENT
END:VCALENDAR