BEGIN:VCALENDAR
VERSION:2.0
PRODID:-//The Wellbeing Hub - ECPv6.15.20//NONSGML v1.0//EN
CALSCALE:GREGORIAN
METHOD:PUBLISH
X-ORIGINAL-URL:https://thewellbeinghub.com.au
X-WR-CALDESC:Events for The Wellbeing Hub
REFRESH-INTERVAL;VALUE=DURATION:PT1H
X-Robots-Tag:noindex
X-PUBLISHED-TTL:PT1H
BEGIN:VTIMEZONE
TZID:Australia/Brisbane
BEGIN:STANDARD
TZOFFSETFROM:+1000
TZOFFSETTO:+1000
TZNAME:AEST
DTSTART:20250101T000000
END:STANDARD
END:VTIMEZONE
BEGIN:VEVENT
DTSTART;TZID=Australia/Brisbane:20260430T100000
DTEND;TZID=Australia/Brisbane:20260503T160000
DTSTAMP:20260424T012851
CREATED:20260319T013409Z
LAST-MODIFIED:20260319T033846Z
UID:10000514-1777543200-1777824000@thewellbeinghub.com.au
SUMMARY:Yeppoon Playability
DESCRIPTION:
URL:https://thewellbeinghub.com.au/event/yeppoon-playability/2026-04-30/
LOCATION:Yeppoon Show Grounds\, Morris Street\, Yeppoon\, Queensland\, Australia
CATEGORIES:Family friendly,Kid friendly
ATTACH;FMTTYPE=image/jpeg:https://thewellbeinghub.com.au/wp-content/uploads/2026/03/653711389_907443078849836_7305843221958883784_n.jpg
END:VEVENT
BEGIN:VEVENT
DTSTART;TZID=Australia/Brisbane:20260502T060000
DTEND;TZID=Australia/Brisbane:20260502T064500
DTSTAMP:20260424T012851
CREATED:20260410T004928Z
LAST-MODIFIED:20260410T004929Z
UID:10002791-1777701600-1777704300@thewellbeinghub.com.au
SUMMARY:Yoga Flow
DESCRIPTION:Weekly Yoga Flow 6am. \n1 hour class to start your weekend with intention and movement. \n$10. \nBYO mat 
URL:https://thewellbeinghub.com.au/event/yoga-flow-13-2/2026-05-02/
LOCATION:Yeppoon Lagoon\, Lagoon Place\, Yeppoon\, Queensland\, Australia
CATEGORIES:Outdoor Yoga,yoga
ATTACH;FMTTYPE=image/jpeg:https://thewellbeinghub.com.au/wp-content/uploads/2026/01/607837749_1432283305350270_8785053822790915163_n.jpg
END:VEVENT
BEGIN:VEVENT
DTSTART;TZID=Australia/Brisbane:20260502T060000
DTEND;TZID=Australia/Brisbane:20260502T100000
DTSTAMP:20260424T012851
CREATED:20260319T013632Z
LAST-MODIFIED:20260319T013632Z
UID:10000775-1777701600-1777716000@thewellbeinghub.com.au
SUMMARY:Yeppoon Community Market
DESCRIPTION:Come check out our fantastic stallholders will be there selling essential oils\, healthy dog treats and other dog products\, craft\, fruit\, vegetables\, china\, great variety of plants\, eggs\, honey\, flowers\, nuts\, oils\, seeds\, dried fruit\, muesli\, gingers\, flours\, turmeric products\, tea tree products\, fresh herbs\, jewellery\, pre-loved clothing\, bags\, local paintings\, bric-a-brac\, Aboriginal art jigsaws\, native bush food organics\, coffee beans\, embroidery\, variety of teas\, tarot and mediumship (gift certificates available) candles\, incense\, books\, cds\, dvds\, women’s clothing etc etc. Plenty of locally\, freshly baked sweet pastries\, sourdough bread\, custard creams\, slices\, gluten free treats\, bagels and our chai tea\, coffee and cold drinks.\nEVERY SATURDAY IN THE YEPPOON SHOWGROUNDS 6AM-10AM\nSORRY NO DOGS Allowed Mostly a CASH Market
URL:https://thewellbeinghub.com.au/event/yeppoon-community-market-11/2026-05-02/
LOCATION:Yeppoon Show Grounds\, Morris Street\, Yeppoon\, Queensland\, Australia
CATEGORIES:market
ATTACH;FMTTYPE=image/jpeg:https://thewellbeinghub.com.au/wp-content/uploads/2025/11/market.jpg
END:VEVENT
BEGIN:VEVENT
DTSTART;TZID=Australia/Brisbane:20260502T065000
DTEND;TZID=Australia/Brisbane:20260502T080000
DTSTAMP:20260424T012851
CREATED:20260319T022049Z
LAST-MODIFIED:20260319T022049Z
UID:10002193-1777704600-1777708800@thewellbeinghub.com.au
SUMMARY:Yeppoon Park Run
DESCRIPTION:What is Yeppoon parkrun?\nA free\, fun\, and friendly weekly 5k community event. Walk\, jog\, run\, volunteer or spectate – it’s up to you! \nWhen is it?\nEvery Saturday at 7:00am. \nWhere is it?\nThe event takes place at Capricorn Coast Pineapple Rail Trail\, Braithwaite Street\, Yeppoon QLD 4703. See Course page for more details. \nWhat does it cost to join in?\nNothing – it’s free! but please register before you first come along. Only ever register with parkrun once and don’t forget to bring a scannable copy of your barcode (request a reminder). If you forget it\, you won’t get a time.
URL:https://thewellbeinghub.com.au/event/yeppoon-park-run-3/2026-05-02/
LOCATION:The Rail Trail\, Braithwaite Street
CATEGORIES:Running group
ATTACH;FMTTYPE=image/jpeg:https://thewellbeinghub.com.au/wp-content/uploads/2026/03/474524366_957857769777882_5490498456229553761_n.jpg
END:VEVENT
BEGIN:VEVENT
DTSTART;TZID=Australia/Brisbane:20260502T090000
DTEND;TZID=Australia/Brisbane:20260502T100000
DTSTAMP:20260424T012851
CREATED:20260319T020800Z
LAST-MODIFIED:20260326T020426Z
UID:10001659-1777712400-1777716000@thewellbeinghub.com.au
SUMMARY:Sacred Yin Journeys
DESCRIPTION:Sacred Journeys\nYin & Restorative at The Yoga Space\nSacred Journeys is a weekly series of Yin and Restorative practices offering space for deep rest\, emotional clarity\, and gentle inner renewal. Each class explores a different pathway into self-knowing through stillness\, breath\, and supported shapes\, drawing from yogic philosophy\, subtle energy\, the elements\, and Traditional Chinese Medicine. While each session stands alone\, together they form a soft arc of exploration\, inviting you to move gently\, stay curious\, and return home to yourself. \n  \nWhy Yin and Restorative Yoga?\nYin and Restorative Yoga are slow\, meditative practices that support deep nervous-system rest.Through longer-held\, supported shapes\, these practices gently release tension\, support emotional integration\, and restore a sense of inner steadiness – a nourishing counterbalance to modern life.\ \n  \nBooking Details \nSmall group space. Bookings essential.\nAll levels welcome. \nPrice: $18 per person\n5 Class and 10 Class passes available at registration. \nWhat to bring\nA towel or sarong to cover bolsters. \nWhat to wear\nComfortable clothing. The room is set to a cosy temperature.The Yoga Space – Class Information \n  \nThank you for booking your class. I look forward to welcoming you. \nArrival\nPlease arrive at least 5 minutes before class begins.\nThe door will be locked once class starts to protect the space and the experience for everyone attending.\nPhones off or on silent. \nWhat to bring\nA towel or sarong to cover bolsters. \nWhat to wear\nComfortable clothing. The room is set to a cosy temperature. \nCancellations\nCancellations are required at least 2 hours before class begins so the space can be offered to the wait list.\nNo shows are charged accordingly. \nFor urgent cancellations\, please text: 0404 497 072
URL:https://thewellbeinghub.com.au/event/sacred-yin-journeys-9/2026-05-02/
LOCATION:The Yoga Space\, 13 James Street\, Yeppoon\, Queensland\, 4703\, Australia
CATEGORIES:yoga
ATTACH;FMTTYPE=image/jpeg:https://thewellbeinghub.com.au/wp-content/uploads/2025/10/sacred-yin.jpg
ORGANIZER;CN="Yoga with Tracy":MAILTO:admin@yogawithtracy.com.au
END:VEVENT
BEGIN:VEVENT
DTSTART;TZID=Australia/Brisbane:20260502T093000
DTEND;TZID=Australia/Brisbane:20260502T113000
DTSTAMP:20260424T012851
CREATED:20260401T224331Z
LAST-MODIFIED:20260401T224334Z
UID:10001043-1777714200-1777721400@thewellbeinghub.com.au
SUMMARY:Capricorn Coast Toy Library Borrowing Sessions
DESCRIPTION:
URL:https://thewellbeinghub.com.au/event/capricorn-coast-toy-library-borrowing-sessions-2/2026-05-02/
LOCATION:Cap Coast Toy Library\, Cordingley Street\, Yeppoon\, Queensland\, Australia
CATEGORIES:Family friendly,Kid friendly,Toy Library
ATTACH;FMTTYPE=image/png:https://thewellbeinghub.com.au/wp-content/uploads/2026/03/956cb45a-d80b-4569-b424-efd7af7bdd23.png
END:VEVENT
BEGIN:VEVENT
DTSTART;TZID=Australia/Brisbane:20260502T110000
DTEND;TZID=Australia/Brisbane:20260502T153000
DTSTAMP:20260424T012851
CREATED:20260316T042843Z
LAST-MODIFIED:20260316T042843Z
UID:10000489-1777719600-1777735800@thewellbeinghub.com.au
SUMMARY:Level 1 Yoga Teacher Training
DESCRIPTION:Level 1 Yoga Teacher Training\nHybrid Course – Begins May 2nd\, 2026Rockhampton / Yeppoon Region\n\nI’ll be guiding a Level 1 Yoga Teacher Training beginning May 2nd\, 2026.\n\nThis is a hybrid course combining online learning with seven face-to-face workshops held locally. We’ll meet fortnightly through May\, June and July\, creating a steady\, spacious rhythm for learning and integration.\n\nThis training is designed for those who:\n• feel called to deepen their personal practice• are curious about teaching• want to understand yoga beyond the poses• value grounded\, embodied learning• are ready for a steady\, supportive journey\n\nThe course is delivered in partnership with My Health Mastery School\, a long-established and internationally recognised training academy.\nMore details and formal registration link coming soon.\nFor now\, enquiries are warmly welcomed. Tracy
URL:https://thewellbeinghub.com.au/event/level-1-yoga-teacher-training/
LOCATION:The Yoga Space\, 13 James Street\, Yeppoon\, Queensland\, 4703\, Australia
ORGANIZER;CN="Yoga with Tracy":MAILTO:admin@yogawithtracy.com.au
END:VEVENT
BEGIN:VEVENT
DTSTART;TZID=Australia/Brisbane:20260502T160000
DTEND;TZID=Australia/Brisbane:20260502T190000
DTSTAMP:20260424T012851
CREATED:20260319T021439Z
LAST-MODIFIED:20260319T021439Z
UID:10001931-1777737600-1777748400@thewellbeinghub.com.au
SUMMARY:Lure Living - LIve Music
DESCRIPTION:Live Music Saturdays  from 4pm – 7pm
URL:https://thewellbeinghub.com.au/event/lure-living-live-music/2026-05-02/
LOCATION:Lure Living\, Anzac Parade\, Yeppoon
CATEGORIES:Live music
ATTACH;FMTTYPE=image/jpeg:https://thewellbeinghub.com.au/wp-content/uploads/2026/03/480426817_1166807752118346_1081685517913591725_n.jpg
END:VEVENT
BEGIN:VEVENT
DTSTART;TZID=Australia/Brisbane:20260502T193000
DTEND;TZID=Australia/Brisbane:20260502T210000
DTSTAMP:20260424T012851
CREATED:20260326T012841Z
LAST-MODIFIED:20260326T012841Z
UID:10003052-1777750200-1777755600@thewellbeinghub.com.au
SUMMARY:Ghosts\, Murder & Jack the Ripper
DESCRIPTION:Join our evening tour through Rockhampton’s streets and alleys and discover the darker side of the city. Learn about the ghosts that haunted Quay st\, the city’s first recorded murder\, the Rockhampton gold heist that created Sherlock Holmes and modern forensics and yes\, learn the bizarre and true history of Jack the Ripper’s connection to Rockhampton. \nKIDS WELCOME (note: its in the dark and spooky) \nTours start at the Criterion Hotel on Quay St\, head towards the post office on East St\, then into the alleys until finishing out the front of the iconic Customs House.Bookings essential \n#rockhamptonzoo #botanicgardens #RockhamptonBotanicGardens #exploretocreatererockhampton #explorerockhamptonregion #ghosttour #ghosttourrockhampton #ghosttouraustralia #truecrimetour #truecrimetourrockhampton #myrockhampton #rockhamptontourism #rockhamptontour #VisitCapricorn #SouthernGreatBarrierReef #SandstoneWilderness
URL:https://thewellbeinghub.com.au/event/ghosts-murder-jack-the-ripper/2026-05-02/
LOCATION:The Criterian Hotel\, 150 Quay Street\, Rockhampton\, Queensland\, Australia
CATEGORIES:History,Walking tour
ATTACH;FMTTYPE=image/jpeg:https://thewellbeinghub.com.au/wp-content/uploads/2026/03/652542702_928890783220743_8545634334410897198_n.jpg
ORGANIZER;CN="Time Safaris Walking Tours Rockhampton":MAILTO:timesafarisrockhampton@gmail.com
END:VEVENT
END:VCALENDAR