BEGIN:VCALENDAR
VERSION:2.0
PRODID:-//The Wellbeing Hub - ECPv6.15.20//NONSGML v1.0//EN
CALSCALE:GREGORIAN
METHOD:PUBLISH
X-ORIGINAL-URL:https://thewellbeinghub.com.au
X-WR-CALDESC:Events for The Wellbeing Hub
REFRESH-INTERVAL;VALUE=DURATION:PT1H
X-Robots-Tag:noindex
X-PUBLISHED-TTL:PT1H
BEGIN:VTIMEZONE
TZID:Australia/Brisbane
BEGIN:STANDARD
TZOFFSETFROM:+1000
TZOFFSETTO:+1000
TZNAME:AEST
DTSTART:20250101T000000
END:STANDARD
END:VTIMEZONE
BEGIN:VEVENT
DTSTART;TZID=Australia/Brisbane:20260514T090000
DTEND;TZID=Australia/Brisbane:20260515T170000
DTSTAMP:20260424T030251
CREATED:20260313T034805Z
LAST-MODIFIED:20260313T035630Z
UID:10000482-1778749200-1778864400@thewellbeinghub.com.au
SUMMARY:Empower Her DV Conference
DESCRIPTION:ROCKHAMPTON DV CONFERENCE\n\n\nEMPOWER 2026\n\nEnding Domestic Violence Begins Here\n\n\nJoin us for Rockhampton’s first Domestic and Family Violence Conference.\n\n\nDelivered in May – Domestic and Family Violence Prevention Month\n\n14th and 15th May 2026\n\n\n\nBe a part of the conversation.\nBe a part of change\nBe a part of community\nBe EMPOWERED\n\n\nEnding Domestic Violence Begins Here\n\n\nTickets available NOW\n\n\nhttps://humanitix.com/…/au–qld–rockhampton/Empower…
URL:https://thewellbeinghub.com.au/event/empower-her-dv-conference/
LOCATION:Frenchville Sports Club\, Clifton Street\, Berserker\, Australia
CATEGORIES:conference
ATTACH;FMTTYPE=image/jpeg:https://thewellbeinghub.com.au/wp-content/uploads/2026/03/649999663_18090210311122577_743939409898644911_n.jpg
END:VEVENT
BEGIN:VEVENT
DTSTART;TZID=Australia/Brisbane:20260514T100000
DTEND;TZID=Australia/Brisbane:20260517T160000
DTSTAMP:20260424T030251
CREATED:20260319T013409Z
LAST-MODIFIED:20260319T033846Z
UID:10000516-1778752800-1779033600@thewellbeinghub.com.au
SUMMARY:Yeppoon Playability
DESCRIPTION:
URL:https://thewellbeinghub.com.au/event/yeppoon-playability/2026-05-14/
LOCATION:Yeppoon Show Grounds\, Morris Street\, Yeppoon\, Queensland\, Australia
CATEGORIES:Family friendly,Kid friendly
ATTACH;FMTTYPE=image/jpeg:https://thewellbeinghub.com.au/wp-content/uploads/2026/03/653711389_907443078849836_7305843221958883784_n.jpg
END:VEVENT
BEGIN:VEVENT
DTSTART;TZID=Australia/Brisbane:20260515T093000
DTEND;TZID=Australia/Brisbane:20260515T113000
DTSTAMP:20260424T030251
CREATED:20260423T003236Z
LAST-MODIFIED:20260423T003236Z
UID:10003869-1778837400-1778844600@thewellbeinghub.com.au
SUMMARY:CCTL Playful Steps Club
DESCRIPTION:Looking for a Friday morning outing with a safe and supportive environment?\n\nCapricorn Coast Toy Library is hosting weekly Stay and Play sessions for families with children with disabilities or developmental delays (even if you are just concerned about your child’s development!).\n\nNo diagnosis or referrals are required\, though it will assist us to cater for your child’s needs if you register for our PLAYFUL STEPS CLUB.\n\nSend us a message if you have any questions.\n\nHope to see you there!
URL:https://thewellbeinghub.com.au/event/cctl-playful-steps-club-6/2026-05-15/
LOCATION:Cap Coast Toy Library\, Cordingley Street\, Yeppoon\, Queensland\, Australia
CATEGORIES:Toy Library
ATTACH;FMTTYPE=image/jpeg:https://thewellbeinghub.com.au/wp-content/uploads/2026/04/659691810_1224327683244263_3503466957949721609_n.jpg
END:VEVENT
BEGIN:VEVENT
DTSTART;TZID=Australia/Brisbane:20260515T174500
DTEND;TZID=Australia/Brisbane:20260515T190000
DTSTAMP:20260424T030251
CREATED:20260319T060016Z
LAST-MODIFIED:20260319T060016Z
UID:10002456-1778867100-1778871600@thewellbeinghub.com.au
SUMMARY:Gong Bath
DESCRIPTION:tarting tomorrow night (Friday 20th) and then running fortnightly with the moon cycles\, East Hall will be home to tranquil gong baths. Whether you’re looking for stress reduction\, emotional clearing\, or reprise from physical discomfort\, gong baths offer profound effects. \nFollow SoulVE Connections on Facebook to attend
URL:https://thewellbeinghub.com.au/event/gong-bath/2026-05-15/
LOCATION:East Hall\, 111 East Street\, Rockhampton\, Queensland\, Australia
ATTACH;FMTTYPE=image/jpeg:https://thewellbeinghub.com.au/wp-content/uploads/2026/03/654024555_17943439065155057_9189176919428524336_n.jpg
ORGANIZER;CN="East Hall Yoga":MAILTO:abby@easthall.org
END:VEVENT
END:VCALENDAR