BEGIN:VCALENDAR
VERSION:2.0
PRODID:-//The Wellbeing Hub - ECPv6.15.20//NONSGML v1.0//EN
CALSCALE:GREGORIAN
METHOD:PUBLISH
X-WR-CALNAME:The Wellbeing Hub
X-ORIGINAL-URL:https://thewellbeinghub.com.au
X-WR-CALDESC:Events for The Wellbeing Hub
REFRESH-INTERVAL;VALUE=DURATION:PT1H
X-Robots-Tag:noindex
X-PUBLISHED-TTL:PT1H
BEGIN:VTIMEZONE
TZID:Australia/Brisbane
BEGIN:STANDARD
TZOFFSETFROM:+1000
TZOFFSETTO:+1000
TZNAME:AEST
DTSTART:20250101T000000
END:STANDARD
END:VTIMEZONE
BEGIN:VEVENT
DTSTART;TZID=Australia/Brisbane:20260528T100000
DTEND;TZID=Australia/Brisbane:20260531T160000
DTSTAMP:20260424T030001
CREATED:20260319T013409Z
LAST-MODIFIED:20260319T033846Z
UID:10000518-1779962400-1780243200@thewellbeinghub.com.au
SUMMARY:Yeppoon Playability
DESCRIPTION:
URL:https://thewellbeinghub.com.au/event/yeppoon-playability/2026-05-28/
LOCATION:Yeppoon Show Grounds\, Morris Street\, Yeppoon\, Queensland\, Australia
CATEGORIES:Family friendly,Kid friendly
ATTACH;FMTTYPE=image/jpeg:https://thewellbeinghub.com.au/wp-content/uploads/2026/03/653711389_907443078849836_7305843221958883784_n.jpg
END:VEVENT
BEGIN:VEVENT
DTSTART;TZID=Australia/Brisbane:20260531T063000
DTEND;TZID=Australia/Brisbane:20260531T073000
DTSTAMP:20260424T030001
CREATED:20260410T004609Z
LAST-MODIFIED:20260410T004829Z
UID:10001673-1780209000-1780212600@thewellbeinghub.com.au
SUMMARY:60 Minute Roll & Release Outdoor Class
DESCRIPTION:Roll & Release Yoga is your go-to practice for easing tension\, enhancing mobility\, and awakening the body—all in a gentle\, accessible way. \nThis 60-minute\, all-level class blends self-myofascial release techniques\, breathwork\, and fluid yoga sequences\, using simple tools to target fascia and improve flexibility without overstretching. Through mindful rolling\, restorative movement\, and deep relaxation\, you’ll release built-up tightness\, find greater ease in motion\, and leave feeling refreshed and balanced. Perfect for anyone looking to unwind\, mobilize\, and reconnect. \nThis in person class is perfect for any level of experience or fitness held at Main Beach Stage\, Yeppoon. \n$10 per adult – with three payment options: \n1. Pay with Credit card (Stripe is my payment processor) upon booking in. \n2. Choose Pay Later if you would like to pay with cash on arrival. \n3. Yoga 10 Class Pass only $80 – purchase through this link BEFORE registering for class: 10 CLASS PASS \nBYO mat\, hat and water. \nSee you on the mat\, \nTracy
URL:https://thewellbeinghub.com.au/event/60-minute-roll-release-outdoor-class-2/2026-05-31/
LOCATION:Main Stage\, Yeppoon Beachfront\, Yeppoon\, Qld\, 4703\, Australia
CATEGORIES:Outdoor Yoga,yoga
ATTACH;FMTTYPE=image/jpeg:https://thewellbeinghub.com.au/wp-content/uploads/2025/10/roll-and-release.jpg
ORGANIZER;CN="Yoga with Tracy":MAILTO:admin@yogawithtracy.com.au
END:VEVENT
BEGIN:VEVENT
DTSTART;TZID=Australia/Brisbane:20260531T150000
DTEND;TZID=Australia/Brisbane:20260531T180000
DTSTAMP:20260424T030001
CREATED:20260319T015053Z
LAST-MODIFIED:20260319T015053Z
UID:10001563-1780239600-1780250400@thewellbeinghub.com.au
SUMMARY:Sunset Sundays
DESCRIPTION:Sun\, 22 Mar \n |  \nOl’ Coterie \n\n\nLive & Local Sundays 🎶 Music 3–6pm | Happy Hour from 3pm Tapas • Sangria • Tap Beer • Cocktails • Coffee 66A Farnborough Rd Limited seating – book your spot!
URL:https://thewellbeinghub.com.au/event/sunset-sundays/2026-05-31/
LOCATION:Ol Coterie\, Farnborough Road\, Yeppoon\, Queensland\, 4703\, Australia
CATEGORIES:Live music
ATTACH;FMTTYPE=image/avif:https://thewellbeinghub.com.au/wp-content/uploads/2026/03/cca743_a1c4da8b617042d7a455b117fa5d5542mv2.avif
END:VEVENT
END:VCALENDAR