BEGIN:VCALENDAR
VERSION:2.0
PRODID:-//The Wellbeing Hub - ECPv6.15.20//NONSGML v1.0//EN
CALSCALE:GREGORIAN
METHOD:PUBLISH
X-WR-CALNAME:The Wellbeing Hub
X-ORIGINAL-URL:https://thewellbeinghub.com.au
X-WR-CALDESC:Events for The Wellbeing Hub
REFRESH-INTERVAL;VALUE=DURATION:PT1H
X-Robots-Tag:noindex
X-PUBLISHED-TTL:PT1H
BEGIN:VTIMEZONE
TZID:Australia/Brisbane
BEGIN:STANDARD
TZOFFSETFROM:+1000
TZOFFSETTO:+1000
TZNAME:AEST
DTSTART:20250101T000000
END:STANDARD
END:VTIMEZONE
BEGIN:VEVENT
DTSTART;TZID=Australia/Brisbane:20260320T180000
DTEND;TZID=Australia/Brisbane:20260320T190000
DTSTAMP:20260420T075139
CREATED:20260312T014839Z
LAST-MODIFIED:20260312T014839Z
UID:10000464-1774029600-1774033200@thewellbeinghub.com.au
SUMMARY:Books\, Brews & Bubbles
DESCRIPTION:Have you booked your spot to our next BOOKS\, BREWS & BUBBLES?\n\n\n\nJoin us at Yeppoon Library for a special evening with Australian authors Sam Guthrie and Kimberley Allsopp as they share the inspiration behind their novels.\n\n\n Friday 20th March\n 6.00PM-7.00PM\n Yeppoon Library\n\n FREE EVENT. BOOK HERE: https://events.humanitix.com/double-feature-author-event…\n\n\nYour ticket includes:\nA complimentary beer or bubbles on arrival\nLight nibbles\nA 30-minute in-conversation event\nAudience Q&A\nBook signing\n\n\n Reserve Sam and Kimberley’s books via our library catalogue:\nhttps://livingstone.libero.com.au/me/#/\n\n\n Or borrow digitally on Libby:\nhttps://libbyapp.com/library/centralqld\n\n\nTag a your reading friends and book your spot today!\n\n\nSam Guthrie HarperCollins QBD Books Livingstone Shire Council Yeppoon Community Centre
URL:https://thewellbeinghub.com.au/event/books-brews-bubbles/
LOCATION:Yeppoon Library\, John Street\, Yeppoon\, Australia
CATEGORIES:Book Launch
ATTACH;FMTTYPE=image/jpeg:https://thewellbeinghub.com.au/wp-content/uploads/2026/03/646703243_1224517503194070_1903402182405392431_n.jpg
ORGANIZER;CN="Livingstone Shire Library":MAILTO:library@livingstone.qld.gov.au
END:VEVENT
BEGIN:VEVENT
DTSTART;TZID=Australia/Brisbane:20260306T173000
DTEND;TZID=Australia/Brisbane:20260306T183000
DTSTAMP:20260420T075139
CREATED:20260304T020654Z
LAST-MODIFIED:20260304T020654Z
UID:10000422-1772818200-1772821800@thewellbeinghub.com.au
SUMMARY:Books and Bubbles with local author Nene Davies at Yeppoon Library
DESCRIPTION:Join local legend Nene Davies as we dive into her newest novel\, a domestic noir family drama and find out that crime lives where you least expect it…
URL:https://thewellbeinghub.com.au/event/books-and-bubbles-with-local-author-nene-davies-at-yeppoon-library/
LOCATION:Yeppoon Library\, John Street\, Yeppoon\, Australia
CATEGORIES:Book Launch
ATTACH;FMTTYPE=image/jpeg:https://thewellbeinghub.com.au/wp-content/uploads/2026/03/616399740_1195812609397893_5682925234129365203_n.jpg
END:VEVENT
BEGIN:VEVENT
DTSTART;TZID=Australia/Brisbane:20260227T173000
DTEND;TZID=Australia/Brisbane:20260227T183000
DTSTAMP:20260420T075139
CREATED:20260225T053121Z
LAST-MODIFIED:20260225T053121Z
UID:10000387-1772213400-1772217000@thewellbeinghub.com.au
SUMMARY:Books & Bubbles with author Amy Andrews - Official Book Launch for 'Engaged\, Apparently'
DESCRIPTION:🥂📚 Books & Bubbles with Amy Andrews\nOfficial Book Launch: Engaged\, Apparently \nJoin us at Yeppoon Library for a sparkling evening celebrating the launch of bestselling author Amy Andrews’ brand-new romance\, Engaged\, Apparently. \nEnjoy a complimentary glass of bubbles and a platter of nibbles as Amy takes you behind the scenes of this sassy\, fake-dating-with-a-twist\, friends-to-lovers rom-com that’s guaranteed to make you laugh out loud. \nAmy will share the secrets behind crafting irresistible chemistry\, witty banter and heartfelt moments in a story perfect for fans of Rachael Johns and Marian Keyes. \n🗓 Friday 27 February\n🕠 5:30-6:30 PM\n📍 Yeppoon Library\n🎟 FREE EVENT \nWhether you’re a devoted romance reader or just love a fun night out with books and bubbles\, this is a launch you won’t want to miss. \n✨ Book your spot today! ✨
URL:https://thewellbeinghub.com.au/event/books-bubbles-with-author-amy-andrews-official-book-launch-for-engaged-apparently/
LOCATION:Yeppoon Library\, John Street\, Yeppoon\, Australia
CATEGORIES:Book Launch,Community event,Free event
ATTACH;FMTTYPE=image/jpeg:https://thewellbeinghub.com.au/wp-content/uploads/2026/02/640827589_1292432286040129_535628113865554094_n.jpg
END:VEVENT
END:VCALENDAR