BEGIN:VCALENDAR
VERSION:2.0
PRODID:-//The Wellbeing Hub - ECPv6.15.20//NONSGML v1.0//EN
CALSCALE:GREGORIAN
METHOD:PUBLISH
X-WR-CALNAME:The Wellbeing Hub
X-ORIGINAL-URL:https://thewellbeinghub.com.au
X-WR-CALDESC:Events for The Wellbeing Hub
REFRESH-INTERVAL;VALUE=DURATION:PT1H
X-Robots-Tag:noindex
X-PUBLISHED-TTL:PT1H
BEGIN:VTIMEZONE
TZID:Australia/Brisbane
BEGIN:STANDARD
TZOFFSETFROM:+1000
TZOFFSETTO:+1000
TZNAME:AEST
DTSTART:20250101T000000
END:STANDARD
END:VTIMEZONE
BEGIN:VEVENT
DTSTART;TZID=Australia/Brisbane:20260211T093000
DTEND;TZID=Australia/Brisbane:20260211T113000
DTSTAMP:20260424T032951
CREATED:20260210T005146Z
LAST-MODIFIED:20260210T005146Z
UID:10000327-1770802200-1770809400@thewellbeinghub.com.au
SUMMARY:Coffee and Chat
DESCRIPTION:Come along for a coffee and chat at the Jolt Cafe in Yeppoon! Connect with fellow mums and enjoy the lovely sea breeze with cuppa in hand. Our group leader Sharon will be there to answer any questions you have.\n\nAll babies and children are welcome.
URL:https://thewellbeinghub.com.au/event/coffee-and-chat/
LOCATION:JOLT Yeppoon\, Off Anzac Parade\, Yepp
CATEGORIES:Breastfeeding Group,Coffee Catch Up,mums group
ATTACH;FMTTYPE=image/jpeg:https://thewellbeinghub.com.au/wp-content/uploads/2026/02/629757147_1322145489944077_6939117846964729994_n.jpg
END:VEVENT
END:VCALENDAR