BEGIN:VCALENDAR
VERSION:2.0
PRODID:-//The Wellbeing Hub - ECPv6.15.20//NONSGML v1.0//EN
CALSCALE:GREGORIAN
METHOD:PUBLISH
X-ORIGINAL-URL:https://thewellbeinghub.com.au
X-WR-CALDESC:Events for The Wellbeing Hub
REFRESH-INTERVAL;VALUE=DURATION:PT1H
X-Robots-Tag:noindex
X-PUBLISHED-TTL:PT1H
BEGIN:VTIMEZONE
TZID:Australia/Brisbane
BEGIN:STANDARD
TZOFFSETFROM:+1000
TZOFFSETTO:+1000
TZNAME:AEST
DTSTART:20240101T000000
END:STANDARD
END:VTIMEZONE
BEGIN:VEVENT
DTSTART;TZID=Australia/Brisbane:20260322T150000
DTEND;TZID=Australia/Brisbane:20260322T163000
DTSTAMP:20260420T050039
CREATED:20260319T015603Z
LAST-MODIFIED:20260319T015603Z
UID:10001651-1774191600-1774197000@thewellbeinghub.com.au
SUMMARY:Breathe by Intent 9D Breathwork
DESCRIPTION:Every Sunday \n\n\n\nRelax in our peaceful Roundhouse space at Forest Fields Campstay — sheltered from the weather and surrounded by nature.\n\n\n\nBookings Essential limited spots as like to keep this space small and intimate.\n\n\nBreathe By Intent – 9D Breathwork
URL:https://thewellbeinghub.com.au/event/breathe-by-intent-9d-breathwork/
LOCATION:Forest Fields Campstay\, Castle Rock Road\, Byfield\, QLD\, Australia
CATEGORIES:Breathwork
END:VEVENT
BEGIN:VEVENT
DTSTART;TZID=Australia/Brisbane:20260315T100000
DTEND;TZID=Australia/Brisbane:20260315T120000
DTSTAMP:20260420T050039
CREATED:20260311T235204Z
LAST-MODIFIED:20260311T235204Z
UID:10000456-1773568800-1773576000@thewellbeinghub.com.au
SUMMARY:9D Breathwork - Stress & Anxiety
DESCRIPTION:Are you feeling Stressed\, Anxious or Overwhelmed?Then this 9D Breathwork session is for you.\nStress and anxiety have a way of hijacking your mind… until you take the breath back.\nThis 67-minute 9D Breathwork journey is designed to calm an overactive nervous system\, release built-up stress\, and bring you back to centre.\nIf you’ve been carrying tension\, overwhelm\, or the constant hum of anxiety in your chest… this is your reset.\nThrough guided breathing\, immersive 9D sound\, and gentle somatic techniques\, you’ll move from chaos to calm\, from pressure to peace.\nPerfect for beginners and anyone needing a deep nervous system reset.\nYou’ll leave feeling:\n• Lighter\n• Clearer\n• Grounded\n• Reconnected to yourself\nSometimes the most powerful thing you can do… is breathe.\nSpots are limited.\nBreathe. Release. Reset.\n� Sunday 15th march\n� 11 am – 1pm\n� Fitstop Gym Yeppoon\n� Bring eye mask\, cushion/pillow\, blanket\, water bottle\nBook Here ���\nhttps://events.humanitix.com/9d-breathwork-journey-stress…
URL:https://thewellbeinghub.com.au/event/9d-breathwork-stress-anxiety/
LOCATION:Fitstop Gym\, Hill Street\, Yeppoon\, Queensland\, Australia
CATEGORIES:Breathwork
ATTACH;FMTTYPE=image/jpeg:https://thewellbeinghub.com.au/wp-content/uploads/2026/03/648539819_10163999920967520_8385940362178559233_n.jpg
END:VEVENT
BEGIN:VEVENT
DTSTART;TZID=Australia/Brisbane:20260215T100000
DTEND;TZID=Australia/Brisbane:20260215T120000
DTSTAMP:20260420T050040
CREATED:20260203T001046Z
LAST-MODIFIED:20260212T020410Z
UID:10000293-1771149600-1771156800@thewellbeinghub.com.au
SUMMARY:Blackcat Breathwork 9D Breathwork Journey - The Origin
DESCRIPTION:What is 9D Breathwork?\nEver wondered what makes 9D breathwork different?\n9D breathwork is a multi-dimensional healing experience that combines conscious breathing techniques with layered soundscapes\, binaural beats\, guided visualization\, and somatic movement. The “9D” refers to the nine dimensions of the experience working together—from the breath itself to the neuroscience-backed audio technology that helps shift your brainwave states.\nIt’s not just breathing. It’s a full-body journey that works on physical\, emotional\, mental\, and spiritual levels all at once.\nReady to experience it for yourself?\nBook here��\nhttps://events.humanitix.com/9d-breathwork-journey-the…
URL:https://thewellbeinghub.com.au/event/blackcat-breathwork-9d-breathwork-journey-the-origin/
LOCATION:57 Dolphin Crescent\, Yeppoon
CATEGORIES:Breathwork
ATTACH;FMTTYPE=image/jpeg:https://thewellbeinghub.com.au/wp-content/uploads/2026/01/622380249_122118447483066346_3959503625917692127_n.jpg
END:VEVENT
BEGIN:VEVENT
DTSTART;TZID=Australia/Brisbane:20260201T100000
DTEND;TZID=Australia/Brisbane:20260201T120000
DTSTAMP:20260420T050040
CREATED:20260128T052352Z
LAST-MODIFIED:20260128T052352Z
UID:10000284-1769940000-1769947200@thewellbeinghub.com.au
SUMMARY:9D Breathwork journey-Letting Go
DESCRIPTION:The past doesn’t have to define you. Letting Go is your invitation to break free. \nThis 70-minute breathwork experience is designed to help you surrender emotional baggage\, release suppressed emotions\, and step into a state of clarity and peace. Through progressive breathwork\, guided coaching\, hypnotic affirmations\, and immersive soundscapes\, you’ll move through a powerful process of emotional release and transformation. \nAs you breathe\, you’ll confront and let go of what no longer serves you-rewriting old stories\, embracing deep forgiveness\, and awakening a renewed sense of self. A final breath hold and cathartic scream release clear out deeply held emotions\, allowing you to step forward unburdened and free. \nBy the end\, you’ll feel lighter\, clearer\, and fully aligned with your truest self-ready to move forward with confidence and peace. \nBreathe in. Let go. Step into freedom.
URL:https://thewellbeinghub.com.au/event/9d-breathwork-journey-letting-go/
LOCATION:Fight Fit Academy\, 13 Queen Street\, Yeppoon\, Queensland\, 4703\, Australia
CATEGORIES:Breathwork
ATTACH;FMTTYPE=image/jpeg:https://thewellbeinghub.com.au/wp-content/uploads/2026/01/622380249_122118447483066346_3959503625917692127_n.jpg
END:VEVENT
BEGIN:VEVENT
DTSTART;TZID=Australia/Brisbane:20251129T130000
DTEND;TZID=Australia/Brisbane:20251129T160000
DTSTAMP:20260420T050040
CREATED:20251117T053500Z
LAST-MODIFIED:20251117T053500Z
UID:10000140-1764421200-1764432000@thewellbeinghub.com.au
SUMMARY:Inner World Rewired
DESCRIPTION:Inner World Rewired | Rockhampton | November 29th\n  \nGet ready to dive deep into a powerful experience of healing\, awakening\, and realignment — guided by Ad\, founder of Barefoot and Breathe\, and inspired by the very tools that changed his life. \n  \nThis immersive event is open to all — no experience needed. Just bring your open heart\, your willingness\, and your true self💫 \n  \n🌿You’ll be guided through a carefully curated sequence of healing practices\, including: \n• Breakthrough Breathwork \n• Inner Child Healing Meditation \n• Tension/Trauma Release Exercises (TRE) \n• Integration Circle & Grounding Practices \n  \nThese modalities are designed to help you: \n• Release stuck and suppressed trauma \n• Unwind tension/energy held in the body \n• Connect with your inner wisdom \n• Access deeper levels of peace\, clarity & freedom \n  \nWhether you’re just beginning your healing journey or have been walking this path for a while\, this space is for you. You’ll be held in a safe\, supportive\, and deeply enriching container 🛤️ \n  \nHealing isn’t about becoming someone new — it’s about remembering who you truly are. \nWe’ll help you peel back the layers: the limiting beliefs\, the stored trauma\, the patterns that no longer serve you — so you can come home to your authentic self. \n  \n‼️ What to Bring: \n• Yoga mat \n• Pillow + blanket \n• Eye mask \n• Journal + pen \n• Water bottle \n• Comfy clothes \n• Your full\, authentic self \n  \n⚠️ A Few Things to Know: \n• Eat a light meal at least 1 hour before the event \n• Avoid caffeine on the day of the event \n• No drugs or alcohol 24 hours before the event \n• This experience includes deep breathwork and may not be suitable for everyone. If you are pregnant\, under 16\, experiencing significant psychological challenges\, have been recently hospitalized\, or are on heavy medication (including for bipolar disorder or similar conditions)\, please reach out before booking. We’re happy to discuss whether this session is supportive and safe for you at this time. \n  \nEXCHANGE – SPOTS ARE LIMITED \n\n$190 – 2 Ticket deal\n$111 – General Admission\n$88 – Early Bird\nBarefoot and Breathe Ceremonial Cacao available\nAfterpay Available\n\nBig love\,\nAd \nPLEASE REVIEW EVENT WAIVER: Event Waiver \nBy purchasing a ticket\, you acknowledge and agree to the terms outlined in the attached waiver. \nLIMITED SPOTS AVAILABLE \nThis workshop may be accompanied by a professional photographer.
URL:https://thewellbeinghub.com.au/event/inner-world-rewired/
LOCATION:East Hall\, 111 East Street\, Rockhampton\, Queensland\, Australia
CATEGORIES:Breathwork,workshop
ATTACH;FMTTYPE=image/webp:https://thewellbeinghub.com.au/wp-content/uploads/2025/11/inner.webp
END:VEVENT
BEGIN:VEVENT
DTSTART;TZID=Australia/Brisbane:20251126T181500
DTEND;TZID=Australia/Brisbane:20251126T200000
DTSTAMP:20260420T050040
CREATED:20251107T073250Z
LAST-MODIFIED:20251107T073250Z
UID:10000083-1764180900-1764187200@thewellbeinghub.com.au
SUMMARY:9D Immersive Breathwork Experience
DESCRIPTION:BREATHE • RESET • RECONNECT\n\nJoin us for a deeply immersive 9D Breathwork Journey\, a powerful experience designed to help you release stress\, quiet the noise\, and reset your mind and body.\n\nThis session is led by the wonderful Melissa from Breathe by Intent\, with headphones guiding you through the session. You’ll feel completely private and supported\, allowing you to drop into a deeper state of focus\, healing\, and inner clarity \nIt’s personal. It’s transformative. It’s unlike anything you’ve experienced.\n\nWhat to bring:•  Yoga mat (we’ll have a few spare if needed)•  Blanket•  Pillow (for comfort)\n\nGive yourself permission to pause\, breathe\, and let go of whatever’s been weighing on you.\n$55 per person\, please bring cash. Limited spots available: secure your place now by calling 49393815 or email admin@fightfitacademyyeppoon.com
URL:https://thewellbeinghub.com.au/event/9d-immersive-breathwork-experience/
LOCATION:Fight Fit Academy\, 13 Queen Street\, Yeppoon\, Queensland\, 4703\, Australia
CATEGORIES:Breathwork
ATTACH;FMTTYPE=image/jpeg:https://thewellbeinghub.com.au/wp-content/uploads/2025/11/breathwork.jpg
END:VEVENT
BEGIN:VEVENT
DTSTART;TZID=Australia/Brisbane:20251117T174500
DTEND;TZID=Australia/Brisbane:20251117T181500
DTSTAMP:20260420T050040
CREATED:20251112T055041Z
LAST-MODIFIED:20251112T055041Z
UID:10000117-1763401500-1763403300@thewellbeinghub.com.au
SUMMARY:The Monday Pause: Breathwork\, Meditation & Reflection
DESCRIPTION:Give yourself the gift of a gentle reset before the week sweeps you along.\n\nThis 30-minute small group session offers a calm\, welcoming space to slow down and reconnect. Each week we explore simple practices to help you release tension\, quiet the mind\, and return to yourself. \n\nSome weeks we’ll focus on breathwork to clear and balance your energy\, other weeks on guided journaling to spark insight and intention. Every session closes with a soothing guided meditation so you leave feeling lighter\, clearer\, and more at ease. \n\nNo movement\, no experience needed — simply come as you are.\nCome straight from your 430 pm Yin class\, or join just for the pause. \n\nDetails: \n\nTime: Mondays 5:45 to 6:15 pm\nPrice: Donation drop-in\, or FREE when attending the 430 pm Yin that day\nWhat to bring: Journal & pen for journaling weeks; nothing special for breathwork weeks\nLocation: The Yoga Space – cosy\, quiet\, and intimate
URL:https://thewellbeinghub.com.au/event/the-monday-pause-breathwork-meditation-reflection/
LOCATION:The Yoga Space\, 13 James Street\, Yeppoon\, Queensland\, 4703\, Australia
CATEGORIES:Breathwork,meditation,yoga
ATTACH;FMTTYPE=image/jpeg:https://thewellbeinghub.com.au/wp-content/uploads/2025/11/monday.jpg
ORGANIZER;CN="Yoga with Tracy":MAILTO:admin@yogawithtracy.com.au
END:VEVENT
END:VCALENDAR