BEGIN:VCALENDAR
VERSION:2.0
PRODID:-//The Wellbeing Hub - ECPv6.15.20//NONSGML v1.0//EN
CALSCALE:GREGORIAN
METHOD:PUBLISH
X-ORIGINAL-URL:https://thewellbeinghub.com.au
X-WR-CALDESC:Events for The Wellbeing Hub
REFRESH-INTERVAL;VALUE=DURATION:PT1H
X-Robots-Tag:noindex
X-PUBLISHED-TTL:PT1H
BEGIN:VTIMEZONE
TZID:Australia/Brisbane
BEGIN:STANDARD
TZOFFSETFROM:+1000
TZOFFSETTO:+1000
TZNAME:AEST
DTSTART:20240101T000000
END:STANDARD
END:VTIMEZONE
BEGIN:VEVENT
DTSTART;TZID=Australia/Brisbane:20251128T130000
DTEND;TZID=Australia/Brisbane:20251128T143000
DTSTAMP:20260424T060323
CREATED:20251126T050749Z
LAST-MODIFIED:20251126T050749Z
UID:10000176-1764334800-1764340200@thewellbeinghub.com.au
SUMMARY:Capricorn Business Hub Information Session
DESCRIPTION:A new home of startups and innovative small businesses is coming for Rockhampton and the Capricorn Region. \nJoin us to meet the team\, hear the vision\, and learn how you can get connected to the startup and innovative small business ecosystem in our region.
URL:https://thewellbeinghub.com.au/event/capricorn-business-hub-information-session/
LOCATION:Oasis Community Services Training Centre\, 2 Glenmore Road\, Park Avenue\, Queensland\, Australia
CATEGORIES:Business,networking,Small Business
ATTACH;FMTTYPE=image/webp:https://thewellbeinghub.com.au/wp-content/uploads/2025/11/hub.webp
END:VEVENT
END:VCALENDAR