BEGIN:VCALENDAR
VERSION:2.0
PRODID:-//The Wellbeing Hub - ECPv6.15.20//NONSGML v1.0//EN
CALSCALE:GREGORIAN
METHOD:PUBLISH
X-ORIGINAL-URL:https://thewellbeinghub.com.au
X-WR-CALDESC:Events for The Wellbeing Hub
REFRESH-INTERVAL;VALUE=DURATION:PT1H
X-Robots-Tag:noindex
X-PUBLISHED-TTL:PT1H
BEGIN:VTIMEZONE
TZID:Australia/Brisbane
BEGIN:STANDARD
TZOFFSETFROM:+1000
TZOFFSETTO:+1000
TZNAME:AEST
DTSTART:20250101T000000
END:STANDARD
END:VTIMEZONE
BEGIN:VEVENT
DTSTART;TZID=Australia/Brisbane:20260520T090000
DTEND;TZID=Australia/Brisbane:20260520T110000
DTSTAMP:20260419T225133
CREATED:20260331T032729Z
LAST-MODIFIED:20260331T032729Z
UID:10003420-1779267600-1779274800@thewellbeinghub.com.au
SUMMARY:Boost Your Business Social Media Presence
DESCRIPTION:FREE Small Business Marketing Workshop \n\n\n\nJoin Hello Mae Studio for a practical\, no‑fluff workshop designed to help local small businesses boost their social media presence – without spending all your time online.\n\n\n\nWhat you will learn:\n Turn your profiles into powerful business assets\n Create engaging Reels and captions\n Understand insights and analytics\n Create systems that save time on social media\n\n\nSpots are limited – secure yours and take the guesswork out of social media
URL:https://thewellbeinghub.com.au/event/boost-your-business-social-media-presence/
LOCATION:The Hub\, James Street\, Yeppoon\, Queensland\, 4703\, Australia
CATEGORIES:Business,Free event
ATTACH;FMTTYPE=image/jpeg:https://thewellbeinghub.com.au/wp-content/uploads/2026/03/659096090_907111765488283_4440970022084011061_n.jpg
END:VEVENT
END:VCALENDAR