BEGIN:VCALENDAR
VERSION:2.0
PRODID:-//The Wellbeing Hub - ECPv6.15.20//NONSGML v1.0//EN
CALSCALE:GREGORIAN
METHOD:PUBLISH
X-ORIGINAL-URL:https://thewellbeinghub.com.au
X-WR-CALDESC:Events for The Wellbeing Hub
REFRESH-INTERVAL;VALUE=DURATION:PT1H
X-Robots-Tag:noindex
X-PUBLISHED-TTL:PT1H
BEGIN:VTIMEZONE
TZID:Australia/Brisbane
BEGIN:STANDARD
TZOFFSETFROM:+1000
TZOFFSETTO:+1000
TZNAME:AEST
DTSTART:20240101T000000
END:STANDARD
END:VTIMEZONE
BEGIN:VEVENT
DTSTART;TZID=Australia/Brisbane:20251221T130000
DTEND;TZID=Australia/Brisbane:20251221T160000
DTSTAMP:20260422T091614
CREATED:20251118T025159Z
LAST-MODIFIED:20251118T025159Z
UID:10000143-1766322000-1766332800@thewellbeinghub.com.au
SUMMARY:Kinka Beach Christmas Party
DESCRIPTION: Kinka Beach Christmas Carols & Open Mic Afternoon \nHosted by Kinka Kippa Sunday\, 21st December Afternoon – 1PM – 4PM Kinka Kippa\, Kinka Beach\n\nJoin us for a magical\, family-friendly Christmas celebration right here at beautiful Kinka Beach! We’re bringing the community together for an afternoon full of festive fun\, great music\, coastal vibes and Christmas cheer.\n\n WHAT’S ON\n Open Mic Christmas CarolsCalling all singers\, choirs\, community groups\, kids\, families & friends!Jump up and share a carol or two — all ages and abilities welcome.\n Live Community PerformancesLocal voices\, local talent\, and everyone coming together for some Christmas spirit.\n Santa’s Special VisitKeep an eye out… Santa will be popping in for some festive fun!\n Fresh SeafoodBeautiful fresh prawns & oysters available on the day.\n Beer & Wine AvailableRelax with an icy cold beer or a wine while you enjoy the carols\n Free Candy Canes for the KidsBecause Christmas magic is sweeter with treats!\n Best Dressed Christmas CompetitionDress in your brightest\, funniest\, or most fabulous Christmas outfits! Prizes for both adults & kids\n Relaxed Beachside Christmas VibesBring your picnic rug\, your family\, your friends and enjoy an afternoon on the veranda.\n\n WANT TO PERFORM?\nIf you\, your choir\, your kids\, your community group or even just a couple of friends would love to sing\, please message our page! We’d absolutely love to have you join the lineup. \nLet’s make this a Christmas afternoon to remember at Kinka Beach!Hosted by the team at Kinka Kippa 
URL:https://thewellbeinghub.com.au/event/kinka-beach-christmas-party/
LOCATION:Kinka Kippa\, 1004 Scenic Highway\, Kinka Beach\, Queensland\, Australia
CATEGORIES:Christmas,Christmas Carols
ATTACH;FMTTYPE=image/jpeg:https://thewellbeinghub.com.au/wp-content/uploads/2025/11/kinka.jpg
END:VEVENT
BEGIN:VEVENT
DTSTART;TZID=Australia/Brisbane:20251214T150000
DTEND;TZID=Australia/Brisbane:20251214T203000
DTSTAMP:20260422T091614
CREATED:20251102T074426Z
LAST-MODIFIED:20251102T074426Z
UID:10000076-1765724400-1765744200@thewellbeinghub.com.au
SUMMARY:Carols by the Beach
DESCRIPTION:The JRT Carols by the Beach will be held on Sunday 14th December on Yeppoon Main Beach and features an evening of family fun\, carols and Christmas variety entertainment\, food & market stalls\, street parade\, amusement rides\, fireworks & special guest Santa Claus.\n\nThe program is a jam-packed community showcase of Christmas entertainment and carols featuring entertainers\, bands\, singing groups\, community choirs and dancers.
URL:https://thewellbeinghub.com.au/event/carols-by-the-beach/
LOCATION:Yeppoon Main Beach\, Yeppoon\, Queensland\, 4703\, Australia
CATEGORIES:Christmas Carols,Community event
ATTACH;FMTTYPE=image/jpeg:https://thewellbeinghub.com.au/wp-content/uploads/2025/11/carols.jpg
END:VEVENT
BEGIN:VEVENT
DTSTART;TZID=Australia/Brisbane:20251212T180000
DTEND;TZID=Australia/Brisbane:20251212T203000
DTSTAMP:20260422T091614
CREATED:20251209T061533Z
LAST-MODIFIED:20251209T061533Z
UID:10000212-1765562400-1765571400@thewellbeinghub.com.au
SUMMARY:Calvary Carols Spectacular
DESCRIPTION:Celebrate Christmas at Calvary with an unforgettable experience for the whole family! Enjoy free inflatables\, a petting zoo\, face painting\, food\, and more — plus a 75-minute Christmas Spectacular\, Wonders of His Love\, featuring all your favourite Christmas songs.\nPre-show festivities begin at 6pm before the show starts at 7pm.\nBring your friends and family and experience the joy\, hope\, and wonder of God’s love together. Seats are limited. Head to calv.ch/christmas to book your $5 refundable ticket.
URL:https://thewellbeinghub.com.au/event/calvary-carols-spectacular/
LOCATION:2 Burnett Street\, Yeppoon
CATEGORIES:Christmas,Christmas Carols
ATTACH;FMTTYPE=image/jpeg:https://thewellbeinghub.com.au/wp-content/uploads/2025/12/clv.jpg
END:VEVENT
END:VCALENDAR