BEGIN:VCALENDAR
VERSION:2.0
PRODID:-//The Wellbeing Hub - ECPv6.15.20//NONSGML v1.0//EN
CALSCALE:GREGORIAN
METHOD:PUBLISH
X-ORIGINAL-URL:https://thewellbeinghub.com.au
X-WR-CALDESC:Events for The Wellbeing Hub
REFRESH-INTERVAL;VALUE=DURATION:PT1H
X-Robots-Tag:noindex
X-PUBLISHED-TTL:PT1H
BEGIN:VTIMEZONE
TZID:Australia/Brisbane
BEGIN:STANDARD
TZOFFSETFROM:+1000
TZOFFSETTO:+1000
TZNAME:AEST
DTSTART:20240101T000000
END:STANDARD
END:VTIMEZONE
BEGIN:VEVENT
DTSTART;TZID=Australia/Brisbane:20251101T070000
DTEND;TZID=Australia/Brisbane:20251101T120000
DTSTAMP:20260424T014738
CREATED:20251030T021745Z
LAST-MODIFIED:20251030T021745Z
UID:10000061-1761980400-1761998400@thewellbeinghub.com.au
SUMMARY:Forme Pilates Grand Opening
DESCRIPTION:We’re so excited to welcome you to Forme Pilates Studio\, our brand-new contemporary Pilates space in the heart of Rockhampton’s CBD.\n\nJoin us for a day of celebrations as we open our doors for the very first time. Explore our beautiful new studio\, meet our instructors\, and experience the uplifting\, positive energy that makes Forme unique.\n\nOn the day\, you can enjoy:\n\nFree mini classes & demonstrationsStudio toursOpening offers & giveawaysA chance to connect with our Pilates community\n\nWhether you’re new to Pilates or already love the practice\, this is the perfect opportunity to see what’s waiting for you at Forme.\nRSVP Here: https://www.formepilates.au/…/forme-pilates-grand-opening
URL:https://thewellbeinghub.com.au/event/forme-pilates-grand-opening/
LOCATION:Forme Pilates Rockhampton\, 80B East Street\, Rockhampton\, Queensland\, Australia
CATEGORIES:Class,Grand opening
ATTACH;FMTTYPE=image/jpeg:https://thewellbeinghub.com.au/wp-content/uploads/2025/10/forme.jpg
ORGANIZER;CN="Forme Plilates":MAILTO:info@formepilates.au
END:VEVENT
BEGIN:VEVENT
DTSTART;TZID=Australia/Brisbane:20251101T085000
DTEND;TZID=Australia/Brisbane:20251102T170000
DTSTAMP:20260424T014738
CREATED:20251030T020344Z
LAST-MODIFIED:20251030T020344Z
UID:10000058-1761987000-1762102800@thewellbeinghub.com.au
SUMMARY:Cultivating a Compassionate Heart The Extraordinary Qualities of Bodhictta
DESCRIPTION:Please note this is also available online if in person is not possible.\n\nWe are incredibly fortunate to welcome Prof. Geshe Ngawang Samten to the Ananda Buddhist Centre for a special teaching on The Wonderful Qualities of Bodhicitta\, based on the first chapter of The Bodhisattva’s Way of Life by Shantideva.\n\nBodhicitta — the heartfelt wish to help all beings find freedom from suffering and reach enlightenment — is described by Shantideva as a rare and precious jewel that transforms our ordinary lives into extraordinary ones filled with compassion and wisdom.\n\nProfessor Geshe Samten’s visit and lecture tour of Australia is sponsored by Sakya Losal Choe Dzong to honour the Year of Compassion. . This is a rare opportunity to learn from such a highly respected and deeply experienced teacher.\n\nDon’t miss this inspiring event — a chance to open your heart and deepen your understanding of kindness\, compassion\, and the path of awakening.\nCost: Both days: $150Individual days: $75\nMorning and afternoon tea and shared vegetarian lunch included.\nWe believe that everyone should have access to these teachings. If cost is a factor\, please speak to one of our friendly volunteers.\n\nDate: Weekend teaching 1st to the 2nd of November.Time: 8:50 am to 5 pm Sat and Sun.Address: Ananda Buddhist Centre Cnr Hinchliff & Munro Streets Rockhampton\, QLD\,Bookings/Information: www.anandabuddhist.com.au
URL:https://thewellbeinghub.com.au/event/cultivating-a-compassionate-heart-the-extraordinary-qualities-of-bodhictta/
LOCATION:Ananda Buddhist Centre\, Cnr HInchcliffe & Munro Streets\, Rockhampton\, Queensland\, Australia
CATEGORIES:Buddhism,Class,workshop
ATTACH;FMTTYPE=image/jpeg:https://thewellbeinghub.com.au/wp-content/uploads/2025/10/cultivating.jpg
END:VEVENT
BEGIN:VEVENT
DTSTART;TZID=Australia/Brisbane:20251101T100000
DTEND;TZID=Australia/Brisbane:20251101T120000
DTSTAMP:20260424T014738
CREATED:20251030T021415Z
LAST-MODIFIED:20251030T021415Z
UID:10000060-1761991200-1761998400@thewellbeinghub.com.au
SUMMARY:Learn the Art of Tarot with Aliciah
DESCRIPTION: Learn the Art of Tarot with Aliciah \n\nAre you ready to unlock the secrets of the tarot and awaken your intuition? \nJoin our in-store tarot reader Aliciah for a magical\, hands-on workshop that will introduce you to the transformative wisdom of the cards.\n\nTogether\, we’ll step into the mystical world of the Major Arcana—the heart of the tarot deck. These archetypal cards hold stories of growth\, transformation\, challenge and triumph. You’ll learn their deeper meanings\, how they weave together to tell a story and why they’ve guided seekers for centuries. \nBut this isn’t just theory—this is your journey.\nYou’ll discover how to interpret a simple tarot spread and practice pulling your very first reading. Aliciah will guide you every step of the way\, offering valuable feedback on your interpretations and helping you build trust in your own intuitive voice.\n\n What you’ll gain:\n A grounded understanding of the Major Arcana and their symbolism Confidence in reading a basic tarot spread A personal first reading experience with feedback from Aliciah Tools to tap into your intuition and make tarot part of your daily life\nThis immersive\, heart-led workshop is perfect for beginners or anyone curious about tarot as a spiritual tool. You’ll leave not only with newfound knowledge but with the confidence to begin using tarot for personal insight\, empowerment and everyday guidance.\nCome curious\, leave inspired—your tarot journey begins here. Saturday 1st of November – 10am to midday.Deposit required upon booking. Non refundable if cancellation is within 72hrs of workshop.
URL:https://thewellbeinghub.com.au/event/learn-the-art-of-tarot-with-aliciah/
LOCATION:Splendiferous Health\, 109 Campbell Street\, Rockhampton\, Queensland\, Australia
CATEGORIES:Class,workshop
ATTACH;FMTTYPE=image/jpeg:https://thewellbeinghub.com.au/wp-content/uploads/2025/10/tarot.jpg
END:VEVENT
BEGIN:VEVENT
DTSTART;TZID=Australia/Brisbane:20251101T103000
DTEND;TZID=Australia/Brisbane:20251101T123000
DTSTAMP:20260424T014738
CREATED:20251030T020718Z
LAST-MODIFIED:20251030T020718Z
UID:10000059-1761993000-1762000200@thewellbeinghub.com.au
SUMMARY:Lattes & Laughs
DESCRIPTION: THIS SATURDAY  Lattes & Laughs … Saturday\, November 1st\, 10:30am–12:30pm! \n\nAs we near the end of the year\, it’s the perfect time to pause\, reflect\, and have a little fun before stepping into 2026. Join me for a morning of coffee\, creativity\, connection… and a little letting go. \n\nThis two-hour session is all about laughter\, lightness\, and mindful reflection… and it’s just $10 to cover supplies.\n\nExpect:\n Playful painting: because sometimes the best way to release what’s holding us back is to throw some colour at it. Fun\, cheeky & deep convos: we’ll chat about life\, growth\, and what we’re ready to move on from. A moment to reflect: you’ll write down what you’re ready to release and paint right over it\, transforming it into something beautiful and new.\n\n\nWhether you’re here for the caffeine\, the creativity\, or just an excuse to unwind… this is your space to end the year with joy\, laughter\, and connection. \nReserve your spot online or send me a DM to join the fun!\n\n linktr.ee/cmc_mindful_movement\nWith love & laughter\,Caitlyn – CMC Mindful Movement Studio
URL:https://thewellbeinghub.com.au/event/lattes-laughs/
LOCATION:CMC Mindful Movement Studio\, 4B 138 George Street\, Rockhampton\, Queensland\, 4703\, Australia
CATEGORIES:Art class,Art therapy,Class,workshop
ATTACH;FMTTYPE=image/jpeg:https://thewellbeinghub.com.au/wp-content/uploads/2025/10/lattes.jpg
END:VEVENT
BEGIN:VEVENT
DTSTART;TZID=Australia/Brisbane:20251102T090000
DTEND;TZID=Australia/Brisbane:20251102T100000
DTSTAMP:20260424T014738
CREATED:20251030T014709Z
LAST-MODIFIED:20251030T015143Z
UID:10000053-1762074000-1762077600@thewellbeinghub.com.au
SUMMARY:60 minute In-Studio Sacred Yin Journeys: Elemental Yin
DESCRIPTION:Sunday – Elemental Yin\nGrounding\, Fluidity\, and Energy Shifts Through the Five Elements\nSundays invite you into the wisdom of the five elements — Earth\, Water\, Fire\, Air\, and Ether. Each class draws on the qualities of one or more elements to guide your Yin practice\, fostering connection with nature’s cycles and rhythms. \nExpect deep release\, mindful stillness\, and an energetic reset to prepare you for the week ahead. This practice is grounding\, nourishing\, and spacious — a perfect Sunday ritual for body and soul. \nSuitable for all levels — beginners welcome. \n\nBooking Details\n\nLocation: The Yoga Space\nSpaces are limited — bookings essential\nPrice: $15 per person\n\nPay at booking or cash on arrival*\n5-Class or 10-Class Pass available (purchase as you register)\n\n\nWhat to bring: A towel or sarong to cover bolsters\nWhat to wear: Comfortable clothing; the room is set to a cosy temperature\nArrival: Please arrive at least 5 minutes before class\n\n*cancellations are required 2 hours before the class begins to ensure space is filled from wait list.\n*no shows are charged accordingly.
URL:https://thewellbeinghub.com.au/event/60-minute-in-studio-sacred-yin-journeys-elemental-yin/
LOCATION:The Yoga Space\, 13 James Street\, Yeppoon\, Queensland\, 4703\, Australia
CATEGORIES:Class,yin yoga,yoga
ATTACH;FMTTYPE=image/jpeg:https://thewellbeinghub.com.au/wp-content/uploads/2025/10/sacred-yin.jpg
ORGANIZER;CN="Yoga with Tracy":MAILTO:admin@yogawithtracy.com.au
END:VEVENT
BEGIN:VEVENT
DTSTART;TZID=Australia/Brisbane:20251103T163000
DTEND;TZID=Australia/Brisbane:20251103T173000
DTSTAMP:20260424T014738
CREATED:20251030T014830Z
LAST-MODIFIED:20251030T015122Z
UID:10000054-1762187400-1762191000@thewellbeinghub.com.au
SUMMARY:60 minute In-Studio Sacred Yin Journeys: Yama/Niyamas Yin
DESCRIPTION:Monday – Yamas/Niyamas Yin\nPhilosophical Exploration Through Movement\n\nThis Monday Yin practice blends the stillness of Yin postures with the wisdom of yoga’s guiding principles — the Yamas and Niyamas. Each week we focus on a different principle\, letting it gently shape our breath\, awareness\, and the shapes we rest in. \n\nExpect a calm\, reflective atmosphere where physical release meets inner clarity. Postures are held for 3–8 minutes\, giving both body and mind the space to soften. You’ll leave feeling grounded\, open\, and inspired to take your practice beyond the mat. \n\nSuitable for all levels — from beginners to seasoned yogis seeking a deeper\, more mindful approach. \n\nBooking Details\n\nLocation: The Yoga Space\nSpaces are limited — bookings essential\nPrice: $15 per person\n\nPay at booking or cash on arrival*\n5-Class or 10-Class Pass available (purchase as you register)\n\n\nWhat to bring: A towel or sarong to cover bolsters\nWhat to wear: Comfortable clothing; the room is set to a cosy temperature\nArrival: Please arrive at least 5 minutes before class\n\n*cancellations are required 2 hours before the class begins to ensure space is filled from wait list.\n*no shows are charged accordingly.
URL:https://thewellbeinghub.com.au/event/60-minute-in-studio-sacred-yin-journeys-yama-niyamas-yin/
LOCATION:The Yoga Space\, 13 James Street\, Yeppoon\, Queensland\, 4703\, Australia
CATEGORIES:Class,yin yoga,yoga
ATTACH;FMTTYPE=image/jpeg:https://thewellbeinghub.com.au/wp-content/uploads/2025/10/sacred-yin.jpg
ORGANIZER;CN="Yoga with Tracy":MAILTO:admin@yogawithtracy.com.au
END:VEVENT
BEGIN:VEVENT
DTSTART;TZID=Australia/Brisbane:20251105T180000
DTEND;TZID=Australia/Brisbane:20251105T191500
DTSTAMP:20260424T014738
CREATED:20251030T015037Z
LAST-MODIFIED:20251030T015037Z
UID:10000055-1762365600-1762370100@thewellbeinghub.com.au
SUMMARY:SPECIAL EVENT 75 min Luna Yin & Nidra
DESCRIPTION:November — Frost Supermoon: Reflect & Renew\n\nAs the year begins to turn\, the Frost Supermoon casts its silver light across the quiet night\, inviting reflection and gentle renewal. \n\nWe’ll begin with Yin postures to soften held tension and create spaciousness within the body\, preparing for deep rest. From there\, you’ll be guided through a Yoga Nidra journey — an inner exploration to listen for what’s ready to be released\, and what tender shoots may be stirring within. \nThis evening is an invitation to pause beneath the moon’s cool clarity\, to let its light wash through you\, and to emerge lighter\, calmer\, and softly renewed. \n\n✨ All welcome. A grounding and restorative practice for beginners and seasoned yogis alike. \n\nNo experience is needed; simply come as you are. Each month is a chance to pause\, align with the cycles of nature\, and rest deeply in a nurturing space. \n\n\nTime: Monday or Wednesday 6–7:15 pm (nearest full moon)\nPrice: $20 per person\nBring: Comfortable clothing\, water bottle\, journal (optional)\nLocation: The Yoga Space
URL:https://thewellbeinghub.com.au/event/special-event-75-min-luna-yin-nidra/
LOCATION:The Yoga Space\, 13 James Street\, Yeppoon\, Queensland\, 4703\, Australia
CATEGORIES:Class,Full moon yoga,yin yoga,yoga
ATTACH;FMTTYPE=image/jpeg:https://thewellbeinghub.com.au/wp-content/uploads/2025/10/luna-yin.jpg
ORGANIZER;CN="Yoga with Tracy":MAILTO:admin@yogawithtracy.com.au
END:VEVENT
BEGIN:VEVENT
DTSTART;TZID=Australia/Brisbane:20251108T100000
DTEND;TZID=Australia/Brisbane:20251108T130000
DTSTAMP:20260424T014738
CREATED:20251102T065014Z
LAST-MODIFIED:20251102T065014Z
UID:10000068-1762596000-1762606800@thewellbeinghub.com.au
SUMMARY:Wrangle Your Rage
DESCRIPTION: Wrangle Your Rage \n\nWe’re coming into the so-called silly season — that time of year when energy runs high\, patience runs low and emotions simmer beneath the surface.\nNow is the perfect time to learn the tools to cope better\, cleanse deeper and transform what stirs within.\n\nAre you truly understanding your shadows — your fears — enough to live as your authentic self?Do you dare to dive into the divine depths of shadow work?\nAcceptance and self-preservation are not the same.Which one rules your life?\nYou’ve feared the future long enough.\n\nNow it’s time to Know. Feel. Delve. Reveal. Accept. Enhance.Uncover your true nature — raw\, radiant and unapologetically real beneath the mask.\nOnly the one who faces their shadow can master their fate.\nStep right up.This is not suppression.This is transmutation.Learn the sacred art of coping\, the rhythm of cleansing and the fierce\, joyful alchemy of wrangling your rage — until it becomes power\, purpose and peace.A workshop of emotional alchemy and self-reclamation — for those ready to cleanse\, release and rise renewed.\nFacilitated by Jess — our in-store Psychic. Energy Exchange: $77 Duration: Approx 3 hours Date: Saturday\, November 8th Location: Splendiferous — 109 Campbell St\nDeposit required upon booking. Non refundable if cancellation is within 48hrs of session time.
URL:https://thewellbeinghub.com.au/event/wrangle-your-rage/
LOCATION:Splendiferous Health\, 109 Campbell Street\, Rockhampton\, Queensland\, Australia
CATEGORIES:Class,personal development,workshop
ATTACH;FMTTYPE=image/jpeg:https://thewellbeinghub.com.au/wp-content/uploads/2025/11/rage.jpg
END:VEVENT
BEGIN:VEVENT
DTSTART;TZID=Australia/Brisbane:20251115T093000
DTEND;TZID=Australia/Brisbane:20251115T113000
DTSTAMP:20260424T014738
CREATED:20251102T072557Z
LAST-MODIFIED:20251102T072557Z
UID:10000075-1763199000-1763206200@thewellbeinghub.com.au
SUMMARY:Midwifing Your Business - The Art of Creating with Heart
DESCRIPTION: Midwifing Your Business | The Art of Creating with Heart\n\nHeart-Centred\, Small Group Sharing Circle for the Rising Feminine.\n\nYour business is not separate from you — it is an extension of your heart\, your rhythm\, and your wild wisdom We will gather to explore how your heart weaves through your work\, your leadership\, and your creative flow.\n\nTogether\, we will: Root into the landscape of your professional journey and the stories your heart longs to tell Breathe heart-connection into your daily rhythms\, finding confidence\, resilience\, and flow Align your choices with your deeper values and vision\, so work feels like devotion\, not depletion Soften the weight of stress and old patterns\, and return to authenticity\, purpose\, and presence Cultivate boundaries\, compassion\, and clarity as living practices of sustainable leadership\n\n This circle calls to the women who: Feels caught in transition or uncertainty in her work Longs to move from stagnation into flow and growth Wants to lead with heart\, not hustle Seeks a grounded\, feminine way of being in business\n Tanby Garden Café\, Tanby | 9:30–11:30am $25 | Small group (4–6 women)
URL:https://thewellbeinghub.com.au/event/midwifing-your-business-the-art-of-creating-with-heart/
LOCATION:Tanby Garden Centre\, 178 Kinka Beach Road\, Tanby\, Queensland\, 4703\, Australia
CATEGORIES:Class,women in business,women's circle,workshop
ATTACH;FMTTYPE=image/jpeg:https://thewellbeinghub.com.au/wp-content/uploads/2025/11/business.jpg
END:VEVENT
BEGIN:VEVENT
DTSTART;TZID=Australia/Brisbane:20251115T100000
DTEND;TZID=Australia/Brisbane:20251115T120000
DTSTAMP:20260424T014738
CREATED:20251112T045826Z
LAST-MODIFIED:20251112T045826Z
UID:10000099-1763200800-1763208000@thewellbeinghub.com.au
SUMMARY:Make & Mingle
DESCRIPTION:Upstairs in our airconditioned MOO Den\, we will be making and creating on Saturday mornings.10am to 12pm\nDesigned for like minded crafters of all crafts – sewing\, knitting\, crochet\, felting etc. A time to chat and compare notes\, styles\, patterns and ideas.\n\n$10 includes light snack\, tea/coffee and water. Barista made coffee will be available to purchase once the machine is in (after 23 Oct). This program is free for CoMOOnity Members.\n\nBring along something you’re working on\, or come and meet some skilled makers at heart 
URL:https://thewellbeinghub.com.au/event/make-mingle-2/
LOCATION:Coomoonity Play Cafe\, 155 Alma Street\, Rockhampton\, Queensland\, Australia
CATEGORIES:Class
ATTACH;FMTTYPE=image/jpeg:https://thewellbeinghub.com.au/wp-content/uploads/2025/11/561722424_1113179857660264_4010598883815818720_n.jpg
ORGANIZER;CN="Coomoonity Play Cafe":MAILTO:hello@comoonityplaycafe.com.au
END:VEVENT
BEGIN:VEVENT
DTSTART;TZID=Australia/Brisbane:20251116T093000
DTEND;TZID=Australia/Brisbane:20251116T113000
DTSTAMP:20260424T014738
CREATED:20251112T050859Z
LAST-MODIFIED:20251112T050859Z
UID:10000103-1763285400-1763292600@thewellbeinghub.com.au
SUMMARY:Midwifing Your Life
DESCRIPTION: MIDWIFING YOUR LIFE | Holding space for the unfolding of your life\n\nMidwifing Your Life is a heart-centred sharing circle and self-development approach for women seeking deeper meaning and feminine-based\, psycho-spiritual guidance. It’s about holding space for the unfolding of your own life\, much like a midwife supports birth.\n\nThrough gentle practices\, reflection\, and guidance\, you’ll:* Reconnect with your heart and body’s wisdom* Align your choices with your natural rhythms* Release patterns that no longer serve you* Navigate transitions with clarity and grace* Cultivate self-trust\, confidence\, and wholeness\n\nOffering $25 | November 16th | 9.30-11.30am | Limited to 6 places | Tanby Garden Cafe | Every 4-6 weeks.\nBook your spot: https://www.feminineattunement.com/…/midwifing-your…\nMore info: www.feminineattunement.com |  0429 824 582 |  @alissa_feminineattunement
URL:https://thewellbeinghub.com.au/event/midwifing-your-life/
LOCATION:Tanby Garden Centre\, 178 Kinka Beach Road\, Tanby\, Queensland\, 4703\, Australia
CATEGORIES:Class,women's circle,workshop
ATTACH;FMTTYPE=image/jpeg:https://thewellbeinghub.com.au/wp-content/uploads/2025/11/midwife.jpg
END:VEVENT
BEGIN:VEVENT
DTSTART;TZID=Australia/Brisbane:20251120T093000
DTEND;TZID=Australia/Brisbane:20251120T130000
DTSTAMP:20260424T014738
CREATED:20251102T071915Z
LAST-MODIFIED:20251102T071915Z
UID:10000074-1763631000-1763643600@thewellbeinghub.com.au
SUMMARY:Succulent Workshops
DESCRIPTION:Two Succulent Workshops – One Creative Morning! \n Thursday 20th November\n\n Workshop 1: 9.30–11am – Create your own Succulent Welcome Sign\n Workshop 2: 11.30–1pm – Make a Christmas Succulent Wreath\n\nAll tools & succulents provided \nTake yours home at the end of the day!\n\n $90pp per workshop |  Bookings essential – 4939 7200\nLimited spots – don’t miss out!
URL:https://thewellbeinghub.com.au/event/succulent-workshops/
LOCATION:Tanby Garden Centre\, 178 Kinka Beach Road\, Tanby\, Queensland\, 4703\, Australia
CATEGORIES:Class,workshop
ATTACH;FMTTYPE=image/jpeg:https://thewellbeinghub.com.au/wp-content/uploads/2025/11/succulent.jpg
ORGANIZER;CN="Tanby Garden Centre":MAILTO:tanbygardencentre.com.au
END:VEVENT
BEGIN:VEVENT
DTSTART;TZID=Australia/Brisbane:20251122T130000
DTEND;TZID=Australia/Brisbane:20251122T170000
DTSTAMP:20260424T014738
CREATED:20251112T053213Z
LAST-MODIFIED:20251112T053213Z
UID:10000109-1763816400-1763830800@thewellbeinghub.com.au
SUMMARY:Leather Belt Making Workshop
DESCRIPTION:Bring a friend and join us for an afternoon as we explore the art of leather craft and create yourself a beautiful genuine leather belt!\n\n Workshop Details  Date: Saturday 22nd November 2025 Time: 1:00 PM – 5:30 PM Location: a Secret Rainforest Garden in Yeppoon Price: $138.00 per person Bookings Essential – Due to this extra special location spaces are extremely limited >>> follow the link below\n\nMelody will be your guide as you embark on this creative journey. Here’s what you can expect: Design & Emboss: Personalize your belt to perfection. Leather Dyeing: Add a burst of color to your creation. Buckle & Accessories: Finish your belt in style. Afternoon Tea included!\n\nThis is a #melodyworkshop presented by #myVardoLeather. For more information on private bookings or classes please visit our website at myvardo.com.au\nDon’t miss out on this opportunity to unleash your creativity and craft a belt that’s uniquely yours. Tag a friend who’d love to join you\, and let’s make this workshop a memorable experience!
URL:https://thewellbeinghub.com.au/event/leather-belt-making-workshop/
LOCATION:Secret Location\, Yeppoon\, Queensland\, Australia
CATEGORIES:Class,workshop
ATTACH;FMTTYPE=image/jpeg:https://thewellbeinghub.com.au/wp-content/uploads/2025/11/leather.jpg
ORGANIZER;CN="My Vardo":MAILTO:my.vardo@outlook.com
END:VEVENT
BEGIN:VEVENT
DTSTART;TZID=Australia/Brisbane:20251126T180000
DTEND;TZID=Australia/Brisbane:20251126T200000
DTSTAMP:20260424T014738
CREATED:20251002T062057Z
LAST-MODIFIED:20251002T062057Z
UID:10000009-1764180000-1764187200@thewellbeinghub.com.au
SUMMARY:QCWA Yeppoon Seasiders Fortnightly Craft Night
DESCRIPTION:QCWA Yeppoon Seasiders is a branch of the QCWA. Our fortnightly Craft Evenings are held at 6pm at the Garage at the Community Centre\, John Street Yeppoon. \n  \nFor more information contact: \nLinda Orgill \nEmail yeppoonseasidersbranch@qcwa.org.au \nPh 0434003694 \nFacebook page
URL:https://thewellbeinghub.com.au/event/qcwa-yeppoon-seasiders-fortnightly-craft-night-4/
LOCATION:John Street Yeppoon\, John Street\, Yeppoon\, Qld\, 4703\, Australia
CATEGORIES:Class,Community event
ATTACH;FMTTYPE=image/jpeg:https://thewellbeinghub.com.au/wp-content/uploads/2025/10/qcwa-logo-1.jpg
ORGANIZER;CN="QCWA Yeppoon Seasiders":MAILTO:yeppoonseasidersbranch@qcwa.org.au
END:VEVENT
END:VCALENDAR