BEGIN:VCALENDAR
VERSION:2.0
PRODID:-//The Wellbeing Hub - ECPv6.15.20//NONSGML v1.0//EN
CALSCALE:GREGORIAN
METHOD:PUBLISH
X-ORIGINAL-URL:https://thewellbeinghub.com.au
X-WR-CALDESC:Events for The Wellbeing Hub
REFRESH-INTERVAL;VALUE=DURATION:PT1H
X-Robots-Tag:noindex
X-PUBLISHED-TTL:PT1H
BEGIN:VTIMEZONE
TZID:Australia/Brisbane
BEGIN:STANDARD
TZOFFSETFROM:+1000
TZOFFSETTO:+1000
TZNAME:AEST
DTSTART:20240101T000000
END:STANDARD
END:VTIMEZONE
BEGIN:VEVENT
DTSTART;TZID=Australia/Brisbane:20251207T100000
DTEND;TZID=Australia/Brisbane:20251207T140000
DTSTAMP:20260422T031319
CREATED:20251203T224254Z
LAST-MODIFIED:20251203T224254Z
UID:10000193-1765101600-1765116000@thewellbeinghub.com.au
SUMMARY:Christmas Fondant Figurine Workshop
DESCRIPTION:DATE: Sunday 7th of December 2025TIME: 10am-2pm (4 hours)ADDRESS: 24 Springdale Avenue\, Inverness\, Yeppoon QldABILITY LEVEL: Beginner\, ages 10+COST: $135 (or $140 for a child with an adult supervisor)MAXIMUM SPACES AVAILABLE: 8\nT&Cs: See bottom of page\n\nLearn the art of fondant figurine making with us this Dec\, as we create a cute gingerbread man by hand\, as well as some little Christmas treats. Both my sister Jess and myself will be presenting this workshop (Jess is the fondant master of the family )\nThese cute figurines will last for several months if stored correctly. Perfect to decorate this year’s (or next year’s) Christmas cake with \n\nInclusions:– Fondant and all supplies– Use of all the tools required– Box to take your creations home in– $10 cake shop voucher– Complementary coffee\, hot chocolate or tea throughout the day\nWhat to bring:– An apron (I have some for sale if you don’t own one or forget)– Covered shoes– Dark clothing– Cardigan for the aircon– Hair tie/clips to keep hair back (long hair should be in a bun)– Water Bottle and LUNCH– Some cash if you would like to purchase anything from the cake shop\, including the tools we will be using (EFTPOS also available – 5% surcharge)\nI look forward sharing my craft with you\nThanks\, Michelle (BEd)\n\nTERMS & CONDITIONS:\nPlease note that this payment is non-refundable (you will receive a refund however if I need to cancel the event). If you are no longer able to attend the workshop\, please let me know ASAP by calling or messaging me on Ph: 0409 325 745.\nIf you advise me of your absence MORE THAN 48 hours prior to the workshop start time\, you will receive a FULL CREDIT that can be used on workshops at a later date. If you advise of your absence LESS THAN 48 hours prior\, you will only receive a $50 CREDIT that can be used at a later date.\nIf you are no longer able to attend\, but have organised for someone else to take your place at the workshop (ie. You have sold or given away your place) rather than receive a credit\, please let me know when you initially contact me regarding your non attendance\, remembering to send me their name and details.
URL:https://thewellbeinghub.com.au/event/christmas-fondant-figurine-workshop/
LOCATION:Michelle’s Cake Creations\, 24 Springdale Avenue\, Inverness\, Queensland\, Australia
CATEGORIES:Christmas,Class,workshop
ATTACH;FMTTYPE=image/jpeg:https://thewellbeinghub.com.au/wp-content/uploads/2025/12/fond.jpg
END:VEVENT
END:VCALENDAR