BEGIN:VCALENDAR
VERSION:2.0
PRODID:-//The Wellbeing Hub - ECPv6.15.20//NONSGML v1.0//EN
CALSCALE:GREGORIAN
METHOD:PUBLISH
X-WR-CALNAME:The Wellbeing Hub
X-ORIGINAL-URL:https://thewellbeinghub.com.au
X-WR-CALDESC:Events for The Wellbeing Hub
REFRESH-INTERVAL;VALUE=DURATION:PT1H
X-Robots-Tag:noindex
X-PUBLISHED-TTL:PT1H
BEGIN:VTIMEZONE
TZID:Australia/Brisbane
BEGIN:STANDARD
TZOFFSETFROM:+1000
TZOFFSETTO:+1000
TZNAME:AEST
DTSTART:20250101T000000
END:STANDARD
END:VTIMEZONE
BEGIN:VEVENT
DTSTART;TZID=Australia/Brisbane:20260131T110000
DTEND;TZID=Australia/Brisbane:20260131T140000
DTSTAMP:20260421T232413
CREATED:20260128T010755Z
LAST-MODIFIED:20260128T010755Z
UID:10000279-1769857200-1769868000@thewellbeinghub.com.au
SUMMARY:Mini Beginni - Yoga Basics Course
DESCRIPTION:New to yoga and not sure where to start?\n\nThis 3-hour Mini Beginners Course is designed to take the guesswork out of yoga. We’ll cover alignment\, common cues and class structure\, with time to move slowly\, ask questions\, and settle in.\n\n$69 pp (or pay what you can)\n\nBy the end\, you’ll feel confident walking into any East Hall Yoga class.\nJan 31 | 11am–2pmLimited spaces • Book now\n111 East Street\, Rockhampton
URL:https://thewellbeinghub.com.au/event/mini-beginni-yoga-basics-course/
LOCATION:East Hall\, 111 East Street\, Rockhampton\, Queensland\, Australia
CATEGORIES:Class,workshop,yoga
ATTACH;FMTTYPE=image/jpeg:https://thewellbeinghub.com.au/wp-content/uploads/2026/01/615591618_122151550706820673_4388838565912617291_n.jpg
ORGANIZER;CN="East Hall Yoga":MAILTO:abby@easthall.org
END:VEVENT
END:VCALENDAR