BEGIN:VCALENDAR
VERSION:2.0
PRODID:-//The Wellbeing Hub - ECPv6.15.20//NONSGML v1.0//EN
CALSCALE:GREGORIAN
METHOD:PUBLISH
X-WR-CALNAME:The Wellbeing Hub
X-ORIGINAL-URL:https://thewellbeinghub.com.au
X-WR-CALDESC:Events for The Wellbeing Hub
REFRESH-INTERVAL;VALUE=DURATION:PT1H
X-Robots-Tag:noindex
X-PUBLISHED-TTL:PT1H
BEGIN:VTIMEZONE
TZID:Australia/Brisbane
BEGIN:STANDARD
TZOFFSETFROM:+1000
TZOFFSETTO:+1000
TZNAME:AEST
DTSTART:20250101T000000
END:STANDARD
END:VTIMEZONE
BEGIN:VEVENT
DTSTART;TZID=Australia/Brisbane:20260610T093000
DTEND;TZID=Australia/Brisbane:20260610T113000
DTSTAMP:20260426T085405
CREATED:20260202T054205Z
LAST-MODIFIED:20260202T054205Z
UID:10000292-1781083800-1781091000@thewellbeinghub.com.au
SUMMARY:Coffee Catch Up for Older Women Experiencing Housing Distress or Insecurity
DESCRIPTION:Join us for a Coffee Catch-Up—a safe and supportive space to connect with other women and access helpful information about services available to you. Share stories\, gather resources\, and enjoy morning tea in the company of kindred spirits.\n\n\n\n\n\nWe look forward to welcoming you with warmth and a cuppa. Come as you are—we’re here for you.\n\n\n\n\n\n Yeppoon Community Centre\n\n\n80 John Street\, Yeppoon 4703\n\n\n\n\n\nSecond Wednesday each month\n\n\n9.30am – 11.30am\n\n\n\n\n\n 2026 Dates\n\n\n\n\n\n10 June 2026\n\n\n\n\n\nTo register your attendance\, email: CEHOWSS@footprintscommunity.org.au or go to Eventbrite https://www.eventbrite.com/o/housing-older-womens-support-service-howss-69032014043\n\n\n\n\n\nHosted by Footprints Community – Housing Older Women’s Support Service
URL:https://thewellbeinghub.com.au/event/coffee-catch-up-for-older-women-experiencing-housing-distress-or-insecurity-4/
LOCATION:Yeppoon Community Centre\, John Street\, Yeppoon\, Q\, Australia
CATEGORIES:Coffee Catch Up,Community event,Housing
ATTACH;FMTTYPE=image/jpeg:https://thewellbeinghub.com.au/wp-content/uploads/2026/02/622393561_1298360998993463_1499134914282156153_n.jpg
END:VEVENT
END:VCALENDAR