BEGIN:VCALENDAR
VERSION:2.0
PRODID:-//The Wellbeing Hub - ECPv6.15.20//NONSGML v1.0//EN
CALSCALE:GREGORIAN
METHOD:PUBLISH
X-ORIGINAL-URL:https://thewellbeinghub.com.au
X-WR-CALDESC:Events for The Wellbeing Hub
REFRESH-INTERVAL;VALUE=DURATION:PT1H
X-Robots-Tag:noindex
X-PUBLISHED-TTL:PT1H
BEGIN:VTIMEZONE
TZID:Australia/Brisbane
BEGIN:STANDARD
TZOFFSETFROM:+1000
TZOFFSETTO:+1000
TZNAME:AEST
DTSTART:20250101T000000
END:STANDARD
END:VTIMEZONE
BEGIN:VEVENT
DTSTART;TZID=Australia/Brisbane:20260118T100000
DTEND;TZID=Australia/Brisbane:20260118T113000
DTSTAMP:20260426T064853
CREATED:20260112T051540Z
LAST-MODIFIED:20260112T051540Z
UID:10000232-1768730400-1768735800@thewellbeinghub.com.au
SUMMARY:Dads Group! Surf Lifesaving Info Session
DESCRIPTION:Join Dads Group and Yeppoon Surf Life Saving Club for a fun\, informative session on keeping kids (ages 0–12) safe at the beach.\n\nLearn essential tips from local lifesavers\, enjoy a relaxed chat with other parents\, and build confidence for a safe summer by the sea!\n\nThis is an opportunity for mums and dads to learn about the importance of beach safety for your little ones!\n\nBook your spot today: https://events.humanitix.com/dad-s-group-surf-life-saving…
URL:https://thewellbeinghub.com.au/event/dads-group-surf-lifesaving-info-session/
LOCATION:Yeppoon Surf Lifesaving Club\, Anzac Parade\, Yeppoon\, Queensland\, 4703\, Australia
CATEGORIES:Dad's group
ATTACH;FMTTYPE=image/jpeg:https://thewellbeinghub.com.au/wp-content/uploads/2026/01/593288082_10163449837525973_3011840481810218447_n.jpg
END:VEVENT
END:VCALENDAR