BEGIN:VCALENDAR
VERSION:2.0
PRODID:-//The Wellbeing Hub - ECPv6.15.20//NONSGML v1.0//EN
CALSCALE:GREGORIAN
METHOD:PUBLISH
X-ORIGINAL-URL:https://thewellbeinghub.com.au
X-WR-CALDESC:Events for The Wellbeing Hub
REFRESH-INTERVAL;VALUE=DURATION:PT1H
X-Robots-Tag:noindex
X-PUBLISHED-TTL:PT1H
BEGIN:VTIMEZONE
TZID:Australia/Brisbane
BEGIN:STANDARD
TZOFFSETFROM:+1000
TZOFFSETTO:+1000
TZNAME:AEST
DTSTART:20250101T000000
END:STANDARD
END:VTIMEZONE
BEGIN:VEVENT
DTSTART;TZID=Australia/Brisbane:20260327T163000
DTEND;TZID=Australia/Brisbane:20260327T190000
DTSTAMP:20260423T222202
CREATED:20260319T034423Z
LAST-MODIFIED:20260319T034423Z
UID:10002452-1774629000-1774638000@thewellbeinghub.com.au
SUMMARY:Joy in Motion Flow Night
DESCRIPTION:Come share the Joy of Music \, movement\, play and expression \, fun with poi\, staff\, hula hoops\, dapo\, silk fans\, or whichever flow toy you love most!\n\nNever tried flow before? Perfect! Just bring yourself\, an open mind\, and a sense of curiosity.\nWhether you’re spinning\, twirling\, or simply soaking up the vibes\, Flow Nights are all about connection\, creativity\, and FUN.\n\n Special for this night: A short discussion about my humanitarian journey to Laos \, hear about the project\, the kids\, and the magic of sharing joy across the world thanks to this beautiful community!\n A few short light & fire performances to inspire movement and wonder as the night unfolds\n Bring a chair or cosy blanket to nest under the night sky\, and your favourite flow toys and snacks !\nLet’s move\, play\, and flow together
URL:https://thewellbeinghub.com.au/event/joy-in-motion-flow-night-3/
LOCATION:Emu Park
CATEGORIES:Community event,Dance,Family friendly
ATTACH;FMTTYPE=image/jpeg:https://thewellbeinghub.com.au/wp-content/uploads/2025/11/joy.jpg
END:VEVENT
END:VCALENDAR