BEGIN:VCALENDAR
VERSION:2.0
PRODID:-//The Wellbeing Hub - ECPv6.15.20//NONSGML v1.0//EN
CALSCALE:GREGORIAN
METHOD:PUBLISH
X-WR-CALNAME:The Wellbeing Hub
X-ORIGINAL-URL:https://thewellbeinghub.com.au
X-WR-CALDESC:Events for The Wellbeing Hub
REFRESH-INTERVAL;VALUE=DURATION:PT1H
X-Robots-Tag:noindex
X-PUBLISHED-TTL:PT1H
BEGIN:VTIMEZONE
TZID:Australia/Brisbane
BEGIN:STANDARD
TZOFFSETFROM:+1000
TZOFFSETTO:+1000
TZNAME:AEST
DTSTART:20250101T000000
END:STANDARD
END:VTIMEZONE
BEGIN:VEVENT
DTSTART;TZID=Australia/Brisbane:20260412T083000
DTEND;TZID=Australia/Brisbane:20260412T133000
DTSTAMP:20260420T112126
CREATED:20260202T052934Z
LAST-MODIFIED:20260202T052934Z
UID:10000287-1775982600-1776000600@thewellbeinghub.com.au
SUMMARY:CQ Wedding Expo
DESCRIPTION:Your wedding planning era starts here.  See you at the CQ Wedding Expo Yeppoon!\n\n\nYeppoon Town Hall\n Sunday\, 12th April 2026\n 8:30am til 1:30pm\n $5 door entry per person\, children 14 & under free
URL:https://thewellbeinghub.com.au/event/cq-wedding-expo-2/
LOCATION:Yeppoon Town Hall\, Normanby Street\, Yeppoon\, Queensalnd\, 4703\, Australia
CATEGORIES:Expo,Wedding
ATTACH;FMTTYPE=image/jpeg:https://thewellbeinghub.com.au/wp-content/uploads/2026/02/619388665_1400544882117934_4637410408459559752_n.jpg
ORGANIZER;CN="CQ Wedding Expo":MAILTO:cqweddingexpo@outlook.com
END:VEVENT
END:VCALENDAR