BEGIN:VCALENDAR
VERSION:2.0
PRODID:-//The Wellbeing Hub - ECPv6.15.20//NONSGML v1.0//EN
CALSCALE:GREGORIAN
METHOD:PUBLISH
X-ORIGINAL-URL:https://thewellbeinghub.com.au
X-WR-CALDESC:Events for The Wellbeing Hub
REFRESH-INTERVAL;VALUE=DURATION:PT1H
X-Robots-Tag:noindex
X-PUBLISHED-TTL:PT1H
BEGIN:VTIMEZONE
TZID:Australia/Brisbane
BEGIN:STANDARD
TZOFFSETFROM:+1000
TZOFFSETTO:+1000
TZNAME:AEST
DTSTART:20250101T000000
END:STANDARD
END:VTIMEZONE
BEGIN:VEVENT
DTSTART;TZID=Australia/Brisbane:20260402T100000
DTEND;TZID=Australia/Brisbane:20260405T160000
DTSTAMP:20260422T021215
CREATED:20260319T013409Z
LAST-MODIFIED:20260319T033846Z
UID:10000510-1775124000-1775404800@thewellbeinghub.com.au
SUMMARY:Yeppoon Playability
DESCRIPTION:
URL:https://thewellbeinghub.com.au/event/yeppoon-playability/2026-04-02/
LOCATION:Yeppoon Show Grounds\, Morris Street\, Yeppoon\, Queensland\, Australia
CATEGORIES:Family friendly,Kid friendly
ATTACH;FMTTYPE=image/jpeg:https://thewellbeinghub.com.au/wp-content/uploads/2026/03/653711389_907443078849836_7305843221958883784_n.jpg
END:VEVENT
BEGIN:VEVENT
DTSTART;TZID=Australia/Brisbane:20260402T173000
DTEND;TZID=Australia/Brisbane:20260402T200000
DTSTAMP:20260422T021215
CREATED:20260320T063515Z
LAST-MODIFIED:20260320T063515Z
UID:10002515-1775151000-1775160000@thewellbeinghub.com.au
SUMMARY:Movie at the Park
DESCRIPTION:Movie at the Park – Emu Park!\n\n\n\nJoin us for a FREE community movie night under the stars! \n\n\n\n Emu Park Primary School\n Thursday 2 April 2026\n From 5:30pm | Movie approx. 6:15pm\n\n\n Easter Egg Hunt\n Mega Slide\n Food available\n Zootopia 2 (PG)\n\n\nBring a blanket and the whole family!
URL:https://thewellbeinghub.com.au/event/movie-at-the-park/
LOCATION:Emu Park State School\, 26 Fountain Street\, Emu Park\, QLD\, Australia
CATEGORIES:Community event,Family friendly,Free event
ATTACH;FMTTYPE=image/jpeg:https://thewellbeinghub.com.au/wp-content/uploads/2026/03/650223866_939270621814521_4612463913228955330_n-1.jpg
END:VEVENT
BEGIN:VEVENT
DTSTART;TZID=Australia/Brisbane:20260402T180000
DTEND;TZID=Australia/Brisbane:20260402T200000
DTSTAMP:20260422T021215
CREATED:20260401T012624Z
LAST-MODIFIED:20260401T012624Z
UID:10003421-1775152800-1775160000@thewellbeinghub.com.au
SUMMARY:Tides & tunes
DESCRIPTION: Grab some takeaway or pack a picnic dinner and head down to the Yeppoon foreshore to see local musicians playing live at the amphitheatre during the school holidays. 
URL:https://thewellbeinghub.com.au/event/tides-tunes-11/2026-04-02/
LOCATION:Main Stage\, Yeppoon Beachfront\, Yeppoon\, Qld\, 4703\, Australia
CATEGORIES:Community event,Family friendly,Free event,Live music
ATTACH;FMTTYPE=image/jpeg:https://thewellbeinghub.com.au/wp-content/uploads/2025/12/tides.jpg
END:VEVENT
END:VCALENDAR