BEGIN:VCALENDAR
VERSION:2.0
PRODID:-//The Wellbeing Hub - ECPv6.15.20//NONSGML v1.0//EN
CALSCALE:GREGORIAN
METHOD:PUBLISH
X-WR-CALNAME:The Wellbeing Hub
X-ORIGINAL-URL:https://thewellbeinghub.com.au
X-WR-CALDESC:Events for The Wellbeing Hub
REFRESH-INTERVAL;VALUE=DURATION:PT1H
X-Robots-Tag:noindex
X-PUBLISHED-TTL:PT1H
BEGIN:VTIMEZONE
TZID:Australia/Brisbane
BEGIN:STANDARD
TZOFFSETFROM:+1000
TZOFFSETTO:+1000
TZNAME:AEST
DTSTART:20250101T000000
END:STANDARD
END:VTIMEZONE
BEGIN:VEVENT
DTSTART;TZID=Australia/Brisbane:20260406T090000
DTEND;TZID=Australia/Brisbane:20260406T120000
DTSTAMP:20260422T020913
CREATED:20260330T023743Z
LAST-MODIFIED:20260330T023743Z
UID:10003416-1775466000-1775476800@thewellbeinghub.com.au
SUMMARY:Easter School Holidays Pony Crazy Event
DESCRIPTION: PONY CRAZY – School Holiday Fun! Only $25 per rider – No need to book!\n\nLet the kids enjoy a morning of pony rides\, games\, and outdoor fun at Capricorn Equestrian Centre!\n Pony Crazy Dates & Times: Week 1: Saturday 4th April & Monday 6th April Week 2: Monday 13th April & Tuesday 14th 9 AM – 12 PM (rides finish at 11:30 AM) 291 Mt. Wheeler Road – via Makays Rd\, BONDOOLAhttps://www.capricornequestrian.com.au/directions $25 per child who rides (stay as long or as little as you like)\n\n Activities Include: Pony rides x 2 Colouring competition Play mat\, sandpit & lasso fun Dress-ups & donkeys to pat Open space to run & play\n Parents can relax with complimentary tea or coffee while watching the fun. Sausage sizzle & drinks available for purchase (BYO morning tea welcome!) Closed-toe shoes required for riders – helmets provided\n\nNo need to book! for Pony Crazy Just click “Going” to help us with staffing.\n More info: http://www.capricornequestrian.com.au/school-holiday… Directions: www.capricornequestrian.com.au/directions\n Horsemanship Lessons – $100 / RiderLearn safe horse handling & riding skills!\n Kids’ Horsemanship (Ages 10-15) – $100 for 3 hours Saturday 4th April & Monday 13th April  2 – 5 PM\n All-Ages Horsemanship (Ages 13 & Up) – $100 for 3 hours Monday 6th April\, & Tuesday 14th April |  2 – 5 PM\n Learn ground skills\, balance\, kind hands\, & safe riding techniques Great for beginners & adults who want to ride with their kids\n BOOKINGS ESSENTIAL for the horsemanship classes to reserve your spot! Bookings online via this linkhttps://book.squareup.com/…/location/L9102CQDRJ1P7/classes\nBEST DIRECTIONS: https://www.capricornequestrian.com.au/directions\nFor more informationhttps://www.capricornequestrian.com.au/school-holiday…Call 0413 483 850
URL:https://thewellbeinghub.com.au/event/easter-school-holidays-pony-crazy-event/2026-04-06/
LOCATION:Capricorn Equestrian Centre\, 291 Mt Wheeler Road\, Cawarral
CATEGORIES:Family friendly,School holiday activity
ATTACH;FMTTYPE=image/jpeg:https://thewellbeinghub.com.au/wp-content/uploads/2026/03/650414113_1759461515360163_1675387764671050690_n.jpg
END:VEVENT
END:VCALENDAR