BEGIN:VCALENDAR
VERSION:2.0
PRODID:-//The Wellbeing Hub - ECPv6.15.20//NONSGML v1.0//EN
CALSCALE:GREGORIAN
METHOD:PUBLISH
X-ORIGINAL-URL:https://thewellbeinghub.com.au
X-WR-CALDESC:Events for The Wellbeing Hub
REFRESH-INTERVAL;VALUE=DURATION:PT1H
X-Robots-Tag:noindex
X-PUBLISHED-TTL:PT1H
BEGIN:VTIMEZONE
TZID:Australia/Brisbane
BEGIN:STANDARD
TZOFFSETFROM:+1000
TZOFFSETTO:+1000
TZNAME:AEST
DTSTART:20250101T000000
END:STANDARD
END:VTIMEZONE
BEGIN:VEVENT
DTSTART;TZID=Australia/Brisbane:20260407T090000
DTEND;TZID=Australia/Brisbane:20260407T110000
DTSTAMP:20260422T021301
CREATED:20260401T230419Z
LAST-MODIFIED:20260401T230419Z
UID:10003442-1775552400-1775559600@thewellbeinghub.com.au
SUMMARY:Easter 2026 School Holiday Activities
DESCRIPTION:It’s time for some school holiday fun!\n\nBring the kids to a morning of fun outdoor activities these school holidays at the Rockhampton Heritage Village! Heaps of fun things to do\, from 9am to 11am on Tuesday\, Wednesday and Thursday of the school holidays.\n\nParental supervision\, hats & enclosed shoes required.\n\nArnold’s cafe open for refreshments and a sausage sizzle run by the Friends of the Village\, cash only.\n9am to 10.30am – Vintage car rides9am to 11am – Animal feeding9am to 11am – Vintage games\nPlus access to the Heritage Village and live demonstrations of our heritage displays.\nENTRY: $6 per person.Entry fee to School Holiday Activities includes all rides!\nNo pets allowed (service animals excepted).Please note: Our vintage vehicles sometimes experience mechanical issues that may prevent them from operating.
URL:https://thewellbeinghub.com.au/event/easter-2026-school-holiday-activities/2026-04-07/
LOCATION:Rockhampton Heritage Village\, 296 Boundary Road\, Rockhampton\, Queensland\, Australia
CATEGORIES:Family friendly,Kid friendly,School holiday activity
ATTACH;FMTTYPE=image/jpeg:https://thewellbeinghub.com.au/wp-content/uploads/2026/04/629266077_1310262864454176_8248636973257625024_n.jpg
ORGANIZER;CN="Rockhampton Heritage Village":MAILTO:rhv@rrc.qld.gov.au
END:VEVENT
BEGIN:VEVENT
DTSTART;TZID=Australia/Brisbane:20260407T093000
DTEND;TZID=Australia/Brisbane:20260407T130000
DTSTAMP:20260422T021301
CREATED:20260401T224718Z
LAST-MODIFIED:20260401T224718Z
UID:10003436-1775554200-1775566800@thewellbeinghub.com.au
SUMMARY:Creative Kids Fun Factory
DESCRIPTION:Get ready for a BIG morning of colour\, creativity and non-stop fun these school holidays!​From 9:30am – 11:00am\, Beaman park transforms into a high-energy Circus & Bubble Playground!​Step right into Top Choice Entertainments interactive Circus Play Space\, where kids can spin plates\, twirl ribbons\, master hula hoops and try awesome circus tricks.​Then drift into the Bubble Play Space\, where giant bubble ropes create magical floating masterpieces in the sunshine. It’s movement\, laughter and hands-on fun all morning long!​From 11:00am – 1:00pm\, the action moves to Yeppoon Town Hall\, where the hall becomes a buzzing Creative Fun Factory!Kids can: Jump into energetic drum workshops and bring on the beats Learn cool tricks at our balloon making workshops Get creative in art classes with Aphrodite Art School making pinwheels Make other hands-on crafts with Top Choice Entertainments Relax at the colouring station Recharge in the chill-out rest zone\nDesigned especially for 5–15 year olds\, this action-packed event is all about trying new skills\, making friends\, building confidence and having an absolute blast!\nDon’t miss this ultimate school holiday experience. No bookings required.
URL:https://thewellbeinghub.com.au/event/creative-kids-fun-factory/2026-04-07/
LOCATION:Beaman Park\, James Street\, Yeppoon
CATEGORIES:Community event,Easter,Family friendly,Free event,School holiday activity
ATTACH;FMTTYPE=image/jpeg:https://thewellbeinghub.com.au/wp-content/uploads/2026/04/654228461_1374848551338999_6632595623481787735_n-2.jpg
END:VEVENT
END:VCALENDAR