BEGIN:VCALENDAR
VERSION:2.0
PRODID:-//The Wellbeing Hub - ECPv6.15.20//NONSGML v1.0//EN
CALSCALE:GREGORIAN
METHOD:PUBLISH
X-WR-CALNAME:The Wellbeing Hub
X-ORIGINAL-URL:https://thewellbeinghub.com.au
X-WR-CALDESC:Events for The Wellbeing Hub
REFRESH-INTERVAL;VALUE=DURATION:PT1H
X-Robots-Tag:noindex
X-PUBLISHED-TTL:PT1H
BEGIN:VTIMEZONE
TZID:Australia/Brisbane
BEGIN:STANDARD
TZOFFSETFROM:+1000
TZOFFSETTO:+1000
TZNAME:AEST
DTSTART:20250101T000000
END:STANDARD
END:VTIMEZONE
BEGIN:VEVENT
DTSTART;TZID=Australia/Brisbane:20260409T100000
DTEND;TZID=Australia/Brisbane:20260412T160000
DTSTAMP:20260423T202852
CREATED:20260319T013409Z
LAST-MODIFIED:20260319T033846Z
UID:10000511-1775728800-1776009600@thewellbeinghub.com.au
SUMMARY:Yeppoon Playability
DESCRIPTION:
URL:https://thewellbeinghub.com.au/event/yeppoon-playability/2026-04-09/
LOCATION:Yeppoon Show Grounds\, Morris Street\, Yeppoon\, Queensland\, Australia
CATEGORIES:Family friendly,Kid friendly
ATTACH;FMTTYPE=image/jpeg:https://thewellbeinghub.com.au/wp-content/uploads/2026/03/653711389_907443078849836_7305843221958883784_n.jpg
END:VEVENT
BEGIN:VEVENT
DTSTART;TZID=Australia/Brisbane:20260412T130000
DTEND;TZID=Australia/Brisbane:20260412T150000
DTSTAMP:20260423T202852
CREATED:20260401T012624Z
LAST-MODIFIED:20260401T012624Z
UID:10003428-1775998800-1776006000@thewellbeinghub.com.au
SUMMARY:Tides & tunes
DESCRIPTION: Grab some takeaway or pack a picnic dinner and head down to the Yeppoon foreshore to see local musicians playing live at the amphitheatre during the school holidays. 
URL:https://thewellbeinghub.com.au/event/tides-tunes-11/2026-04-12/
LOCATION:Main Stage\, Yeppoon Beachfront\, Yeppoon\, Qld\, 4703\, Australia
CATEGORIES:Community event,Family friendly,Free event,Live music
ATTACH;FMTTYPE=image/jpeg:https://thewellbeinghub.com.au/wp-content/uploads/2025/12/tides.jpg
END:VEVENT
END:VCALENDAR