BEGIN:VCALENDAR
VERSION:2.0
PRODID:-//The Wellbeing Hub - ECPv6.15.20//NONSGML v1.0//EN
CALSCALE:GREGORIAN
METHOD:PUBLISH
X-ORIGINAL-URL:https://thewellbeinghub.com.au
X-WR-CALDESC:Events for The Wellbeing Hub
REFRESH-INTERVAL;VALUE=DURATION:PT1H
X-Robots-Tag:noindex
X-PUBLISHED-TTL:PT1H
BEGIN:VTIMEZONE
TZID:Australia/Brisbane
BEGIN:STANDARD
TZOFFSETFROM:+1000
TZOFFSETTO:+1000
TZNAME:AEST
DTSTART:20240101T000000
END:STANDARD
END:VTIMEZONE
BEGIN:VEVENT
DTSTART;TZID=Australia/Brisbane:20260307T080000
DTEND;TZID=Australia/Brisbane:20260307T140000
DTSTAMP:20260422T090501
CREATED:20260304T021502Z
LAST-MODIFIED:20260304T021502Z
UID:10000425-1772870400-1772892000@thewellbeinghub.com.au
SUMMARY:Coomoonity Play Cafe Open Day!
DESCRIPTION:TAKE TWO! It’s been FIVE MONTHS – let’s celebrate our Half Birthday!\n\nPop on in for a MOOTASTIC morning of FUN — packed with all your favourite CoMOONity Play Café activities!\nWe’ll have:\n (Not So) Messy Moo in the Barnyard Take-home Craft in the Wonderland Soft Play in the Rainbow Room Music & chill vibes in the Music Meadow Open Play for ALL ages — ALL DAY! MOO Melodies in the MOOdio (10:30am) Make + Mingle in the MOO Den (10am) Adopt a Plushie in the MOOvement Room\n PLUS — Meet & Greets with Maggie Moo herself and giveaways galore!\n Spread the Word \nTry every one of our programs for one MOOtastic DayIt’s the perfect chance to see what we’re all about — without the full program cost.\nTag your friends\, grab your little MOO-vers\, and join us for a day full of play\, giggles\, and MOOgical moments! 
URL:https://thewellbeinghub.com.au/event/coomoonity-play-cafe-open-day/
LOCATION:Coomoonity Play Cafe\, 155 Alma Street\, Rockhampton\, Queensland\, Australia
CATEGORIES:Family friendly,Open Day
ATTACH;FMTTYPE=image/jpeg:https://thewellbeinghub.com.au/wp-content/uploads/2026/03/601309883_1165541975757385_2471378303607725820_n.jpg
ORGANIZER;CN="Coomoonity Play Cafe":MAILTO:hello@comoonityplaycafe.com.au
END:VEVENT
BEGIN:VEVENT
DTSTART;TZID=Australia/Brisbane:20260226T100000
DTEND;TZID=Australia/Brisbane:20260301T160000
DTSTAMP:20260422T090501
CREATED:20260226T011209Z
LAST-MODIFIED:20260226T012101Z
UID:10000411-1772100000-1772380800@thewellbeinghub.com.au
SUMMARY:CQ Playabilities
DESCRIPTION:
URL:https://thewellbeinghub.com.au/event/cq-playabilities/
LOCATION:Yeppoon Show Grounds\, Morris Street\, Yeppoon\, Queensland\, Australia
CATEGORIES:Family friendly,Kid friendly
ATTACH;FMTTYPE=image/jpeg:https://thewellbeinghub.com.au/wp-content/uploads/2026/02/640720079_891259757134835_2223860649285669121_n.jpg
END:VEVENT
BEGIN:VEVENT
DTSTART;TZID=Australia/Brisbane:20260214T080000
DTEND;TZID=Australia/Brisbane:20260214T100000
DTSTAMP:20260422T090501
CREATED:20260212T020748Z
LAST-MODIFIED:20260212T020748Z
UID:10000330-1771056000-1771063200@thewellbeinghub.com.au
SUMMARY:Tumble & Play Launch Party
DESCRIPTION:We’re getting ready to launch  \nA fun morning for the whole family\, with soft play for little ones and a playground for older siblings.Pop by\, say hi\, and see what we’re all about! $20 per child\, includes a free coffee & tickets are payable on the day 
URL:https://thewellbeinghub.com.au/event/tumble-play-launch-party/
LOCATION:The Station\, James Street\, Yeppoon\, Queensland\, Australia
CATEGORIES:Family friendly,Kid friendly
ATTACH;FMTTYPE=image/jpeg:https://thewellbeinghub.com.au/wp-content/uploads/2026/02/628246775_122105739183234474_1915836955232218102_n.jpg
END:VEVENT
BEGIN:VEVENT
DTSTART;TZID=Australia/Brisbane:20260207T150000
DTEND;TZID=Australia/Brisbane:20260207T170000
DTSTAMP:20260422T090501
CREATED:20260204T231201Z
LAST-MODIFIED:20260204T231201Z
UID:10000306-1770476400-1770483600@thewellbeinghub.com.au
SUMMARY:Community Rugby
DESCRIPTION:This Saturday\, 7th of February Cooee Bay Field\n\nI’ll be running a FREE elite rugby training session for all ages – juniors\, seniors\, parents\, newcomers\, and anyone curious about the game.\nWe’ve been engaged by Cap Coast Crocs to deliver a fun\, upbeat\, high-energy session that’s all about:\nSkill developmentConfidence & game understandingCommunity connectionA club culture where everyone is welcome\n\nNo pressure. No egos. Just quality coaching\, good energy\, and a chance to get involved.\n\n Come down\, get a run\, bring the kids\, bring a mate.Rugby’s better when the whole community’s involved.See you there
URL:https://thewellbeinghub.com.au/event/community-rugby/
LOCATION:Yeppoon Rugby Field\, Chrisney Street\, Cooee
CATEGORIES:Community event,Family friendly
END:VEVENT
BEGIN:VEVENT
DTSTART;TZID=Australia/Brisbane:20260126T120000
DTEND;TZID=Australia/Brisbane:20260126T203000
DTSTAMP:20260422T090501
CREATED:20260112T044821Z
LAST-MODIFIED:20260112T044821Z
UID:10000221-1769428800-1769459400@thewellbeinghub.com.au
SUMMARY:Great Australia Day Beach Party
DESCRIPTION:Celebrate Australia Day with a day of family fun at the Yeppoon foreshore.\nFamily fun run\, beach tennis\, beach games\, market stalls\, food vans\, sand sculpture competition\, ice cream licking competition\, amusement rides\, a full stage program and fireworks!\nMore details to follow\nFor more information check out the Facebook page https://www.facebook.com/greataustraliadaybeachparty
URL:https://thewellbeinghub.com.au/event/great-australia-day-beach-party/
LOCATION:Main Stage\, Yeppoon Beachfront\, Yeppoon\, Qld\, 4703\, Australia
CATEGORIES:Community event,Family friendly,Free event
ATTACH;FMTTYPE=image/jpeg:https://thewellbeinghub.com.au/wp-content/uploads/2026/01/607996175_1299136215576170_6838323366332900080_n.jpg
END:VEVENT
BEGIN:VEVENT
DTSTART;TZID=Australia/Brisbane:20260125T093000
DTEND;TZID=Australia/Brisbane:20260125T123000
DTSTAMP:20260422T090501
CREATED:20260121T062655Z
LAST-MODIFIED:20260121T062655Z
UID:10000266-1769333400-1769344200@thewellbeinghub.com.au
SUMMARY:Nature Play - Playgroup January
DESCRIPTION:𝔸𝕣𝕖 𝕪𝕠𝕦 𝕣𝕖𝕒𝕕𝕪 𝕗𝕠𝕣 𝕒 𝕗𝕦𝕟 𝕞𝕠𝕣𝕟𝕚𝕟𝕘 𝕚𝕟 𝕟𝕒𝕥𝕦𝕣𝕖?\n\nThen you have the opportunity to join our next playgroup. It is on Sunday 25th January 2026 from 9.30 am till 12.30 pm.\n\nAny of you that visited my stall at the Holistic Pregnancy\, Birth and Parenting Expo received a voucher you can use as your ticket. Please note\, you still need to register by sending a DM.\n\nOur playgroups are unstructured play\, where the children get to choose what area they like to play in. We have different environments and the children are free to roam. We encourage all adults to come and enjoy time together and maybe play along.\nThis playgroup is for all children\, although aimed for 1 to 8 years old.\n\nThe environments you will experience are: Mud kitchen with real (unplugged) fridge\, microwaves\, washing machine\, juicer etc. Pallet ‘ship’ fort to climb\, slide and hide in Dirt pile Loose part play Art with water paint\, draw with charcoal or create your own binoculus And more\nAt 11 am we will as tradition start learning to start a fire with a flint and get the fire going in the firepit and if all is well\, we will make popcorn over the fire. You are welcome to bring something too\, if you like to cook some snacks over the fire for your family.\n\nThis will be a beautiful day out for the whole family. You are welcome to bring a picnic blanket or camping chairs to relax while the children play.\nThe price for this morning is $20 per child up to 10 yo. Parents\, grandparents\, and 6 months and younger are welcome for free!\n\nWe have a limit of spots for the day\, so please register either via email or DM with name\, gender of child and age of child\, and I will confirm when/if you are on the list.\nPlease bring a hat\, spare clothes\, towel\, snacks\, water bottle\, and insect repellent.\n\nPlease bring exact cash\, to make it easier at the gate.\nThis will be our last playgroup for now\, so join this one if you ever considered it.\nI look forward to welcome you to our paddock.\nLots of Nature vibes\,Vinnie   
URL:https://thewellbeinghub.com.au/event/nature-play-playgroup-january/
LOCATION:TBA\, Available from the organiser
CATEGORIES:Family friendly,Kid friendly,Play Group
ATTACH;FMTTYPE=image/jpeg:https://thewellbeinghub.com.au/wp-content/uploads/2026/01/616158409_868552709125417_6227207126047426664_n.jpg
END:VEVENT
BEGIN:VEVENT
DTSTART;TZID=Australia/Brisbane:20260124T180000
DTEND;TZID=Australia/Brisbane:20260124T200000
DTSTAMP:20260422T090501
CREATED:20260112T044642Z
LAST-MODIFIED:20260112T044642Z
UID:10000220-1769277600-1769284800@thewellbeinghub.com.au
SUMMARY:Tides & Tunes
DESCRIPTION: Grab some takeaway or pack a picnic dinner and head down to the Yeppoon foreshore to see local musicians playing live at the amphitheatre during the school holidays.  \n  \nSaturday 24 January / Raining Roses
URL:https://thewellbeinghub.com.au/event/tides-tunes-10/
LOCATION:Main Stage\, Yeppoon Beachfront\, Yeppoon\, Qld\, 4703\, Australia
CATEGORIES:Community event,Family friendly,Free event
ATTACH;FMTTYPE=image/jpeg:https://thewellbeinghub.com.au/wp-content/uploads/2026/01/612027342_1315903637233491_2264223858565950400_n.jpg
END:VEVENT
BEGIN:VEVENT
DTSTART;TZID=Australia/Brisbane:20260123T180000
DTEND;TZID=Australia/Brisbane:20260123T200000
DTSTAMP:20260422T090501
CREATED:20260112T044520Z
LAST-MODIFIED:20260112T044520Z
UID:10000219-1769191200-1769198400@thewellbeinghub.com.au
SUMMARY:Tides & Tunes
DESCRIPTION: Grab some takeaway or pack a picnic dinner and head down to the Yeppoon foreshore to see local musicians playing live at the amphitheatre during the school holidays.  \n  \nFriday 23 January / Quiet Carolina
URL:https://thewellbeinghub.com.au/event/tides-tunes-9/
LOCATION:Main Stage\, Yeppoon Beachfront\, Yeppoon\, Qld\, 4703\, Australia
CATEGORIES:Community event,Family friendly,Free event
ATTACH;FMTTYPE=image/jpeg:https://thewellbeinghub.com.au/wp-content/uploads/2026/01/612027342_1315903637233491_2264223858565950400_n.jpg
END:VEVENT
BEGIN:VEVENT
DTSTART;TZID=Australia/Brisbane:20260123T173000
DTEND;TZID=Australia/Brisbane:20260123T203000
DTSTAMP:20260422T090501
CREATED:20260112T045001Z
LAST-MODIFIED:20260112T045001Z
UID:10000222-1769189400-1769200200@thewellbeinghub.com.au
SUMMARY:Pool Party at Yeppoon Lagoon
DESCRIPTION:
URL:https://thewellbeinghub.com.au/event/pool-party-at-yeppoon-lagoon/
LOCATION:Yeppoon Lagoon\, Lagoon Place\, Yeppoon\, Queensland\, Australia
CATEGORIES:Community event,Family friendly,Free event,School holiday activity
ATTACH;FMTTYPE=image/jpeg:https://thewellbeinghub.com.au/wp-content/uploads/2026/01/585754309_853336483741269_3790851577062540106_n.jpg
END:VEVENT
BEGIN:VEVENT
DTSTART;TZID=Australia/Brisbane:20260118T130000
DTEND;TZID=Australia/Brisbane:20260118T150000
DTSTAMP:20260422T090501
CREATED:20260112T044400Z
LAST-MODIFIED:20260112T044400Z
UID:10000218-1768741200-1768748400@thewellbeinghub.com.au
SUMMARY:Tides & Tunes
DESCRIPTION: Grab some takeaway or pack a picnic dinner and head down to the Yeppoon foreshore to see local musicians playing live at the amphitheatre during the school holidays.  \n  \nRESCHEDULED Sunday 18 January 1-3pm / Chris Schick Acoustic
URL:https://thewellbeinghub.com.au/event/tides-tunes-8/
LOCATION:Main Stage\, Yeppoon Beachfront\, Yeppoon\, Qld\, 4703\, Australia
CATEGORIES:Community event,Family friendly,Free event
ATTACH;FMTTYPE=image/jpeg:https://thewellbeinghub.com.au/wp-content/uploads/2026/01/612027342_1315903637233491_2264223858565950400_n.jpg
END:VEVENT
BEGIN:VEVENT
DTSTART;TZID=Australia/Brisbane:20260117T180000
DTEND;TZID=Australia/Brisbane:20260117T210000
DTSTAMP:20260422T090501
CREATED:20260114T010405Z
LAST-MODIFIED:20260114T010405Z
UID:10000235-1768672800-1768683600@thewellbeinghub.com.au
SUMMARY:Movie at the Park - Byfield
DESCRIPTION: Movie in the Park: Byfield\n\nJonin us for: How to train your dragon! \nThere will be plenty of food\, snacks and drinks on offer! Come together to kickstart the year with your Byfield community!\n\nIt’s the perfect night out for families\, friends\, and gamers alike — chill vibes\, good food\, and a movie everyone will love! \n\nEvent start time : 6pm – come along to get some food\, a drink\, catch up and enjoy the atmosphere. Movie starts at approx. 7:15pm\, once the sun goes down!\nMovie end time: approx. 8:45pm!
URL:https://thewellbeinghub.com.au/event/movie-at-the-park-byfield/
LOCATION:Raspberry Tree Creek Homestead\, 2289 Byfield Road\, Byfield\, Quee\, Australia
CATEGORIES:Community event,Family friendly,Free event,Kid friendly,School holiday activity
ATTACH;FMTTYPE=image/jpeg:https://thewellbeinghub.com.au/wp-content/uploads/2026/01/592218039_859327543142163_5851366232260581887_n.jpg
END:VEVENT
BEGIN:VEVENT
DTSTART;TZID=Australia/Brisbane:20260117T180000
DTEND;TZID=Australia/Brisbane:20260117T200000
DTSTAMP:20260422T090501
CREATED:20260112T044249Z
LAST-MODIFIED:20260112T044249Z
UID:10000217-1768672800-1768680000@thewellbeinghub.com.au
SUMMARY:Tides & Tunes
DESCRIPTION: Grab some takeaway or pack a picnic dinner and head down to the Yeppoon foreshore to see local musicians playing live at the amphitheatre during the school holidays.  \n  \nSaturday 17 January / Celeste Caught feat A2Z Entertainment
URL:https://thewellbeinghub.com.au/event/tides-tunes-7/
LOCATION:Main Stage\, Yeppoon Beachfront\, Yeppoon\, Qld\, 4703\, Australia
CATEGORIES:Community event,Family friendly,Free event
ATTACH;FMTTYPE=image/jpeg:https://thewellbeinghub.com.au/wp-content/uploads/2026/01/612027342_1315903637233491_2264223858565950400_n.jpg
END:VEVENT
BEGIN:VEVENT
DTSTART;TZID=Australia/Brisbane:20260116T180000
DTEND;TZID=Australia/Brisbane:20260116T200000
DTSTAMP:20260422T090501
CREATED:20260112T044113Z
LAST-MODIFIED:20260112T044113Z
UID:10000216-1768586400-1768593600@thewellbeinghub.com.au
SUMMARY:Tides & Tunes
DESCRIPTION: Grab some takeaway or pack a picnic dinner and head down to the Yeppoon foreshore to see local musicians playing live at the amphitheatre during the school holidays. \nFriday 16 January / Thickshake
URL:https://thewellbeinghub.com.au/event/tides-tunes-6/
LOCATION:Main Stage\, Yeppoon Beachfront\, Yeppoon\, Qld\, 4703\, Australia
CATEGORIES:Community event,Family friendly,Live music
ATTACH;FMTTYPE=image/jpeg:https://thewellbeinghub.com.au/wp-content/uploads/2026/01/612027342_1315903637233491_2264223858565950400_n.jpg
END:VEVENT
BEGIN:VEVENT
DTSTART;TZID=Australia/Brisbane:20260114T173000
DTEND;TZID=Australia/Brisbane:20260118T210000
DTSTAMP:20260422T090501
CREATED:20260114T030603Z
LAST-MODIFIED:20260114T030603Z
UID:10000255-1768411800-1768770000@thewellbeinghub.com.au
SUMMARY:Rockhampton Family Carnival
DESCRIPTION: ROCKHAMPTON FAMILY CARNIVAL – JAN 7TH TO 18TH! \nThe biggest\, brightest\, most FUN-filled event of the school holidays is BACK! Gather the kids\, call your mates\, and get ready for 12 epic nights of rides\, food\, games\, prizes\, and themed entertainment at the Rockhampton Showgrounds — and guess what? ENTRY IS 100% FREE into the event! \n\n Dates: 7th – 18th January Time: 5:30pm – 9:00pm (Gates open at 5pm!) Location: Robert Schwarten Pavilion\, Rockhampton Showgrounds Entry: FREE for everyone!\n\n What’s Waiting for You?\n Thrilling rides for little ones and adrenaline lovers Mouthwatering carnival food Sideshow alley games where YOU can win awesome prizes Showbags packed with goodies to take home\n Unlimited Ride Passes\n $45 per person\, per sessionGo wild with unlimited rides — or grab individual ride tickets on the night!\n\n SPECIAL THEMES & SUPER SAVINGS!\nThese nights are BIG — don’t miss them! \n WEDNESDAY WILD SAVINGS – 7th & 14th January ONLY!Get ready for MIDWEEK MADNESS! When you buy a child’s armband\, one parent rides FREE! That’s right — you ride right alongside them without paying a cent extra! The ultimate Wednesday bonus! \n Country & Western Night – Friday\, 9th JanuaryYEEEHAW! Dust off your cowboy hats and boots! Meet the adorable Eden Bann Cuties Animal Farm crew\, take on the bucking Mechanical Bull\, and dive into our hilarious Donut Eating Competition! \n Market Night – Saturday\, 10th January (5pm–9pm)A magical mix of stalls\, treats\, gifts\, games\, food\, and carnival vibes! Shop\, snack\, explore\, and enjoy a huge carnival night under the lights! \n Monday Mates Rates – Monday\, 12th JanuaryThe BEST Monday ever! Buy 1 Unlimited Ride Pass\, get the 2nd HALF PRICE! Bring your mate\, your sibling\, your cousin — and double the fun for less! \n Hawaiian Night – Saturday\, 16th JanuaryAloha!  Slip into your brightest Hawaiian shirt and enjoy FREE balloon twisting\, and Hawaiian themed messy play stations for the under-5s! A totally chill\, family-friendly island escape! \n 12 NIGHTS OF NONSTOP FAMILY FUN AWAIT!From thrilling rides to themed nights\, delicious food to exciting games — the Rockhampton Family Carnival is the place to be these holidays! \n Tag your friends\, rally the kids\, and mark your calendars — this is one carnival you WON’T want to miss!
URL:https://thewellbeinghub.com.au/event/rockhampton-family-carnival/
LOCATION:Robert Schwarten Pavillion\, Rockhampton Showgrounds\, Rockhampton\, Queensland\, Australia
CATEGORIES:Family friendly,Kid friendly,School holiday activity
ATTACH;FMTTYPE=image/jpeg:https://thewellbeinghub.com.au/wp-content/uploads/2026/01/583488676_1408742364386001_7559291654669605186_n.jpg
END:VEVENT
BEGIN:VEVENT
DTSTART;TZID=Australia/Brisbane:20251231T160000
DTEND;TZID=Australia/Brisbane:20251231T160000
DTSTAMP:20260422T090501
CREATED:20251126T052151Z
LAST-MODIFIED:20251126T052151Z
UID:10000179-1767196800-1767196800@thewellbeinghub.com.au
SUMMARY:Lure Living Presents NYE Family Event
DESCRIPTION:HEY YEPPOON FAMILIES! Celebrate NYE with the whole family entertained ~ relax while we entertain the kiddies while you’re sipping on a drink from the bar\, watching the sunset on 2025 Includes drink on arrival and food throughout the afternoon Visit lureliving.com.au/visit-1 \n\n\n\nto book your tickets!
URL:https://thewellbeinghub.com.au/event/lure-living-presents-nye-family-event/
LOCATION:Lure Living\, Anzac Parade\, Yeppoon
CATEGORIES:Family friendly,Kid friendly,New Year
ATTACH;FMTTYPE=image/jpeg:https://thewellbeinghub.com.au/wp-content/uploads/2025/11/lur.jpg
END:VEVENT
BEGIN:VEVENT
DTSTART;TZID=Australia/Brisbane:20251227T180000
DTEND;TZID=Australia/Brisbane:20251227T200000
DTSTAMP:20260422T090501
CREATED:20251209T055743Z
LAST-MODIFIED:20251209T055743Z
UID:10000208-1766858400-1766865600@thewellbeinghub.com.au
SUMMARY:Tides & Tunes
DESCRIPTION:Grab some takeaway or pack a picnic dinner and head down to the Yeppoon foreshore to see local musicians playing live at the amphitheatre during the school holidays. \n\nSaturday 27 December / Larren BeanFriday 2 January / Chris Schick AcousticSaturday 3 January / Haileigh FinneyFriday 9 January / FernSaturday 10 January / Donnie & WillFriday 16 January / ThickshakeSaturday 17 January / Celeste Caught feat A2Z EntertainmentFriday 23 January / Quiet CarolinaSaturday 24 January / Raining Roses\n\nThis is a free event presented by Livingstone Shire Council and bookings are not required.
URL:https://thewellbeinghub.com.au/event/tides-tunes-5/
LOCATION:Main Stage\, Yeppoon Beachfront\, Yeppoon\, Qld\, 4703\, Australia
CATEGORIES:Community event,Family friendly,Kid friendly,Live music
ATTACH;FMTTYPE=image/jpeg:https://thewellbeinghub.com.au/wp-content/uploads/2025/12/tides.jpg
END:VEVENT
BEGIN:VEVENT
DTSTART;TZID=Australia/Brisbane:20251226T180000
DTEND;TZID=Australia/Brisbane:20251226T200000
DTSTAMP:20260422T090501
CREATED:20251209T055616Z
LAST-MODIFIED:20251209T055616Z
UID:10000207-1766772000-1766779200@thewellbeinghub.com.au
SUMMARY:Tides & Tunes
DESCRIPTION:Grab some takeaway or pack a picnic dinner and head down to the Yeppoon foreshore to see local musicians playing live at the amphitheatre during the school holidays. \n\nFriday 26 December / Detour WestSaturday 27 December / Larren BeanFriday 2 January / Chris Schick AcousticSaturday 3 January / Haileigh FinneyFriday 9 January / FernSaturday 10 January / Donnie & WillFriday 16 January / ThickshakeSaturday 17 January / Celeste Caught feat A2Z EntertainmentFriday 23 January / Quiet CarolinaSaturday 24 January / Raining Roses\n\nThis is a free event presented by Livingstone Shire Council and bookings are not required.
URL:https://thewellbeinghub.com.au/event/tides-tunes-4/
LOCATION:Main Stage\, Yeppoon Beachfront\, Yeppoon\, Qld\, 4703\, Australia
CATEGORIES:Community event,Family friendly,Free event,Kid friendly,Live music
ATTACH;FMTTYPE=image/jpeg:https://thewellbeinghub.com.au/wp-content/uploads/2025/12/tides.jpg
END:VEVENT
BEGIN:VEVENT
DTSTART;TZID=Australia/Brisbane:20251224T180000
DTEND;TZID=Australia/Brisbane:20251224T200000
DTSTAMP:20260422T090501
CREATED:20251209T055436Z
LAST-MODIFIED:20251209T055436Z
UID:10000206-1766599200-1766606400@thewellbeinghub.com.au
SUMMARY:Tides & Tunes
DESCRIPTION:Grab some takeaway or pack a picnic dinner and head down to the Yeppoon foreshore to see local musicians playing live at the amphitheatre during the school holidays. \n\nWednesday 24 December / Belle HumbleFriday 26 December / Detour WestSaturday 27 December / Larren BeanFriday 2 January / Chris Schick AcousticSaturday 3 January / Haileigh FinneyFriday 9 January / FernSaturday 10 January / Donnie & WillFriday 16 January / ThickshakeSaturday 17 January / Celeste Caught feat A2Z EntertainmentFriday 23 January / Quiet CarolinaSaturday 24 January / Raining Roses\n\nThis is a free event presented by Livingstone Shire Council and bookings are not required.
URL:https://thewellbeinghub.com.au/event/tides-tunes-3/
LOCATION:Main Stage\, Yeppoon Beachfront\, Yeppoon\, Qld\, 4703\, Australia
CATEGORIES:Community event,Family friendly,Free event,Live music
ATTACH;FMTTYPE=image/jpeg:https://thewellbeinghub.com.au/wp-content/uploads/2025/12/tides.jpg
END:VEVENT
END:VCALENDAR