BEGIN:VCALENDAR
VERSION:2.0
PRODID:-//The Wellbeing Hub - ECPv6.15.20//NONSGML v1.0//EN
CALSCALE:GREGORIAN
METHOD:PUBLISH
X-ORIGINAL-URL:https://thewellbeinghub.com.au
X-WR-CALDESC:Events for The Wellbeing Hub
REFRESH-INTERVAL;VALUE=DURATION:PT1H
X-Robots-Tag:noindex
X-PUBLISHED-TTL:PT1H
BEGIN:VTIMEZONE
TZID:Australia/Brisbane
BEGIN:STANDARD
TZOFFSETFROM:+1000
TZOFFSETTO:+1000
TZNAME:AEST
DTSTART:20250101T000000
END:STANDARD
END:VTIMEZONE
BEGIN:VEVENT
DTSTART;TZID=Australia/Brisbane:20261210T093000
DTEND;TZID=Australia/Brisbane:20261210T113000
DTSTAMP:20260420T031304
CREATED:20260401T224331Z
LAST-MODIFIED:20260401T224334Z
UID:10001106-1796895000-1796902200@thewellbeinghub.com.au
SUMMARY:Capricorn Coast Toy Library Borrowing Sessions
DESCRIPTION:
URL:https://thewellbeinghub.com.au/event/capricorn-coast-toy-library-borrowing-sessions-2/2026-12-10/
LOCATION:Cap Coast Toy Library\, Cordingley Street\, Yeppoon\, Queensland\, Australia
CATEGORIES:Family friendly,Kid friendly,Toy Library
ATTACH;FMTTYPE=image/png:https://thewellbeinghub.com.au/wp-content/uploads/2026/03/956cb45a-d80b-4569-b424-efd7af7bdd23.png
END:VEVENT
BEGIN:VEVENT
DTSTART;TZID=Australia/Brisbane:20261210T100000
DTEND;TZID=Australia/Brisbane:20261213T160000
DTSTAMP:20260420T031304
CREATED:20260319T013409Z
LAST-MODIFIED:20260319T033846Z
UID:10000546-1796896800-1797177600@thewellbeinghub.com.au
SUMMARY:Yeppoon Playability
DESCRIPTION:
URL:https://thewellbeinghub.com.au/event/yeppoon-playability/2026-12-10/
LOCATION:Yeppoon Show Grounds\, Morris Street\, Yeppoon\, Queensland\, Australia
CATEGORIES:Family friendly,Kid friendly
ATTACH;FMTTYPE=image/jpeg:https://thewellbeinghub.com.au/wp-content/uploads/2026/03/653711389_907443078849836_7305843221958883784_n.jpg
END:VEVENT
BEGIN:VEVENT
DTSTART;TZID=Australia/Brisbane:20261212T093000
DTEND;TZID=Australia/Brisbane:20261212T113000
DTSTAMP:20260420T031304
CREATED:20260401T224331Z
LAST-MODIFIED:20260401T224334Z
UID:10001107-1797067800-1797075000@thewellbeinghub.com.au
SUMMARY:Capricorn Coast Toy Library Borrowing Sessions
DESCRIPTION:
URL:https://thewellbeinghub.com.au/event/capricorn-coast-toy-library-borrowing-sessions-2/2026-12-12/
LOCATION:Cap Coast Toy Library\, Cordingley Street\, Yeppoon\, Queensland\, Australia
CATEGORIES:Family friendly,Kid friendly,Toy Library
ATTACH;FMTTYPE=image/png:https://thewellbeinghub.com.au/wp-content/uploads/2026/03/956cb45a-d80b-4569-b424-efd7af7bdd23.png
END:VEVENT
BEGIN:VEVENT
DTSTART;TZID=Australia/Brisbane:20261217T093000
DTEND;TZID=Australia/Brisbane:20261217T113000
DTSTAMP:20260420T031304
CREATED:20260401T224331Z
LAST-MODIFIED:20260401T224334Z
UID:10001108-1797499800-1797507000@thewellbeinghub.com.au
SUMMARY:Capricorn Coast Toy Library Borrowing Sessions
DESCRIPTION:
URL:https://thewellbeinghub.com.au/event/capricorn-coast-toy-library-borrowing-sessions-2/2026-12-17/
LOCATION:Cap Coast Toy Library\, Cordingley Street\, Yeppoon\, Queensland\, Australia
CATEGORIES:Family friendly,Kid friendly,Toy Library
ATTACH;FMTTYPE=image/png:https://thewellbeinghub.com.au/wp-content/uploads/2026/03/956cb45a-d80b-4569-b424-efd7af7bdd23.png
END:VEVENT
BEGIN:VEVENT
DTSTART;TZID=Australia/Brisbane:20261217T100000
DTEND;TZID=Australia/Brisbane:20261220T160000
DTSTAMP:20260420T031304
CREATED:20260319T013409Z
LAST-MODIFIED:20260319T033846Z
UID:10000547-1797501600-1797782400@thewellbeinghub.com.au
SUMMARY:Yeppoon Playability
DESCRIPTION:
URL:https://thewellbeinghub.com.au/event/yeppoon-playability/2026-12-17/
LOCATION:Yeppoon Show Grounds\, Morris Street\, Yeppoon\, Queensland\, Australia
CATEGORIES:Family friendly,Kid friendly
ATTACH;FMTTYPE=image/jpeg:https://thewellbeinghub.com.au/wp-content/uploads/2026/03/653711389_907443078849836_7305843221958883784_n.jpg
END:VEVENT
BEGIN:VEVENT
DTSTART;TZID=Australia/Brisbane:20261219T093000
DTEND;TZID=Australia/Brisbane:20261219T113000
DTSTAMP:20260420T031304
CREATED:20260401T224331Z
LAST-MODIFIED:20260401T224334Z
UID:10001109-1797672600-1797679800@thewellbeinghub.com.au
SUMMARY:Capricorn Coast Toy Library Borrowing Sessions
DESCRIPTION:
URL:https://thewellbeinghub.com.au/event/capricorn-coast-toy-library-borrowing-sessions-2/2026-12-19/
LOCATION:Cap Coast Toy Library\, Cordingley Street\, Yeppoon\, Queensland\, Australia
CATEGORIES:Family friendly,Kid friendly,Toy Library
ATTACH;FMTTYPE=image/png:https://thewellbeinghub.com.au/wp-content/uploads/2026/03/956cb45a-d80b-4569-b424-efd7af7bdd23.png
END:VEVENT
BEGIN:VEVENT
DTSTART;TZID=Australia/Brisbane:20261224T093000
DTEND;TZID=Australia/Brisbane:20261224T113000
DTSTAMP:20260420T031304
CREATED:20260401T224331Z
LAST-MODIFIED:20260401T224334Z
UID:10001110-1798104600-1798111800@thewellbeinghub.com.au
SUMMARY:Capricorn Coast Toy Library Borrowing Sessions
DESCRIPTION:
URL:https://thewellbeinghub.com.au/event/capricorn-coast-toy-library-borrowing-sessions-2/2026-12-24/
LOCATION:Cap Coast Toy Library\, Cordingley Street\, Yeppoon\, Queensland\, Australia
CATEGORIES:Family friendly,Kid friendly,Toy Library
ATTACH;FMTTYPE=image/png:https://thewellbeinghub.com.au/wp-content/uploads/2026/03/956cb45a-d80b-4569-b424-efd7af7bdd23.png
END:VEVENT
BEGIN:VEVENT
DTSTART;TZID=Australia/Brisbane:20261224T100000
DTEND;TZID=Australia/Brisbane:20261227T160000
DTSTAMP:20260420T031304
CREATED:20260319T013409Z
LAST-MODIFIED:20260319T033846Z
UID:10000548-1798106400-1798387200@thewellbeinghub.com.au
SUMMARY:Yeppoon Playability
DESCRIPTION:
URL:https://thewellbeinghub.com.au/event/yeppoon-playability/2026-12-24/
LOCATION:Yeppoon Show Grounds\, Morris Street\, Yeppoon\, Queensland\, Australia
CATEGORIES:Family friendly,Kid friendly
ATTACH;FMTTYPE=image/jpeg:https://thewellbeinghub.com.au/wp-content/uploads/2026/03/653711389_907443078849836_7305843221958883784_n.jpg
END:VEVENT
BEGIN:VEVENT
DTSTART;TZID=Australia/Brisbane:20261226T093000
DTEND;TZID=Australia/Brisbane:20261226T113000
DTSTAMP:20260420T031304
CREATED:20260401T224331Z
LAST-MODIFIED:20260401T224334Z
UID:10001111-1798277400-1798284600@thewellbeinghub.com.au
SUMMARY:Capricorn Coast Toy Library Borrowing Sessions
DESCRIPTION:
URL:https://thewellbeinghub.com.au/event/capricorn-coast-toy-library-borrowing-sessions-2/2026-12-26/
LOCATION:Cap Coast Toy Library\, Cordingley Street\, Yeppoon\, Queensland\, Australia
CATEGORIES:Family friendly,Kid friendly,Toy Library
ATTACH;FMTTYPE=image/png:https://thewellbeinghub.com.au/wp-content/uploads/2026/03/956cb45a-d80b-4569-b424-efd7af7bdd23.png
END:VEVENT
BEGIN:VEVENT
DTSTART;TZID=Australia/Brisbane:20261231T093000
DTEND;TZID=Australia/Brisbane:20261231T113000
DTSTAMP:20260420T031304
CREATED:20260401T224331Z
LAST-MODIFIED:20260401T224334Z
UID:10001112-1798709400-1798716600@thewellbeinghub.com.au
SUMMARY:Capricorn Coast Toy Library Borrowing Sessions
DESCRIPTION:
URL:https://thewellbeinghub.com.au/event/capricorn-coast-toy-library-borrowing-sessions-2/2026-12-31/
LOCATION:Cap Coast Toy Library\, Cordingley Street\, Yeppoon\, Queensland\, Australia
CATEGORIES:Family friendly,Kid friendly,Toy Library
ATTACH;FMTTYPE=image/png:https://thewellbeinghub.com.au/wp-content/uploads/2026/03/956cb45a-d80b-4569-b424-efd7af7bdd23.png
END:VEVENT
BEGIN:VEVENT
DTSTART;TZID=Australia/Brisbane:20261231T100000
DTEND;TZID=Australia/Brisbane:20270103T160000
DTSTAMP:20260420T031304
CREATED:20260319T013409Z
LAST-MODIFIED:20260319T033846Z
UID:10000549-1798711200-1798992000@thewellbeinghub.com.au
SUMMARY:Yeppoon Playability
DESCRIPTION:
URL:https://thewellbeinghub.com.au/event/yeppoon-playability/2026-12-31/
LOCATION:Yeppoon Show Grounds\, Morris Street\, Yeppoon\, Queensland\, Australia
CATEGORIES:Family friendly,Kid friendly
ATTACH;FMTTYPE=image/jpeg:https://thewellbeinghub.com.au/wp-content/uploads/2026/03/653711389_907443078849836_7305843221958883784_n.jpg
END:VEVENT
BEGIN:VEVENT
DTSTART;TZID=Australia/Brisbane:20270102T093000
DTEND;TZID=Australia/Brisbane:20270102T113000
DTSTAMP:20260420T031304
CREATED:20260401T224331Z
LAST-MODIFIED:20260401T224334Z
UID:10001113-1798882200-1798889400@thewellbeinghub.com.au
SUMMARY:Capricorn Coast Toy Library Borrowing Sessions
DESCRIPTION:
URL:https://thewellbeinghub.com.au/event/capricorn-coast-toy-library-borrowing-sessions-2/2027-01-02/
LOCATION:Cap Coast Toy Library\, Cordingley Street\, Yeppoon\, Queensland\, Australia
CATEGORIES:Family friendly,Kid friendly,Toy Library
ATTACH;FMTTYPE=image/png:https://thewellbeinghub.com.au/wp-content/uploads/2026/03/956cb45a-d80b-4569-b424-efd7af7bdd23.png
END:VEVENT
BEGIN:VEVENT
DTSTART;TZID=Australia/Brisbane:20270107T093000
DTEND;TZID=Australia/Brisbane:20270107T113000
DTSTAMP:20260420T031304
CREATED:20260401T224331Z
LAST-MODIFIED:20260401T224334Z
UID:10001114-1799314200-1799321400@thewellbeinghub.com.au
SUMMARY:Capricorn Coast Toy Library Borrowing Sessions
DESCRIPTION:
URL:https://thewellbeinghub.com.au/event/capricorn-coast-toy-library-borrowing-sessions-2/2027-01-07/
LOCATION:Cap Coast Toy Library\, Cordingley Street\, Yeppoon\, Queensland\, Australia
CATEGORIES:Family friendly,Kid friendly,Toy Library
ATTACH;FMTTYPE=image/png:https://thewellbeinghub.com.au/wp-content/uploads/2026/03/956cb45a-d80b-4569-b424-efd7af7bdd23.png
END:VEVENT
BEGIN:VEVENT
DTSTART;TZID=Australia/Brisbane:20270107T100000
DTEND;TZID=Australia/Brisbane:20270110T160000
DTSTAMP:20260420T031304
CREATED:20260319T013409Z
LAST-MODIFIED:20260319T033846Z
UID:10000550-1799316000-1799596800@thewellbeinghub.com.au
SUMMARY:Yeppoon Playability
DESCRIPTION:
URL:https://thewellbeinghub.com.au/event/yeppoon-playability/2027-01-07/
LOCATION:Yeppoon Show Grounds\, Morris Street\, Yeppoon\, Queensland\, Australia
CATEGORIES:Family friendly,Kid friendly
ATTACH;FMTTYPE=image/jpeg:https://thewellbeinghub.com.au/wp-content/uploads/2026/03/653711389_907443078849836_7305843221958883784_n.jpg
END:VEVENT
BEGIN:VEVENT
DTSTART;TZID=Australia/Brisbane:20270109T093000
DTEND;TZID=Australia/Brisbane:20270109T113000
DTSTAMP:20260420T031304
CREATED:20260401T224331Z
LAST-MODIFIED:20260401T224334Z
UID:10001115-1799487000-1799494200@thewellbeinghub.com.au
SUMMARY:Capricorn Coast Toy Library Borrowing Sessions
DESCRIPTION:
URL:https://thewellbeinghub.com.au/event/capricorn-coast-toy-library-borrowing-sessions-2/2027-01-09/
LOCATION:Cap Coast Toy Library\, Cordingley Street\, Yeppoon\, Queensland\, Australia
CATEGORIES:Family friendly,Kid friendly,Toy Library
ATTACH;FMTTYPE=image/png:https://thewellbeinghub.com.au/wp-content/uploads/2026/03/956cb45a-d80b-4569-b424-efd7af7bdd23.png
END:VEVENT
BEGIN:VEVENT
DTSTART;TZID=Australia/Brisbane:20270114T093000
DTEND;TZID=Australia/Brisbane:20270114T113000
DTSTAMP:20260420T031305
CREATED:20260401T224331Z
LAST-MODIFIED:20260401T224334Z
UID:10001116-1799919000-1799926200@thewellbeinghub.com.au
SUMMARY:Capricorn Coast Toy Library Borrowing Sessions
DESCRIPTION:
URL:https://thewellbeinghub.com.au/event/capricorn-coast-toy-library-borrowing-sessions-2/2027-01-14/
LOCATION:Cap Coast Toy Library\, Cordingley Street\, Yeppoon\, Queensland\, Australia
CATEGORIES:Family friendly,Kid friendly,Toy Library
ATTACH;FMTTYPE=image/png:https://thewellbeinghub.com.au/wp-content/uploads/2026/03/956cb45a-d80b-4569-b424-efd7af7bdd23.png
END:VEVENT
BEGIN:VEVENT
DTSTART;TZID=Australia/Brisbane:20270114T100000
DTEND;TZID=Australia/Brisbane:20270117T160000
DTSTAMP:20260420T031305
CREATED:20260319T013409Z
LAST-MODIFIED:20260319T033846Z
UID:10000551-1799920800-1800201600@thewellbeinghub.com.au
SUMMARY:Yeppoon Playability
DESCRIPTION:
URL:https://thewellbeinghub.com.au/event/yeppoon-playability/2027-01-14/
LOCATION:Yeppoon Show Grounds\, Morris Street\, Yeppoon\, Queensland\, Australia
CATEGORIES:Family friendly,Kid friendly
ATTACH;FMTTYPE=image/jpeg:https://thewellbeinghub.com.au/wp-content/uploads/2026/03/653711389_907443078849836_7305843221958883784_n.jpg
END:VEVENT
BEGIN:VEVENT
DTSTART;TZID=Australia/Brisbane:20270116T093000
DTEND;TZID=Australia/Brisbane:20270116T113000
DTSTAMP:20260420T031305
CREATED:20260401T224331Z
LAST-MODIFIED:20260401T224334Z
UID:10001117-1800091800-1800099000@thewellbeinghub.com.au
SUMMARY:Capricorn Coast Toy Library Borrowing Sessions
DESCRIPTION:
URL:https://thewellbeinghub.com.au/event/capricorn-coast-toy-library-borrowing-sessions-2/2027-01-16/
LOCATION:Cap Coast Toy Library\, Cordingley Street\, Yeppoon\, Queensland\, Australia
CATEGORIES:Family friendly,Kid friendly,Toy Library
ATTACH;FMTTYPE=image/png:https://thewellbeinghub.com.au/wp-content/uploads/2026/03/956cb45a-d80b-4569-b424-efd7af7bdd23.png
END:VEVENT
BEGIN:VEVENT
DTSTART;TZID=Australia/Brisbane:20270121T093000
DTEND;TZID=Australia/Brisbane:20270121T113000
DTSTAMP:20260420T031305
CREATED:20260401T224331Z
LAST-MODIFIED:20260401T224334Z
UID:10001118-1800523800-1800531000@thewellbeinghub.com.au
SUMMARY:Capricorn Coast Toy Library Borrowing Sessions
DESCRIPTION:
URL:https://thewellbeinghub.com.au/event/capricorn-coast-toy-library-borrowing-sessions-2/2027-01-21/
LOCATION:Cap Coast Toy Library\, Cordingley Street\, Yeppoon\, Queensland\, Australia
CATEGORIES:Family friendly,Kid friendly,Toy Library
ATTACH;FMTTYPE=image/png:https://thewellbeinghub.com.au/wp-content/uploads/2026/03/956cb45a-d80b-4569-b424-efd7af7bdd23.png
END:VEVENT
BEGIN:VEVENT
DTSTART;TZID=Australia/Brisbane:20270121T100000
DTEND;TZID=Australia/Brisbane:20270124T160000
DTSTAMP:20260420T031305
CREATED:20260319T013409Z
LAST-MODIFIED:20260319T033846Z
UID:10000552-1800525600-1800806400@thewellbeinghub.com.au
SUMMARY:Yeppoon Playability
DESCRIPTION:
URL:https://thewellbeinghub.com.au/event/yeppoon-playability/2027-01-21/
LOCATION:Yeppoon Show Grounds\, Morris Street\, Yeppoon\, Queensland\, Australia
CATEGORIES:Family friendly,Kid friendly
ATTACH;FMTTYPE=image/jpeg:https://thewellbeinghub.com.au/wp-content/uploads/2026/03/653711389_907443078849836_7305843221958883784_n.jpg
END:VEVENT
BEGIN:VEVENT
DTSTART;TZID=Australia/Brisbane:20270123T093000
DTEND;TZID=Australia/Brisbane:20270123T113000
DTSTAMP:20260420T031305
CREATED:20260401T224331Z
LAST-MODIFIED:20260401T224334Z
UID:10001119-1800696600-1800703800@thewellbeinghub.com.au
SUMMARY:Capricorn Coast Toy Library Borrowing Sessions
DESCRIPTION:
URL:https://thewellbeinghub.com.au/event/capricorn-coast-toy-library-borrowing-sessions-2/2027-01-23/
LOCATION:Cap Coast Toy Library\, Cordingley Street\, Yeppoon\, Queensland\, Australia
CATEGORIES:Family friendly,Kid friendly,Toy Library
ATTACH;FMTTYPE=image/png:https://thewellbeinghub.com.au/wp-content/uploads/2026/03/956cb45a-d80b-4569-b424-efd7af7bdd23.png
END:VEVENT
BEGIN:VEVENT
DTSTART;TZID=Australia/Brisbane:20270128T093000
DTEND;TZID=Australia/Brisbane:20270128T113000
DTSTAMP:20260420T031305
CREATED:20260401T224331Z
LAST-MODIFIED:20260401T224334Z
UID:10001120-1801128600-1801135800@thewellbeinghub.com.au
SUMMARY:Capricorn Coast Toy Library Borrowing Sessions
DESCRIPTION:
URL:https://thewellbeinghub.com.au/event/capricorn-coast-toy-library-borrowing-sessions-2/2027-01-28/
LOCATION:Cap Coast Toy Library\, Cordingley Street\, Yeppoon\, Queensland\, Australia
CATEGORIES:Family friendly,Kid friendly,Toy Library
ATTACH;FMTTYPE=image/png:https://thewellbeinghub.com.au/wp-content/uploads/2026/03/956cb45a-d80b-4569-b424-efd7af7bdd23.png
END:VEVENT
BEGIN:VEVENT
DTSTART;TZID=Australia/Brisbane:20270128T100000
DTEND;TZID=Australia/Brisbane:20270131T160000
DTSTAMP:20260420T031305
CREATED:20260319T013409Z
LAST-MODIFIED:20260319T033846Z
UID:10000553-1801130400-1801411200@thewellbeinghub.com.au
SUMMARY:Yeppoon Playability
DESCRIPTION:
URL:https://thewellbeinghub.com.au/event/yeppoon-playability/2027-01-28/
LOCATION:Yeppoon Show Grounds\, Morris Street\, Yeppoon\, Queensland\, Australia
CATEGORIES:Family friendly,Kid friendly
ATTACH;FMTTYPE=image/jpeg:https://thewellbeinghub.com.au/wp-content/uploads/2026/03/653711389_907443078849836_7305843221958883784_n.jpg
END:VEVENT
BEGIN:VEVENT
DTSTART;TZID=Australia/Brisbane:20270130T093000
DTEND;TZID=Australia/Brisbane:20270130T113000
DTSTAMP:20260420T031305
CREATED:20260401T224331Z
LAST-MODIFIED:20260401T224334Z
UID:10001121-1801301400-1801308600@thewellbeinghub.com.au
SUMMARY:Capricorn Coast Toy Library Borrowing Sessions
DESCRIPTION:
URL:https://thewellbeinghub.com.au/event/capricorn-coast-toy-library-borrowing-sessions-2/2027-01-30/
LOCATION:Cap Coast Toy Library\, Cordingley Street\, Yeppoon\, Queensland\, Australia
CATEGORIES:Family friendly,Kid friendly,Toy Library
ATTACH;FMTTYPE=image/png:https://thewellbeinghub.com.au/wp-content/uploads/2026/03/956cb45a-d80b-4569-b424-efd7af7bdd23.png
END:VEVENT
BEGIN:VEVENT
DTSTART;TZID=Australia/Brisbane:20270204T093000
DTEND;TZID=Australia/Brisbane:20270204T113000
DTSTAMP:20260420T031305
CREATED:20260401T224331Z
LAST-MODIFIED:20260401T224334Z
UID:10001122-1801733400-1801740600@thewellbeinghub.com.au
SUMMARY:Capricorn Coast Toy Library Borrowing Sessions
DESCRIPTION:
URL:https://thewellbeinghub.com.au/event/capricorn-coast-toy-library-borrowing-sessions-2/2027-02-04/
LOCATION:Cap Coast Toy Library\, Cordingley Street\, Yeppoon\, Queensland\, Australia
CATEGORIES:Family friendly,Kid friendly,Toy Library
ATTACH;FMTTYPE=image/png:https://thewellbeinghub.com.au/wp-content/uploads/2026/03/956cb45a-d80b-4569-b424-efd7af7bdd23.png
END:VEVENT
BEGIN:VEVENT
DTSTART;TZID=Australia/Brisbane:20270204T100000
DTEND;TZID=Australia/Brisbane:20270207T160000
DTSTAMP:20260420T031305
CREATED:20260319T013409Z
LAST-MODIFIED:20260319T033846Z
UID:10000554-1801735200-1802016000@thewellbeinghub.com.au
SUMMARY:Yeppoon Playability
DESCRIPTION:
URL:https://thewellbeinghub.com.au/event/yeppoon-playability/2027-02-04/
LOCATION:Yeppoon Show Grounds\, Morris Street\, Yeppoon\, Queensland\, Australia
CATEGORIES:Family friendly,Kid friendly
ATTACH;FMTTYPE=image/jpeg:https://thewellbeinghub.com.au/wp-content/uploads/2026/03/653711389_907443078849836_7305843221958883784_n.jpg
END:VEVENT
BEGIN:VEVENT
DTSTART;TZID=Australia/Brisbane:20270206T093000
DTEND;TZID=Australia/Brisbane:20270206T113000
DTSTAMP:20260420T031305
CREATED:20260401T224331Z
LAST-MODIFIED:20260401T224334Z
UID:10001123-1801906200-1801913400@thewellbeinghub.com.au
SUMMARY:Capricorn Coast Toy Library Borrowing Sessions
DESCRIPTION:
URL:https://thewellbeinghub.com.au/event/capricorn-coast-toy-library-borrowing-sessions-2/2027-02-06/
LOCATION:Cap Coast Toy Library\, Cordingley Street\, Yeppoon\, Queensland\, Australia
CATEGORIES:Family friendly,Kid friendly,Toy Library
ATTACH;FMTTYPE=image/png:https://thewellbeinghub.com.au/wp-content/uploads/2026/03/956cb45a-d80b-4569-b424-efd7af7bdd23.png
END:VEVENT
BEGIN:VEVENT
DTSTART;TZID=Australia/Brisbane:20270211T093000
DTEND;TZID=Australia/Brisbane:20270211T113000
DTSTAMP:20260420T031305
CREATED:20260401T224331Z
LAST-MODIFIED:20260401T224334Z
UID:10001124-1802338200-1802345400@thewellbeinghub.com.au
SUMMARY:Capricorn Coast Toy Library Borrowing Sessions
DESCRIPTION:
URL:https://thewellbeinghub.com.au/event/capricorn-coast-toy-library-borrowing-sessions-2/2027-02-11/
LOCATION:Cap Coast Toy Library\, Cordingley Street\, Yeppoon\, Queensland\, Australia
CATEGORIES:Family friendly,Kid friendly,Toy Library
ATTACH;FMTTYPE=image/png:https://thewellbeinghub.com.au/wp-content/uploads/2026/03/956cb45a-d80b-4569-b424-efd7af7bdd23.png
END:VEVENT
BEGIN:VEVENT
DTSTART;TZID=Australia/Brisbane:20270211T100000
DTEND;TZID=Australia/Brisbane:20270214T160000
DTSTAMP:20260420T031305
CREATED:20260319T013409Z
LAST-MODIFIED:20260319T033846Z
UID:10000555-1802340000-1802620800@thewellbeinghub.com.au
SUMMARY:Yeppoon Playability
DESCRIPTION:
URL:https://thewellbeinghub.com.au/event/yeppoon-playability/2027-02-11/
LOCATION:Yeppoon Show Grounds\, Morris Street\, Yeppoon\, Queensland\, Australia
CATEGORIES:Family friendly,Kid friendly
ATTACH;FMTTYPE=image/jpeg:https://thewellbeinghub.com.au/wp-content/uploads/2026/03/653711389_907443078849836_7305843221958883784_n.jpg
END:VEVENT
BEGIN:VEVENT
DTSTART;TZID=Australia/Brisbane:20270213T093000
DTEND;TZID=Australia/Brisbane:20270213T113000
DTSTAMP:20260420T031305
CREATED:20260401T224331Z
LAST-MODIFIED:20260401T224334Z
UID:10001125-1802511000-1802518200@thewellbeinghub.com.au
SUMMARY:Capricorn Coast Toy Library Borrowing Sessions
DESCRIPTION:
URL:https://thewellbeinghub.com.au/event/capricorn-coast-toy-library-borrowing-sessions-2/2027-02-13/
LOCATION:Cap Coast Toy Library\, Cordingley Street\, Yeppoon\, Queensland\, Australia
CATEGORIES:Family friendly,Kid friendly,Toy Library
ATTACH;FMTTYPE=image/png:https://thewellbeinghub.com.au/wp-content/uploads/2026/03/956cb45a-d80b-4569-b424-efd7af7bdd23.png
END:VEVENT
END:VCALENDAR