BEGIN:VCALENDAR
VERSION:2.0
PRODID:-//The Wellbeing Hub - ECPv6.15.20//NONSGML v1.0//EN
CALSCALE:GREGORIAN
METHOD:PUBLISH
X-WR-CALNAME:The Wellbeing Hub
X-ORIGINAL-URL:https://thewellbeinghub.com.au
X-WR-CALDESC:Events for The Wellbeing Hub
REFRESH-INTERVAL;VALUE=DURATION:PT1H
X-Robots-Tag:noindex
X-PUBLISHED-TTL:PT1H
BEGIN:VTIMEZONE
TZID:Australia/Brisbane
BEGIN:STANDARD
TZOFFSETFROM:+1000
TZOFFSETTO:+1000
TZNAME:AEST
DTSTART:20260101T000000
END:STANDARD
END:VTIMEZONE
BEGIN:VEVENT
DTSTART;TZID=Australia/Brisbane:20270729T100000
DTEND;TZID=Australia/Brisbane:20270801T160000
DTSTAMP:20260422T110457
CREATED:20260319T013409Z
LAST-MODIFIED:20260319T033846Z
UID:10000579-1816855200-1817136000@thewellbeinghub.com.au
SUMMARY:Yeppoon Playability
DESCRIPTION:
URL:https://thewellbeinghub.com.au/event/yeppoon-playability/2027-07-29/
LOCATION:Yeppoon Show Grounds\, Morris Street\, Yeppoon\, Queensland\, Australia
CATEGORIES:Family friendly,Kid friendly
ATTACH;FMTTYPE=image/jpeg:https://thewellbeinghub.com.au/wp-content/uploads/2026/03/653711389_907443078849836_7305843221958883784_n.jpg
END:VEVENT
BEGIN:VEVENT
DTSTART;TZID=Australia/Brisbane:20270731T093000
DTEND;TZID=Australia/Brisbane:20270731T113000
DTSTAMP:20260422T110457
CREATED:20260401T224331Z
LAST-MODIFIED:20260401T224334Z
UID:10001173-1817026200-1817033400@thewellbeinghub.com.au
SUMMARY:Capricorn Coast Toy Library Borrowing Sessions
DESCRIPTION:
URL:https://thewellbeinghub.com.au/event/capricorn-coast-toy-library-borrowing-sessions-2/2027-07-31/
LOCATION:Cap Coast Toy Library\, Cordingley Street\, Yeppoon\, Queensland\, Australia
CATEGORIES:Family friendly,Kid friendly,Toy Library
ATTACH;FMTTYPE=image/png:https://thewellbeinghub.com.au/wp-content/uploads/2026/03/956cb45a-d80b-4569-b424-efd7af7bdd23.png
END:VEVENT
BEGIN:VEVENT
DTSTART;TZID=Australia/Brisbane:20270805T093000
DTEND;TZID=Australia/Brisbane:20270805T113000
DTSTAMP:20260422T110457
CREATED:20260401T224331Z
LAST-MODIFIED:20260401T224334Z
UID:10001174-1817458200-1817465400@thewellbeinghub.com.au
SUMMARY:Capricorn Coast Toy Library Borrowing Sessions
DESCRIPTION:
URL:https://thewellbeinghub.com.au/event/capricorn-coast-toy-library-borrowing-sessions-2/2027-08-05/
LOCATION:Cap Coast Toy Library\, Cordingley Street\, Yeppoon\, Queensland\, Australia
CATEGORIES:Family friendly,Kid friendly,Toy Library
ATTACH;FMTTYPE=image/png:https://thewellbeinghub.com.au/wp-content/uploads/2026/03/956cb45a-d80b-4569-b424-efd7af7bdd23.png
END:VEVENT
BEGIN:VEVENT
DTSTART;TZID=Australia/Brisbane:20270805T100000
DTEND;TZID=Australia/Brisbane:20270808T160000
DTSTAMP:20260422T110457
CREATED:20260319T013409Z
LAST-MODIFIED:20260319T033846Z
UID:10000580-1817460000-1817740800@thewellbeinghub.com.au
SUMMARY:Yeppoon Playability
DESCRIPTION:
URL:https://thewellbeinghub.com.au/event/yeppoon-playability/2027-08-05/
LOCATION:Yeppoon Show Grounds\, Morris Street\, Yeppoon\, Queensland\, Australia
CATEGORIES:Family friendly,Kid friendly
ATTACH;FMTTYPE=image/jpeg:https://thewellbeinghub.com.au/wp-content/uploads/2026/03/653711389_907443078849836_7305843221958883784_n.jpg
END:VEVENT
BEGIN:VEVENT
DTSTART;TZID=Australia/Brisbane:20270807T093000
DTEND;TZID=Australia/Brisbane:20270807T113000
DTSTAMP:20260422T110457
CREATED:20260401T224331Z
LAST-MODIFIED:20260401T224334Z
UID:10001175-1817631000-1817638200@thewellbeinghub.com.au
SUMMARY:Capricorn Coast Toy Library Borrowing Sessions
DESCRIPTION:
URL:https://thewellbeinghub.com.au/event/capricorn-coast-toy-library-borrowing-sessions-2/2027-08-07/
LOCATION:Cap Coast Toy Library\, Cordingley Street\, Yeppoon\, Queensland\, Australia
CATEGORIES:Family friendly,Kid friendly,Toy Library
ATTACH;FMTTYPE=image/png:https://thewellbeinghub.com.au/wp-content/uploads/2026/03/956cb45a-d80b-4569-b424-efd7af7bdd23.png
END:VEVENT
BEGIN:VEVENT
DTSTART;TZID=Australia/Brisbane:20270812T093000
DTEND;TZID=Australia/Brisbane:20270812T113000
DTSTAMP:20260422T110457
CREATED:20260401T224331Z
LAST-MODIFIED:20260401T224334Z
UID:10001176-1818063000-1818070200@thewellbeinghub.com.au
SUMMARY:Capricorn Coast Toy Library Borrowing Sessions
DESCRIPTION:
URL:https://thewellbeinghub.com.au/event/capricorn-coast-toy-library-borrowing-sessions-2/2027-08-12/
LOCATION:Cap Coast Toy Library\, Cordingley Street\, Yeppoon\, Queensland\, Australia
CATEGORIES:Family friendly,Kid friendly,Toy Library
ATTACH;FMTTYPE=image/png:https://thewellbeinghub.com.au/wp-content/uploads/2026/03/956cb45a-d80b-4569-b424-efd7af7bdd23.png
END:VEVENT
BEGIN:VEVENT
DTSTART;TZID=Australia/Brisbane:20270812T100000
DTEND;TZID=Australia/Brisbane:20270815T160000
DTSTAMP:20260422T110457
CREATED:20260319T013409Z
LAST-MODIFIED:20260319T033846Z
UID:10000581-1818064800-1818345600@thewellbeinghub.com.au
SUMMARY:Yeppoon Playability
DESCRIPTION:
URL:https://thewellbeinghub.com.au/event/yeppoon-playability/2027-08-12/
LOCATION:Yeppoon Show Grounds\, Morris Street\, Yeppoon\, Queensland\, Australia
CATEGORIES:Family friendly,Kid friendly
ATTACH;FMTTYPE=image/jpeg:https://thewellbeinghub.com.au/wp-content/uploads/2026/03/653711389_907443078849836_7305843221958883784_n.jpg
END:VEVENT
BEGIN:VEVENT
DTSTART;TZID=Australia/Brisbane:20270814T093000
DTEND;TZID=Australia/Brisbane:20270814T113000
DTSTAMP:20260422T110457
CREATED:20260401T224331Z
LAST-MODIFIED:20260401T224334Z
UID:10001177-1818235800-1818243000@thewellbeinghub.com.au
SUMMARY:Capricorn Coast Toy Library Borrowing Sessions
DESCRIPTION:
URL:https://thewellbeinghub.com.au/event/capricorn-coast-toy-library-borrowing-sessions-2/2027-08-14/
LOCATION:Cap Coast Toy Library\, Cordingley Street\, Yeppoon\, Queensland\, Australia
CATEGORIES:Family friendly,Kid friendly,Toy Library
ATTACH;FMTTYPE=image/png:https://thewellbeinghub.com.au/wp-content/uploads/2026/03/956cb45a-d80b-4569-b424-efd7af7bdd23.png
END:VEVENT
BEGIN:VEVENT
DTSTART;TZID=Australia/Brisbane:20270819T093000
DTEND;TZID=Australia/Brisbane:20270819T113000
DTSTAMP:20260422T110457
CREATED:20260401T224331Z
LAST-MODIFIED:20260401T224334Z
UID:10001178-1818667800-1818675000@thewellbeinghub.com.au
SUMMARY:Capricorn Coast Toy Library Borrowing Sessions
DESCRIPTION:
URL:https://thewellbeinghub.com.au/event/capricorn-coast-toy-library-borrowing-sessions-2/2027-08-19/
LOCATION:Cap Coast Toy Library\, Cordingley Street\, Yeppoon\, Queensland\, Australia
CATEGORIES:Family friendly,Kid friendly,Toy Library
ATTACH;FMTTYPE=image/png:https://thewellbeinghub.com.au/wp-content/uploads/2026/03/956cb45a-d80b-4569-b424-efd7af7bdd23.png
END:VEVENT
BEGIN:VEVENT
DTSTART;TZID=Australia/Brisbane:20270819T100000
DTEND;TZID=Australia/Brisbane:20270822T160000
DTSTAMP:20260422T110457
CREATED:20260319T013409Z
LAST-MODIFIED:20260319T033846Z
UID:10000582-1818669600-1818950400@thewellbeinghub.com.au
SUMMARY:Yeppoon Playability
DESCRIPTION:
URL:https://thewellbeinghub.com.au/event/yeppoon-playability/2027-08-19/
LOCATION:Yeppoon Show Grounds\, Morris Street\, Yeppoon\, Queensland\, Australia
CATEGORIES:Family friendly,Kid friendly
ATTACH;FMTTYPE=image/jpeg:https://thewellbeinghub.com.au/wp-content/uploads/2026/03/653711389_907443078849836_7305843221958883784_n.jpg
END:VEVENT
BEGIN:VEVENT
DTSTART;TZID=Australia/Brisbane:20270821T093000
DTEND;TZID=Australia/Brisbane:20270821T113000
DTSTAMP:20260422T110457
CREATED:20260401T224331Z
LAST-MODIFIED:20260401T224334Z
UID:10001179-1818840600-1818847800@thewellbeinghub.com.au
SUMMARY:Capricorn Coast Toy Library Borrowing Sessions
DESCRIPTION:
URL:https://thewellbeinghub.com.au/event/capricorn-coast-toy-library-borrowing-sessions-2/2027-08-21/
LOCATION:Cap Coast Toy Library\, Cordingley Street\, Yeppoon\, Queensland\, Australia
CATEGORIES:Family friendly,Kid friendly,Toy Library
ATTACH;FMTTYPE=image/png:https://thewellbeinghub.com.au/wp-content/uploads/2026/03/956cb45a-d80b-4569-b424-efd7af7bdd23.png
END:VEVENT
BEGIN:VEVENT
DTSTART;TZID=Australia/Brisbane:20270826T093000
DTEND;TZID=Australia/Brisbane:20270826T113000
DTSTAMP:20260422T110457
CREATED:20260401T224331Z
LAST-MODIFIED:20260401T224334Z
UID:10001180-1819272600-1819279800@thewellbeinghub.com.au
SUMMARY:Capricorn Coast Toy Library Borrowing Sessions
DESCRIPTION:
URL:https://thewellbeinghub.com.au/event/capricorn-coast-toy-library-borrowing-sessions-2/2027-08-26/
LOCATION:Cap Coast Toy Library\, Cordingley Street\, Yeppoon\, Queensland\, Australia
CATEGORIES:Family friendly,Kid friendly,Toy Library
ATTACH;FMTTYPE=image/png:https://thewellbeinghub.com.au/wp-content/uploads/2026/03/956cb45a-d80b-4569-b424-efd7af7bdd23.png
END:VEVENT
BEGIN:VEVENT
DTSTART;TZID=Australia/Brisbane:20270826T100000
DTEND;TZID=Australia/Brisbane:20270829T160000
DTSTAMP:20260422T110457
CREATED:20260319T013409Z
LAST-MODIFIED:20260319T033846Z
UID:10000583-1819274400-1819555200@thewellbeinghub.com.au
SUMMARY:Yeppoon Playability
DESCRIPTION:
URL:https://thewellbeinghub.com.au/event/yeppoon-playability/2027-08-26/
LOCATION:Yeppoon Show Grounds\, Morris Street\, Yeppoon\, Queensland\, Australia
CATEGORIES:Family friendly,Kid friendly
ATTACH;FMTTYPE=image/jpeg:https://thewellbeinghub.com.au/wp-content/uploads/2026/03/653711389_907443078849836_7305843221958883784_n.jpg
END:VEVENT
BEGIN:VEVENT
DTSTART;TZID=Australia/Brisbane:20270828T093000
DTEND;TZID=Australia/Brisbane:20270828T113000
DTSTAMP:20260422T110457
CREATED:20260401T224331Z
LAST-MODIFIED:20260401T224334Z
UID:10001181-1819445400-1819452600@thewellbeinghub.com.au
SUMMARY:Capricorn Coast Toy Library Borrowing Sessions
DESCRIPTION:
URL:https://thewellbeinghub.com.au/event/capricorn-coast-toy-library-borrowing-sessions-2/2027-08-28/
LOCATION:Cap Coast Toy Library\, Cordingley Street\, Yeppoon\, Queensland\, Australia
CATEGORIES:Family friendly,Kid friendly,Toy Library
ATTACH;FMTTYPE=image/png:https://thewellbeinghub.com.au/wp-content/uploads/2026/03/956cb45a-d80b-4569-b424-efd7af7bdd23.png
END:VEVENT
BEGIN:VEVENT
DTSTART;TZID=Australia/Brisbane:20270902T093000
DTEND;TZID=Australia/Brisbane:20270902T113000
DTSTAMP:20260422T110457
CREATED:20260401T224331Z
LAST-MODIFIED:20260401T224334Z
UID:10001182-1819877400-1819884600@thewellbeinghub.com.au
SUMMARY:Capricorn Coast Toy Library Borrowing Sessions
DESCRIPTION:
URL:https://thewellbeinghub.com.au/event/capricorn-coast-toy-library-borrowing-sessions-2/2027-09-02/
LOCATION:Cap Coast Toy Library\, Cordingley Street\, Yeppoon\, Queensland\, Australia
CATEGORIES:Family friendly,Kid friendly,Toy Library
ATTACH;FMTTYPE=image/png:https://thewellbeinghub.com.au/wp-content/uploads/2026/03/956cb45a-d80b-4569-b424-efd7af7bdd23.png
END:VEVENT
BEGIN:VEVENT
DTSTART;TZID=Australia/Brisbane:20270902T100000
DTEND;TZID=Australia/Brisbane:20270905T160000
DTSTAMP:20260422T110457
CREATED:20260319T013409Z
LAST-MODIFIED:20260319T033846Z
UID:10000584-1819879200-1820160000@thewellbeinghub.com.au
SUMMARY:Yeppoon Playability
DESCRIPTION:
URL:https://thewellbeinghub.com.au/event/yeppoon-playability/2027-09-02/
LOCATION:Yeppoon Show Grounds\, Morris Street\, Yeppoon\, Queensland\, Australia
CATEGORIES:Family friendly,Kid friendly
ATTACH;FMTTYPE=image/jpeg:https://thewellbeinghub.com.au/wp-content/uploads/2026/03/653711389_907443078849836_7305843221958883784_n.jpg
END:VEVENT
BEGIN:VEVENT
DTSTART;TZID=Australia/Brisbane:20270904T093000
DTEND;TZID=Australia/Brisbane:20270904T113000
DTSTAMP:20260422T110457
CREATED:20260401T224331Z
LAST-MODIFIED:20260401T224334Z
UID:10001183-1820050200-1820057400@thewellbeinghub.com.au
SUMMARY:Capricorn Coast Toy Library Borrowing Sessions
DESCRIPTION:
URL:https://thewellbeinghub.com.au/event/capricorn-coast-toy-library-borrowing-sessions-2/2027-09-04/
LOCATION:Cap Coast Toy Library\, Cordingley Street\, Yeppoon\, Queensland\, Australia
CATEGORIES:Family friendly,Kid friendly,Toy Library
ATTACH;FMTTYPE=image/png:https://thewellbeinghub.com.au/wp-content/uploads/2026/03/956cb45a-d80b-4569-b424-efd7af7bdd23.png
END:VEVENT
BEGIN:VEVENT
DTSTART;TZID=Australia/Brisbane:20270909T093000
DTEND;TZID=Australia/Brisbane:20270909T113000
DTSTAMP:20260422T110457
CREATED:20260401T224331Z
LAST-MODIFIED:20260401T224334Z
UID:10001184-1820482200-1820489400@thewellbeinghub.com.au
SUMMARY:Capricorn Coast Toy Library Borrowing Sessions
DESCRIPTION:
URL:https://thewellbeinghub.com.au/event/capricorn-coast-toy-library-borrowing-sessions-2/2027-09-09/
LOCATION:Cap Coast Toy Library\, Cordingley Street\, Yeppoon\, Queensland\, Australia
CATEGORIES:Family friendly,Kid friendly,Toy Library
ATTACH;FMTTYPE=image/png:https://thewellbeinghub.com.au/wp-content/uploads/2026/03/956cb45a-d80b-4569-b424-efd7af7bdd23.png
END:VEVENT
BEGIN:VEVENT
DTSTART;TZID=Australia/Brisbane:20270909T100000
DTEND;TZID=Australia/Brisbane:20270912T160000
DTSTAMP:20260422T110457
CREATED:20260319T013409Z
LAST-MODIFIED:20260319T033846Z
UID:10000585-1820484000-1820764800@thewellbeinghub.com.au
SUMMARY:Yeppoon Playability
DESCRIPTION:
URL:https://thewellbeinghub.com.au/event/yeppoon-playability/2027-09-09/
LOCATION:Yeppoon Show Grounds\, Morris Street\, Yeppoon\, Queensland\, Australia
CATEGORIES:Family friendly,Kid friendly
ATTACH;FMTTYPE=image/jpeg:https://thewellbeinghub.com.au/wp-content/uploads/2026/03/653711389_907443078849836_7305843221958883784_n.jpg
END:VEVENT
BEGIN:VEVENT
DTSTART;TZID=Australia/Brisbane:20270911T093000
DTEND;TZID=Australia/Brisbane:20270911T113000
DTSTAMP:20260422T110457
CREATED:20260401T224331Z
LAST-MODIFIED:20260401T224334Z
UID:10001185-1820655000-1820662200@thewellbeinghub.com.au
SUMMARY:Capricorn Coast Toy Library Borrowing Sessions
DESCRIPTION:
URL:https://thewellbeinghub.com.au/event/capricorn-coast-toy-library-borrowing-sessions-2/2027-09-11/
LOCATION:Cap Coast Toy Library\, Cordingley Street\, Yeppoon\, Queensland\, Australia
CATEGORIES:Family friendly,Kid friendly,Toy Library
ATTACH;FMTTYPE=image/png:https://thewellbeinghub.com.au/wp-content/uploads/2026/03/956cb45a-d80b-4569-b424-efd7af7bdd23.png
END:VEVENT
BEGIN:VEVENT
DTSTART;TZID=Australia/Brisbane:20270916T093000
DTEND;TZID=Australia/Brisbane:20270916T113000
DTSTAMP:20260422T110457
CREATED:20260401T224331Z
LAST-MODIFIED:20260401T224334Z
UID:10001186-1821087000-1821094200@thewellbeinghub.com.au
SUMMARY:Capricorn Coast Toy Library Borrowing Sessions
DESCRIPTION:
URL:https://thewellbeinghub.com.au/event/capricorn-coast-toy-library-borrowing-sessions-2/2027-09-16/
LOCATION:Cap Coast Toy Library\, Cordingley Street\, Yeppoon\, Queensland\, Australia
CATEGORIES:Family friendly,Kid friendly,Toy Library
ATTACH;FMTTYPE=image/png:https://thewellbeinghub.com.au/wp-content/uploads/2026/03/956cb45a-d80b-4569-b424-efd7af7bdd23.png
END:VEVENT
BEGIN:VEVENT
DTSTART;TZID=Australia/Brisbane:20270916T100000
DTEND;TZID=Australia/Brisbane:20270919T160000
DTSTAMP:20260422T110457
CREATED:20260319T013409Z
LAST-MODIFIED:20260319T033846Z
UID:10000586-1821088800-1821369600@thewellbeinghub.com.au
SUMMARY:Yeppoon Playability
DESCRIPTION:
URL:https://thewellbeinghub.com.au/event/yeppoon-playability/2027-09-16/
LOCATION:Yeppoon Show Grounds\, Morris Street\, Yeppoon\, Queensland\, Australia
CATEGORIES:Family friendly,Kid friendly
ATTACH;FMTTYPE=image/jpeg:https://thewellbeinghub.com.au/wp-content/uploads/2026/03/653711389_907443078849836_7305843221958883784_n.jpg
END:VEVENT
BEGIN:VEVENT
DTSTART;TZID=Australia/Brisbane:20270918T093000
DTEND;TZID=Australia/Brisbane:20270918T113000
DTSTAMP:20260422T110457
CREATED:20260401T224331Z
LAST-MODIFIED:20260401T224334Z
UID:10001187-1821259800-1821267000@thewellbeinghub.com.au
SUMMARY:Capricorn Coast Toy Library Borrowing Sessions
DESCRIPTION:
URL:https://thewellbeinghub.com.au/event/capricorn-coast-toy-library-borrowing-sessions-2/2027-09-18/
LOCATION:Cap Coast Toy Library\, Cordingley Street\, Yeppoon\, Queensland\, Australia
CATEGORIES:Family friendly,Kid friendly,Toy Library
ATTACH;FMTTYPE=image/png:https://thewellbeinghub.com.au/wp-content/uploads/2026/03/956cb45a-d80b-4569-b424-efd7af7bdd23.png
END:VEVENT
BEGIN:VEVENT
DTSTART;TZID=Australia/Brisbane:20270923T093000
DTEND;TZID=Australia/Brisbane:20270923T113000
DTSTAMP:20260422T110457
CREATED:20260401T224331Z
LAST-MODIFIED:20260401T224334Z
UID:10001188-1821691800-1821699000@thewellbeinghub.com.au
SUMMARY:Capricorn Coast Toy Library Borrowing Sessions
DESCRIPTION:
URL:https://thewellbeinghub.com.au/event/capricorn-coast-toy-library-borrowing-sessions-2/2027-09-23/
LOCATION:Cap Coast Toy Library\, Cordingley Street\, Yeppoon\, Queensland\, Australia
CATEGORIES:Family friendly,Kid friendly,Toy Library
ATTACH;FMTTYPE=image/png:https://thewellbeinghub.com.au/wp-content/uploads/2026/03/956cb45a-d80b-4569-b424-efd7af7bdd23.png
END:VEVENT
BEGIN:VEVENT
DTSTART;TZID=Australia/Brisbane:20270923T100000
DTEND;TZID=Australia/Brisbane:20270926T160000
DTSTAMP:20260422T110457
CREATED:20260319T013409Z
LAST-MODIFIED:20260319T033846Z
UID:10000587-1821693600-1821974400@thewellbeinghub.com.au
SUMMARY:Yeppoon Playability
DESCRIPTION:
URL:https://thewellbeinghub.com.au/event/yeppoon-playability/2027-09-23/
LOCATION:Yeppoon Show Grounds\, Morris Street\, Yeppoon\, Queensland\, Australia
CATEGORIES:Family friendly,Kid friendly
ATTACH;FMTTYPE=image/jpeg:https://thewellbeinghub.com.au/wp-content/uploads/2026/03/653711389_907443078849836_7305843221958883784_n.jpg
END:VEVENT
BEGIN:VEVENT
DTSTART;TZID=Australia/Brisbane:20270925T093000
DTEND;TZID=Australia/Brisbane:20270925T113000
DTSTAMP:20260422T110457
CREATED:20260401T224331Z
LAST-MODIFIED:20260401T224334Z
UID:10001189-1821864600-1821871800@thewellbeinghub.com.au
SUMMARY:Capricorn Coast Toy Library Borrowing Sessions
DESCRIPTION:
URL:https://thewellbeinghub.com.au/event/capricorn-coast-toy-library-borrowing-sessions-2/2027-09-25/
LOCATION:Cap Coast Toy Library\, Cordingley Street\, Yeppoon\, Queensland\, Australia
CATEGORIES:Family friendly,Kid friendly,Toy Library
ATTACH;FMTTYPE=image/png:https://thewellbeinghub.com.au/wp-content/uploads/2026/03/956cb45a-d80b-4569-b424-efd7af7bdd23.png
END:VEVENT
BEGIN:VEVENT
DTSTART;TZID=Australia/Brisbane:20270930T093000
DTEND;TZID=Australia/Brisbane:20270930T113000
DTSTAMP:20260422T110457
CREATED:20260401T224331Z
LAST-MODIFIED:20260401T224334Z
UID:10001190-1822296600-1822303800@thewellbeinghub.com.au
SUMMARY:Capricorn Coast Toy Library Borrowing Sessions
DESCRIPTION:
URL:https://thewellbeinghub.com.au/event/capricorn-coast-toy-library-borrowing-sessions-2/2027-09-30/
LOCATION:Cap Coast Toy Library\, Cordingley Street\, Yeppoon\, Queensland\, Australia
CATEGORIES:Family friendly,Kid friendly,Toy Library
ATTACH;FMTTYPE=image/png:https://thewellbeinghub.com.au/wp-content/uploads/2026/03/956cb45a-d80b-4569-b424-efd7af7bdd23.png
END:VEVENT
BEGIN:VEVENT
DTSTART;TZID=Australia/Brisbane:20270930T100000
DTEND;TZID=Australia/Brisbane:20271003T160000
DTSTAMP:20260422T110457
CREATED:20260319T013409Z
LAST-MODIFIED:20260319T033846Z
UID:10000588-1822298400-1822579200@thewellbeinghub.com.au
SUMMARY:Yeppoon Playability
DESCRIPTION:
URL:https://thewellbeinghub.com.au/event/yeppoon-playability/2027-09-30/
LOCATION:Yeppoon Show Grounds\, Morris Street\, Yeppoon\, Queensland\, Australia
CATEGORIES:Family friendly,Kid friendly
ATTACH;FMTTYPE=image/jpeg:https://thewellbeinghub.com.au/wp-content/uploads/2026/03/653711389_907443078849836_7305843221958883784_n.jpg
END:VEVENT
BEGIN:VEVENT
DTSTART;TZID=Australia/Brisbane:20271002T093000
DTEND;TZID=Australia/Brisbane:20271002T113000
DTSTAMP:20260422T110457
CREATED:20260401T224331Z
LAST-MODIFIED:20260401T224334Z
UID:10001191-1822469400-1822476600@thewellbeinghub.com.au
SUMMARY:Capricorn Coast Toy Library Borrowing Sessions
DESCRIPTION:
URL:https://thewellbeinghub.com.au/event/capricorn-coast-toy-library-borrowing-sessions-2/2027-10-02/
LOCATION:Cap Coast Toy Library\, Cordingley Street\, Yeppoon\, Queensland\, Australia
CATEGORIES:Family friendly,Kid friendly,Toy Library
ATTACH;FMTTYPE=image/png:https://thewellbeinghub.com.au/wp-content/uploads/2026/03/956cb45a-d80b-4569-b424-efd7af7bdd23.png
END:VEVENT
BEGIN:VEVENT
DTSTART;TZID=Australia/Brisbane:20271007T093000
DTEND;TZID=Australia/Brisbane:20271007T113000
DTSTAMP:20260422T110457
CREATED:20260401T224331Z
LAST-MODIFIED:20260401T224334Z
UID:10001192-1822901400-1822908600@thewellbeinghub.com.au
SUMMARY:Capricorn Coast Toy Library Borrowing Sessions
DESCRIPTION:
URL:https://thewellbeinghub.com.au/event/capricorn-coast-toy-library-borrowing-sessions-2/2027-10-07/
LOCATION:Cap Coast Toy Library\, Cordingley Street\, Yeppoon\, Queensland\, Australia
CATEGORIES:Family friendly,Kid friendly,Toy Library
ATTACH;FMTTYPE=image/png:https://thewellbeinghub.com.au/wp-content/uploads/2026/03/956cb45a-d80b-4569-b424-efd7af7bdd23.png
END:VEVENT
END:VCALENDAR