BEGIN:VCALENDAR
VERSION:2.0
PRODID:-//The Wellbeing Hub - ECPv6.15.20//NONSGML v1.0//EN
CALSCALE:GREGORIAN
METHOD:PUBLISH
X-ORIGINAL-URL:https://thewellbeinghub.com.au
X-WR-CALDESC:Events for The Wellbeing Hub
REFRESH-INTERVAL;VALUE=DURATION:PT1H
X-Robots-Tag:noindex
X-PUBLISHED-TTL:PT1H
BEGIN:VTIMEZONE
TZID:Australia/Brisbane
BEGIN:STANDARD
TZOFFSETFROM:+1000
TZOFFSETTO:+1000
TZNAME:AEST
DTSTART:20260101T000000
END:STANDARD
END:VTIMEZONE
BEGIN:VEVENT
DTSTART;TZID=Australia/Brisbane:20271125T093000
DTEND;TZID=Australia/Brisbane:20271125T113000
DTSTAMP:20260420T083816
CREATED:20260401T224331Z
LAST-MODIFIED:20260401T224334Z
UID:10001206-1827135000-1827142200@thewellbeinghub.com.au
SUMMARY:Capricorn Coast Toy Library Borrowing Sessions
DESCRIPTION:
URL:https://thewellbeinghub.com.au/event/capricorn-coast-toy-library-borrowing-sessions-2/2027-11-25/
LOCATION:Cap Coast Toy Library\, Cordingley Street\, Yeppoon\, Queensland\, Australia
CATEGORIES:Family friendly,Kid friendly,Toy Library
ATTACH;FMTTYPE=image/png:https://thewellbeinghub.com.au/wp-content/uploads/2026/03/956cb45a-d80b-4569-b424-efd7af7bdd23.png
END:VEVENT
BEGIN:VEVENT
DTSTART;TZID=Australia/Brisbane:20271125T100000
DTEND;TZID=Australia/Brisbane:20271128T160000
DTSTAMP:20260420T083816
CREATED:20260319T013409Z
LAST-MODIFIED:20260319T033846Z
UID:10000596-1827136800-1827417600@thewellbeinghub.com.au
SUMMARY:Yeppoon Playability
DESCRIPTION:
URL:https://thewellbeinghub.com.au/event/yeppoon-playability/2027-11-25/
LOCATION:Yeppoon Show Grounds\, Morris Street\, Yeppoon\, Queensland\, Australia
CATEGORIES:Family friendly,Kid friendly
ATTACH;FMTTYPE=image/jpeg:https://thewellbeinghub.com.au/wp-content/uploads/2026/03/653711389_907443078849836_7305843221958883784_n.jpg
END:VEVENT
BEGIN:VEVENT
DTSTART;TZID=Australia/Brisbane:20271127T093000
DTEND;TZID=Australia/Brisbane:20271127T113000
DTSTAMP:20260420T083816
CREATED:20260401T224331Z
LAST-MODIFIED:20260401T224334Z
UID:10001207-1827307800-1827315000@thewellbeinghub.com.au
SUMMARY:Capricorn Coast Toy Library Borrowing Sessions
DESCRIPTION:
URL:https://thewellbeinghub.com.au/event/capricorn-coast-toy-library-borrowing-sessions-2/2027-11-27/
LOCATION:Cap Coast Toy Library\, Cordingley Street\, Yeppoon\, Queensland\, Australia
CATEGORIES:Family friendly,Kid friendly,Toy Library
ATTACH;FMTTYPE=image/png:https://thewellbeinghub.com.au/wp-content/uploads/2026/03/956cb45a-d80b-4569-b424-efd7af7bdd23.png
END:VEVENT
BEGIN:VEVENT
DTSTART;TZID=Australia/Brisbane:20271202T093000
DTEND;TZID=Australia/Brisbane:20271202T113000
DTSTAMP:20260420T083816
CREATED:20260401T224331Z
LAST-MODIFIED:20260401T224334Z
UID:10001208-1827739800-1827747000@thewellbeinghub.com.au
SUMMARY:Capricorn Coast Toy Library Borrowing Sessions
DESCRIPTION:
URL:https://thewellbeinghub.com.au/event/capricorn-coast-toy-library-borrowing-sessions-2/2027-12-02/
LOCATION:Cap Coast Toy Library\, Cordingley Street\, Yeppoon\, Queensland\, Australia
CATEGORIES:Family friendly,Kid friendly,Toy Library
ATTACH;FMTTYPE=image/png:https://thewellbeinghub.com.au/wp-content/uploads/2026/03/956cb45a-d80b-4569-b424-efd7af7bdd23.png
END:VEVENT
BEGIN:VEVENT
DTSTART;TZID=Australia/Brisbane:20271202T100000
DTEND;TZID=Australia/Brisbane:20271205T160000
DTSTAMP:20260420T083816
CREATED:20260319T013409Z
LAST-MODIFIED:20260319T033846Z
UID:10000597-1827741600-1828022400@thewellbeinghub.com.au
SUMMARY:Yeppoon Playability
DESCRIPTION:
URL:https://thewellbeinghub.com.au/event/yeppoon-playability/2027-12-02/
LOCATION:Yeppoon Show Grounds\, Morris Street\, Yeppoon\, Queensland\, Australia
CATEGORIES:Family friendly,Kid friendly
ATTACH;FMTTYPE=image/jpeg:https://thewellbeinghub.com.au/wp-content/uploads/2026/03/653711389_907443078849836_7305843221958883784_n.jpg
END:VEVENT
BEGIN:VEVENT
DTSTART;TZID=Australia/Brisbane:20271204T093000
DTEND;TZID=Australia/Brisbane:20271204T113000
DTSTAMP:20260420T083816
CREATED:20260401T224331Z
LAST-MODIFIED:20260401T224334Z
UID:10001209-1827912600-1827919800@thewellbeinghub.com.au
SUMMARY:Capricorn Coast Toy Library Borrowing Sessions
DESCRIPTION:
URL:https://thewellbeinghub.com.au/event/capricorn-coast-toy-library-borrowing-sessions-2/2027-12-04/
LOCATION:Cap Coast Toy Library\, Cordingley Street\, Yeppoon\, Queensland\, Australia
CATEGORIES:Family friendly,Kid friendly,Toy Library
ATTACH;FMTTYPE=image/png:https://thewellbeinghub.com.au/wp-content/uploads/2026/03/956cb45a-d80b-4569-b424-efd7af7bdd23.png
END:VEVENT
BEGIN:VEVENT
DTSTART;TZID=Australia/Brisbane:20271209T093000
DTEND;TZID=Australia/Brisbane:20271209T113000
DTSTAMP:20260420T083816
CREATED:20260401T224331Z
LAST-MODIFIED:20260401T224334Z
UID:10001210-1828344600-1828351800@thewellbeinghub.com.au
SUMMARY:Capricorn Coast Toy Library Borrowing Sessions
DESCRIPTION:
URL:https://thewellbeinghub.com.au/event/capricorn-coast-toy-library-borrowing-sessions-2/2027-12-09/
LOCATION:Cap Coast Toy Library\, Cordingley Street\, Yeppoon\, Queensland\, Australia
CATEGORIES:Family friendly,Kid friendly,Toy Library
ATTACH;FMTTYPE=image/png:https://thewellbeinghub.com.au/wp-content/uploads/2026/03/956cb45a-d80b-4569-b424-efd7af7bdd23.png
END:VEVENT
BEGIN:VEVENT
DTSTART;TZID=Australia/Brisbane:20271209T100000
DTEND;TZID=Australia/Brisbane:20271212T160000
DTSTAMP:20260420T083816
CREATED:20260319T013409Z
LAST-MODIFIED:20260319T033846Z
UID:10000598-1828346400-1828627200@thewellbeinghub.com.au
SUMMARY:Yeppoon Playability
DESCRIPTION:
URL:https://thewellbeinghub.com.au/event/yeppoon-playability/2027-12-09/
LOCATION:Yeppoon Show Grounds\, Morris Street\, Yeppoon\, Queensland\, Australia
CATEGORIES:Family friendly,Kid friendly
ATTACH;FMTTYPE=image/jpeg:https://thewellbeinghub.com.au/wp-content/uploads/2026/03/653711389_907443078849836_7305843221958883784_n.jpg
END:VEVENT
BEGIN:VEVENT
DTSTART;TZID=Australia/Brisbane:20271211T093000
DTEND;TZID=Australia/Brisbane:20271211T113000
DTSTAMP:20260420T083816
CREATED:20260401T224331Z
LAST-MODIFIED:20260401T224334Z
UID:10001211-1828517400-1828524600@thewellbeinghub.com.au
SUMMARY:Capricorn Coast Toy Library Borrowing Sessions
DESCRIPTION:
URL:https://thewellbeinghub.com.au/event/capricorn-coast-toy-library-borrowing-sessions-2/2027-12-11/
LOCATION:Cap Coast Toy Library\, Cordingley Street\, Yeppoon\, Queensland\, Australia
CATEGORIES:Family friendly,Kid friendly,Toy Library
ATTACH;FMTTYPE=image/png:https://thewellbeinghub.com.au/wp-content/uploads/2026/03/956cb45a-d80b-4569-b424-efd7af7bdd23.png
END:VEVENT
BEGIN:VEVENT
DTSTART;TZID=Australia/Brisbane:20271216T093000
DTEND;TZID=Australia/Brisbane:20271216T113000
DTSTAMP:20260420T083816
CREATED:20260401T224331Z
LAST-MODIFIED:20260401T224334Z
UID:10001212-1828949400-1828956600@thewellbeinghub.com.au
SUMMARY:Capricorn Coast Toy Library Borrowing Sessions
DESCRIPTION:
URL:https://thewellbeinghub.com.au/event/capricorn-coast-toy-library-borrowing-sessions-2/2027-12-16/
LOCATION:Cap Coast Toy Library\, Cordingley Street\, Yeppoon\, Queensland\, Australia
CATEGORIES:Family friendly,Kid friendly,Toy Library
ATTACH;FMTTYPE=image/png:https://thewellbeinghub.com.au/wp-content/uploads/2026/03/956cb45a-d80b-4569-b424-efd7af7bdd23.png
END:VEVENT
BEGIN:VEVENT
DTSTART;TZID=Australia/Brisbane:20271216T100000
DTEND;TZID=Australia/Brisbane:20271219T160000
DTSTAMP:20260420T083816
CREATED:20260319T013409Z
LAST-MODIFIED:20260319T033846Z
UID:10000599-1828951200-1829232000@thewellbeinghub.com.au
SUMMARY:Yeppoon Playability
DESCRIPTION:
URL:https://thewellbeinghub.com.au/event/yeppoon-playability/2027-12-16/
LOCATION:Yeppoon Show Grounds\, Morris Street\, Yeppoon\, Queensland\, Australia
CATEGORIES:Family friendly,Kid friendly
ATTACH;FMTTYPE=image/jpeg:https://thewellbeinghub.com.au/wp-content/uploads/2026/03/653711389_907443078849836_7305843221958883784_n.jpg
END:VEVENT
BEGIN:VEVENT
DTSTART;TZID=Australia/Brisbane:20271218T093000
DTEND;TZID=Australia/Brisbane:20271218T113000
DTSTAMP:20260420T083816
CREATED:20260401T224331Z
LAST-MODIFIED:20260401T224334Z
UID:10001213-1829122200-1829129400@thewellbeinghub.com.au
SUMMARY:Capricorn Coast Toy Library Borrowing Sessions
DESCRIPTION:
URL:https://thewellbeinghub.com.au/event/capricorn-coast-toy-library-borrowing-sessions-2/2027-12-18/
LOCATION:Cap Coast Toy Library\, Cordingley Street\, Yeppoon\, Queensland\, Australia
CATEGORIES:Family friendly,Kid friendly,Toy Library
ATTACH;FMTTYPE=image/png:https://thewellbeinghub.com.au/wp-content/uploads/2026/03/956cb45a-d80b-4569-b424-efd7af7bdd23.png
END:VEVENT
BEGIN:VEVENT
DTSTART;TZID=Australia/Brisbane:20271223T093000
DTEND;TZID=Australia/Brisbane:20271223T113000
DTSTAMP:20260420T083816
CREATED:20260401T224331Z
LAST-MODIFIED:20260401T224334Z
UID:10001214-1829554200-1829561400@thewellbeinghub.com.au
SUMMARY:Capricorn Coast Toy Library Borrowing Sessions
DESCRIPTION:
URL:https://thewellbeinghub.com.au/event/capricorn-coast-toy-library-borrowing-sessions-2/2027-12-23/
LOCATION:Cap Coast Toy Library\, Cordingley Street\, Yeppoon\, Queensland\, Australia
CATEGORIES:Family friendly,Kid friendly,Toy Library
ATTACH;FMTTYPE=image/png:https://thewellbeinghub.com.au/wp-content/uploads/2026/03/956cb45a-d80b-4569-b424-efd7af7bdd23.png
END:VEVENT
BEGIN:VEVENT
DTSTART;TZID=Australia/Brisbane:20271223T100000
DTEND;TZID=Australia/Brisbane:20271226T160000
DTSTAMP:20260420T083816
CREATED:20260319T013409Z
LAST-MODIFIED:20260319T033846Z
UID:10000600-1829556000-1829836800@thewellbeinghub.com.au
SUMMARY:Yeppoon Playability
DESCRIPTION:
URL:https://thewellbeinghub.com.au/event/yeppoon-playability/2027-12-23/
LOCATION:Yeppoon Show Grounds\, Morris Street\, Yeppoon\, Queensland\, Australia
CATEGORIES:Family friendly,Kid friendly
ATTACH;FMTTYPE=image/jpeg:https://thewellbeinghub.com.au/wp-content/uploads/2026/03/653711389_907443078849836_7305843221958883784_n.jpg
END:VEVENT
BEGIN:VEVENT
DTSTART;TZID=Australia/Brisbane:20271225T093000
DTEND;TZID=Australia/Brisbane:20271225T113000
DTSTAMP:20260420T083816
CREATED:20260401T224331Z
LAST-MODIFIED:20260401T224334Z
UID:10001215-1829727000-1829734200@thewellbeinghub.com.au
SUMMARY:Capricorn Coast Toy Library Borrowing Sessions
DESCRIPTION:
URL:https://thewellbeinghub.com.au/event/capricorn-coast-toy-library-borrowing-sessions-2/2027-12-25/
LOCATION:Cap Coast Toy Library\, Cordingley Street\, Yeppoon\, Queensland\, Australia
CATEGORIES:Family friendly,Kid friendly,Toy Library
ATTACH;FMTTYPE=image/png:https://thewellbeinghub.com.au/wp-content/uploads/2026/03/956cb45a-d80b-4569-b424-efd7af7bdd23.png
END:VEVENT
BEGIN:VEVENT
DTSTART;TZID=Australia/Brisbane:20271230T093000
DTEND;TZID=Australia/Brisbane:20271230T113000
DTSTAMP:20260420T083816
CREATED:20260401T224331Z
LAST-MODIFIED:20260401T224334Z
UID:10001216-1830159000-1830166200@thewellbeinghub.com.au
SUMMARY:Capricorn Coast Toy Library Borrowing Sessions
DESCRIPTION:
URL:https://thewellbeinghub.com.au/event/capricorn-coast-toy-library-borrowing-sessions-2/2027-12-30/
LOCATION:Cap Coast Toy Library\, Cordingley Street\, Yeppoon\, Queensland\, Australia
CATEGORIES:Family friendly,Kid friendly,Toy Library
ATTACH;FMTTYPE=image/png:https://thewellbeinghub.com.au/wp-content/uploads/2026/03/956cb45a-d80b-4569-b424-efd7af7bdd23.png
END:VEVENT
BEGIN:VEVENT
DTSTART;TZID=Australia/Brisbane:20271230T100000
DTEND;TZID=Australia/Brisbane:20280102T160000
DTSTAMP:20260420T083816
CREATED:20260319T013409Z
LAST-MODIFIED:20260319T033846Z
UID:10000601-1830160800-1830441600@thewellbeinghub.com.au
SUMMARY:Yeppoon Playability
DESCRIPTION:
URL:https://thewellbeinghub.com.au/event/yeppoon-playability/2027-12-30/
LOCATION:Yeppoon Show Grounds\, Morris Street\, Yeppoon\, Queensland\, Australia
CATEGORIES:Family friendly,Kid friendly
ATTACH;FMTTYPE=image/jpeg:https://thewellbeinghub.com.au/wp-content/uploads/2026/03/653711389_907443078849836_7305843221958883784_n.jpg
END:VEVENT
BEGIN:VEVENT
DTSTART;TZID=Australia/Brisbane:20280101T093000
DTEND;TZID=Australia/Brisbane:20280101T113000
DTSTAMP:20260420T083816
CREATED:20260401T224331Z
LAST-MODIFIED:20260401T224334Z
UID:10001217-1830331800-1830339000@thewellbeinghub.com.au
SUMMARY:Capricorn Coast Toy Library Borrowing Sessions
DESCRIPTION:
URL:https://thewellbeinghub.com.au/event/capricorn-coast-toy-library-borrowing-sessions-2/2028-01-01/
LOCATION:Cap Coast Toy Library\, Cordingley Street\, Yeppoon\, Queensland\, Australia
CATEGORIES:Family friendly,Kid friendly,Toy Library
ATTACH;FMTTYPE=image/png:https://thewellbeinghub.com.au/wp-content/uploads/2026/03/956cb45a-d80b-4569-b424-efd7af7bdd23.png
END:VEVENT
BEGIN:VEVENT
DTSTART;TZID=Australia/Brisbane:20280106T093000
DTEND;TZID=Australia/Brisbane:20280106T113000
DTSTAMP:20260420T083816
CREATED:20260401T224331Z
LAST-MODIFIED:20260401T224334Z
UID:10001218-1830763800-1830771000@thewellbeinghub.com.au
SUMMARY:Capricorn Coast Toy Library Borrowing Sessions
DESCRIPTION:
URL:https://thewellbeinghub.com.au/event/capricorn-coast-toy-library-borrowing-sessions-2/2028-01-06/
LOCATION:Cap Coast Toy Library\, Cordingley Street\, Yeppoon\, Queensland\, Australia
CATEGORIES:Family friendly,Kid friendly,Toy Library
ATTACH;FMTTYPE=image/png:https://thewellbeinghub.com.au/wp-content/uploads/2026/03/956cb45a-d80b-4569-b424-efd7af7bdd23.png
END:VEVENT
BEGIN:VEVENT
DTSTART;TZID=Australia/Brisbane:20280106T100000
DTEND;TZID=Australia/Brisbane:20280109T160000
DTSTAMP:20260420T083816
CREATED:20260319T013409Z
LAST-MODIFIED:20260319T033846Z
UID:10000602-1830765600-1831046400@thewellbeinghub.com.au
SUMMARY:Yeppoon Playability
DESCRIPTION:
URL:https://thewellbeinghub.com.au/event/yeppoon-playability/2028-01-06/
LOCATION:Yeppoon Show Grounds\, Morris Street\, Yeppoon\, Queensland\, Australia
CATEGORIES:Family friendly,Kid friendly
ATTACH;FMTTYPE=image/jpeg:https://thewellbeinghub.com.au/wp-content/uploads/2026/03/653711389_907443078849836_7305843221958883784_n.jpg
END:VEVENT
BEGIN:VEVENT
DTSTART;TZID=Australia/Brisbane:20280108T093000
DTEND;TZID=Australia/Brisbane:20280108T113000
DTSTAMP:20260420T083817
CREATED:20260401T224331Z
LAST-MODIFIED:20260401T224334Z
UID:10001219-1830936600-1830943800@thewellbeinghub.com.au
SUMMARY:Capricorn Coast Toy Library Borrowing Sessions
DESCRIPTION:
URL:https://thewellbeinghub.com.au/event/capricorn-coast-toy-library-borrowing-sessions-2/2028-01-08/
LOCATION:Cap Coast Toy Library\, Cordingley Street\, Yeppoon\, Queensland\, Australia
CATEGORIES:Family friendly,Kid friendly,Toy Library
ATTACH;FMTTYPE=image/png:https://thewellbeinghub.com.au/wp-content/uploads/2026/03/956cb45a-d80b-4569-b424-efd7af7bdd23.png
END:VEVENT
BEGIN:VEVENT
DTSTART;TZID=Australia/Brisbane:20280113T093000
DTEND;TZID=Australia/Brisbane:20280113T113000
DTSTAMP:20260420T083817
CREATED:20260401T224331Z
LAST-MODIFIED:20260401T224334Z
UID:10001220-1831368600-1831375800@thewellbeinghub.com.au
SUMMARY:Capricorn Coast Toy Library Borrowing Sessions
DESCRIPTION:
URL:https://thewellbeinghub.com.au/event/capricorn-coast-toy-library-borrowing-sessions-2/2028-01-13/
LOCATION:Cap Coast Toy Library\, Cordingley Street\, Yeppoon\, Queensland\, Australia
CATEGORIES:Family friendly,Kid friendly,Toy Library
ATTACH;FMTTYPE=image/png:https://thewellbeinghub.com.au/wp-content/uploads/2026/03/956cb45a-d80b-4569-b424-efd7af7bdd23.png
END:VEVENT
BEGIN:VEVENT
DTSTART;TZID=Australia/Brisbane:20280113T100000
DTEND;TZID=Australia/Brisbane:20280116T160000
DTSTAMP:20260420T083817
CREATED:20260319T013409Z
LAST-MODIFIED:20260319T033846Z
UID:10000603-1831370400-1831651200@thewellbeinghub.com.au
SUMMARY:Yeppoon Playability
DESCRIPTION:
URL:https://thewellbeinghub.com.au/event/yeppoon-playability/2028-01-13/
LOCATION:Yeppoon Show Grounds\, Morris Street\, Yeppoon\, Queensland\, Australia
CATEGORIES:Family friendly,Kid friendly
ATTACH;FMTTYPE=image/jpeg:https://thewellbeinghub.com.au/wp-content/uploads/2026/03/653711389_907443078849836_7305843221958883784_n.jpg
END:VEVENT
BEGIN:VEVENT
DTSTART;TZID=Australia/Brisbane:20280115T093000
DTEND;TZID=Australia/Brisbane:20280115T113000
DTSTAMP:20260420T083817
CREATED:20260401T224331Z
LAST-MODIFIED:20260401T224334Z
UID:10001221-1831541400-1831548600@thewellbeinghub.com.au
SUMMARY:Capricorn Coast Toy Library Borrowing Sessions
DESCRIPTION:
URL:https://thewellbeinghub.com.au/event/capricorn-coast-toy-library-borrowing-sessions-2/2028-01-15/
LOCATION:Cap Coast Toy Library\, Cordingley Street\, Yeppoon\, Queensland\, Australia
CATEGORIES:Family friendly,Kid friendly,Toy Library
ATTACH;FMTTYPE=image/png:https://thewellbeinghub.com.au/wp-content/uploads/2026/03/956cb45a-d80b-4569-b424-efd7af7bdd23.png
END:VEVENT
BEGIN:VEVENT
DTSTART;TZID=Australia/Brisbane:20280120T093000
DTEND;TZID=Australia/Brisbane:20280120T113000
DTSTAMP:20260420T083817
CREATED:20260401T224331Z
LAST-MODIFIED:20260401T224334Z
UID:10001222-1831973400-1831980600@thewellbeinghub.com.au
SUMMARY:Capricorn Coast Toy Library Borrowing Sessions
DESCRIPTION:
URL:https://thewellbeinghub.com.au/event/capricorn-coast-toy-library-borrowing-sessions-2/2028-01-20/
LOCATION:Cap Coast Toy Library\, Cordingley Street\, Yeppoon\, Queensland\, Australia
CATEGORIES:Family friendly,Kid friendly,Toy Library
ATTACH;FMTTYPE=image/png:https://thewellbeinghub.com.au/wp-content/uploads/2026/03/956cb45a-d80b-4569-b424-efd7af7bdd23.png
END:VEVENT
BEGIN:VEVENT
DTSTART;TZID=Australia/Brisbane:20280120T100000
DTEND;TZID=Australia/Brisbane:20280123T160000
DTSTAMP:20260420T083817
CREATED:20260319T013409Z
LAST-MODIFIED:20260319T033846Z
UID:10000604-1831975200-1832256000@thewellbeinghub.com.au
SUMMARY:Yeppoon Playability
DESCRIPTION:
URL:https://thewellbeinghub.com.au/event/yeppoon-playability/2028-01-20/
LOCATION:Yeppoon Show Grounds\, Morris Street\, Yeppoon\, Queensland\, Australia
CATEGORIES:Family friendly,Kid friendly
ATTACH;FMTTYPE=image/jpeg:https://thewellbeinghub.com.au/wp-content/uploads/2026/03/653711389_907443078849836_7305843221958883784_n.jpg
END:VEVENT
BEGIN:VEVENT
DTSTART;TZID=Australia/Brisbane:20280122T093000
DTEND;TZID=Australia/Brisbane:20280122T113000
DTSTAMP:20260420T083817
CREATED:20260401T224331Z
LAST-MODIFIED:20260401T224334Z
UID:10001223-1832146200-1832153400@thewellbeinghub.com.au
SUMMARY:Capricorn Coast Toy Library Borrowing Sessions
DESCRIPTION:
URL:https://thewellbeinghub.com.au/event/capricorn-coast-toy-library-borrowing-sessions-2/2028-01-22/
LOCATION:Cap Coast Toy Library\, Cordingley Street\, Yeppoon\, Queensland\, Australia
CATEGORIES:Family friendly,Kid friendly,Toy Library
ATTACH;FMTTYPE=image/png:https://thewellbeinghub.com.au/wp-content/uploads/2026/03/956cb45a-d80b-4569-b424-efd7af7bdd23.png
END:VEVENT
BEGIN:VEVENT
DTSTART;TZID=Australia/Brisbane:20280127T093000
DTEND;TZID=Australia/Brisbane:20280127T113000
DTSTAMP:20260420T083817
CREATED:20260401T224331Z
LAST-MODIFIED:20260401T224334Z
UID:10001224-1832578200-1832585400@thewellbeinghub.com.au
SUMMARY:Capricorn Coast Toy Library Borrowing Sessions
DESCRIPTION:
URL:https://thewellbeinghub.com.au/event/capricorn-coast-toy-library-borrowing-sessions-2/2028-01-27/
LOCATION:Cap Coast Toy Library\, Cordingley Street\, Yeppoon\, Queensland\, Australia
CATEGORIES:Family friendly,Kid friendly,Toy Library
ATTACH;FMTTYPE=image/png:https://thewellbeinghub.com.au/wp-content/uploads/2026/03/956cb45a-d80b-4569-b424-efd7af7bdd23.png
END:VEVENT
BEGIN:VEVENT
DTSTART;TZID=Australia/Brisbane:20280127T100000
DTEND;TZID=Australia/Brisbane:20280130T160000
DTSTAMP:20260420T083817
CREATED:20260319T013409Z
LAST-MODIFIED:20260319T033846Z
UID:10000605-1832580000-1832860800@thewellbeinghub.com.au
SUMMARY:Yeppoon Playability
DESCRIPTION:
URL:https://thewellbeinghub.com.au/event/yeppoon-playability/2028-01-27/
LOCATION:Yeppoon Show Grounds\, Morris Street\, Yeppoon\, Queensland\, Australia
CATEGORIES:Family friendly,Kid friendly
ATTACH;FMTTYPE=image/jpeg:https://thewellbeinghub.com.au/wp-content/uploads/2026/03/653711389_907443078849836_7305843221958883784_n.jpg
END:VEVENT
BEGIN:VEVENT
DTSTART;TZID=Australia/Brisbane:20280129T093000
DTEND;TZID=Australia/Brisbane:20280129T113000
DTSTAMP:20260420T083817
CREATED:20260401T224331Z
LAST-MODIFIED:20260401T224334Z
UID:10001225-1832751000-1832758200@thewellbeinghub.com.au
SUMMARY:Capricorn Coast Toy Library Borrowing Sessions
DESCRIPTION:
URL:https://thewellbeinghub.com.au/event/capricorn-coast-toy-library-borrowing-sessions-2/2028-01-29/
LOCATION:Cap Coast Toy Library\, Cordingley Street\, Yeppoon\, Queensland\, Australia
CATEGORIES:Family friendly,Kid friendly,Toy Library
ATTACH;FMTTYPE=image/png:https://thewellbeinghub.com.au/wp-content/uploads/2026/03/956cb45a-d80b-4569-b424-efd7af7bdd23.png
END:VEVENT
END:VCALENDAR