BEGIN:VCALENDAR
VERSION:2.0
PRODID:-//The Wellbeing Hub - ECPv6.15.20//NONSGML v1.0//EN
CALSCALE:GREGORIAN
METHOD:PUBLISH
X-ORIGINAL-URL:https://thewellbeinghub.com.au
X-WR-CALDESC:Events for The Wellbeing Hub
REFRESH-INTERVAL;VALUE=DURATION:PT1H
X-Robots-Tag:noindex
X-PUBLISHED-TTL:PT1H
BEGIN:VTIMEZONE
TZID:Australia/Brisbane
BEGIN:STANDARD
TZOFFSETFROM:+1000
TZOFFSETTO:+1000
TZNAME:AEST
DTSTART:20250101T000000
END:STANDARD
END:VTIMEZONE
BEGIN:VEVENT
DTSTART;TZID=Australia/Brisbane:20260315T083000
DTEND;TZID=Australia/Brisbane:20260315T110000
DTSTAMP:20260425T030839
CREATED:20260114T025539Z
LAST-MODIFIED:20260114T025539Z
UID:10000251-1773563400-1773572400@thewellbeinghub.com.au
SUMMARY:One Walk Yeppoon
DESCRIPTION:Join the world’s #1 fundraising walk for families living with type 1 diabetes\n\nEach year\, around thousands of Aussies raise over $1million for life changing T1D research at Breakthrough T1D’s One Walk. Join in the fun at our Yeppoon event! Here’s what you need to know:\n\n Date: Sunday\, 15 March 2026 Time: 8:30 AM (Walk starts at 9:00 AM) Location: Yeppoon Beachfront\, Anzac Parade\, Yeppoon QLD 4703\n\nEvent info: One Walk Distance: 4km Pram and Wheelchair Friendly? Yes Are Dogs Permitted? Yes\, on a lead Parking Available? Yes\n\nExtra event details:Local coffee shops nearby Music Face painting Kids activities Raffle\nYou can make a powerful impact by joining the global leader in T1D research for a fun\, FREE family day out with a shared goal.\nWalk with us and help turn type one into type none for your special some1
URL:https://thewellbeinghub.com.au/event/one-walk-yeppoon/
LOCATION:Yeppoon Beachfront\, Yeppoon\, Quee\, Australia
CATEGORIES:Family friendly,Fundraiser,walking group
ATTACH;FMTTYPE=image/jpeg:https://thewellbeinghub.com.au/wp-content/uploads/2026/01/611274556_1280967640746035_3675817962536071896_n.jpg
END:VEVENT
END:VCALENDAR