BEGIN:VCALENDAR
VERSION:2.0
PRODID:-//The Wellbeing Hub - ECPv6.15.20//NONSGML v1.0//EN
CALSCALE:GREGORIAN
METHOD:PUBLISH
X-WR-CALNAME:The Wellbeing Hub
X-ORIGINAL-URL:https://thewellbeinghub.com.au
X-WR-CALDESC:Events for The Wellbeing Hub
REFRESH-INTERVAL;VALUE=DURATION:PT1H
X-Robots-Tag:noindex
X-PUBLISHED-TTL:PT1H
BEGIN:VTIMEZONE
TZID:Australia/Brisbane
BEGIN:STANDARD
TZOFFSETFROM:+1000
TZOFFSETTO:+1000
TZNAME:AEST
DTSTART:20250101T000000
END:STANDARD
END:VTIMEZONE
BEGIN:VEVENT
DTSTART;TZID=Australia/Brisbane:20260321T183000
DTEND;TZID=Australia/Brisbane:20260321T233000
DTSTAMP:20260425T025201
CREATED:20260114T010121Z
LAST-MODIFIED:20260114T010121Z
UID:10000234-1774117800-1774135800@thewellbeinghub.com.au
SUMMARY:Jabiru Community Ball
DESCRIPTION:Join us for the Inaugural Jabiru Community Ball to bring together our community to raise funds to secure a bus for the Yeppoon RSL\, Emu Park Sub-Branch and the Legacy Ladies of Rockhampton. \nTickets: $275 per person Dress: Black Tie \nIncludes: Return bus transfers from the RSL Yeppoon (Return bus transfers from Rockhampton $20 per guest departing from the Rockhampton Police Station exchange at 5.30pm). Two Course sit down dinner (Guests seated at tables of 10) Beverage package including a selection of beers\, wines & bubbles Dance the night away with the fabulous Rhonda Janes Band Entertainment\, Raffles & Charity Auction Be part of Jabiru’s very first community ball and make a real difference for our veterans.
URL:https://thewellbeinghub.com.au/event/jabiru-community-ball/
LOCATION:Jabiru Events Centre\, 15 Jabiru Drive\, Yeppoon\, Queensland\, Australia
CATEGORIES:Community event,Fundraiser
ATTACH;FMTTYPE=image/jpeg:https://thewellbeinghub.com.au/wp-content/uploads/2026/01/611004494_122167747010834979_2538996247548906380_n.jpg
END:VEVENT
END:VCALENDAR