BEGIN:VCALENDAR
VERSION:2.0
PRODID:-//The Wellbeing Hub - ECPv6.15.20//NONSGML v1.0//EN
CALSCALE:GREGORIAN
METHOD:PUBLISH
X-WR-CALNAME:The Wellbeing Hub
X-ORIGINAL-URL:https://thewellbeinghub.com.au
X-WR-CALDESC:Events for The Wellbeing Hub
REFRESH-INTERVAL;VALUE=DURATION:PT1H
X-Robots-Tag:noindex
X-PUBLISHED-TTL:PT1H
BEGIN:VTIMEZONE
TZID:Australia/Brisbane
BEGIN:STANDARD
TZOFFSETFROM:+1000
TZOFFSETTO:+1000
TZNAME:AEST
DTSTART:20250101T000000
END:STANDARD
END:VTIMEZONE
BEGIN:VEVENT
DTSTART;TZID=Australia/Brisbane:20260227T180000
DTEND;TZID=Australia/Brisbane:20260227T200000
DTSTAMP:20260424T071934
CREATED:20260221T232724Z
LAST-MODIFIED:20260221T232724Z
UID:10000366-1772215200-1772222400@thewellbeinghub.com.au
SUMMARY:Xbox Community Game Night
DESCRIPTION: Xbox Cowmunity Game Night is Coming! \n\nWe’re loading up the green machine for our next Cowmunity Game Night\, and this time it’s a full Xbox takeover. Get ready to relive the golden era and throw down on some of the greatest Xbox classics ever made.\n\nJoin Cowman Gaming Co and Kerr Solutions for a night of nostalgia\, competition\, and pure multiplayer chaos.\n Friday\, February 27th 6:00–8:00pm @greatwesternhotel FREE ENTRY\n\nWe’re bringing the heat with legendary titles including: Halo 3 Party Animals Call of Duty: Modern Warfare 2 Plus extra surprise titles you won’t see coming…\n Free to play All skill levels welcome Classic Xbox multiplayer experiences Awesome food + cold drinks available\nThis is where friendships are forged\, rivalries are born\, and memories are made. Round up your squad. Power on. And finish the fight. 
URL:https://thewellbeinghub.com.au/event/xbox-community-game-night/
LOCATION:The Great Western Hotel\, 39 Stanley Street\, Rockhampton\, QLD\, Australia
CATEGORIES:Gaming
END:VEVENT
END:VCALENDAR