BEGIN:VCALENDAR
VERSION:2.0
PRODID:-//The Wellbeing Hub - ECPv6.15.20//NONSGML v1.0//EN
CALSCALE:GREGORIAN
METHOD:PUBLISH
X-ORIGINAL-URL:https://thewellbeinghub.com.au
X-WR-CALDESC:Events for The Wellbeing Hub
REFRESH-INTERVAL;VALUE=DURATION:PT1H
X-Robots-Tag:noindex
X-PUBLISHED-TTL:PT1H
BEGIN:VTIMEZONE
TZID:Australia/Brisbane
BEGIN:STANDARD
TZOFFSETFROM:+1000
TZOFFSETTO:+1000
TZNAME:AEST
DTSTART:20250101T000000
END:STANDARD
END:VTIMEZONE
BEGIN:VEVENT
DTSTART;TZID=Australia/Brisbane:20260308T130000
DTEND;TZID=Australia/Brisbane:20260308T150000
DTSTAMP:20260420T042349
CREATED:20260222T023718Z
LAST-MODIFIED:20260222T023718Z
UID:10000379-1772974800-1772982000@thewellbeinghub.com.au
SUMMARY:International Women's Day High Tea
DESCRIPTION:Sunday 8th March | 1pm – 3pm\n Riverston Tea Rooms\, Rockhampton $75 per person (includes a $15 donation to ZONTA Club of Rockhampton) Bookings Essential\n\nJoin us for a beautiful afternoon of elegance\, connection and celebration as we honour International Women’s Day with a special fundraising High Tea at Riverston Tea Rooms.\n\nGather your friends\, mothers\, daughters\, sisters and colleagues for an indulgent High Tea experience featuring our signature selection of handcrafted savoury delights\, freshly baked sweets and decadent treats\, all served with premium teas (and coffee\, of course!).\n\nThis special event proudly supports ZONTA Club of Rockhampton\, with $15 from every ticket donated directly to assist their important local initiatives.\n About ZONTA Club of Rockhampton\n\nZONTA Club of Rockhampton is part of Zonta International — a global organisation dedicated to building a better world for women and girls. Locally\, ZONTA works to empower women through advocacy\, education\, scholarships and community programs aimed at advancing gender equality and preventing violence against women.\nBy attending this High Tea\, you are directly supporting meaningful change within our Rockhampton community.\nLet’s raise a teacup to strong women — may we know them\, may we be them\, may we support them.\n Spaces are limited – bookings are essential
URL:https://thewellbeinghub.com.au/event/international-womens-day-high-tea/
LOCATION:Riverston Tea Rooms\, 186 Quay Street\, Rockhampton\, Australia
CATEGORIES:High Tea,International Women's Day
ATTACH;FMTTYPE=image/jpeg:https://thewellbeinghub.com.au/wp-content/uploads/2026/02/636884795_1449570380511508_8118160061336951952_n.jpg
END:VEVENT
END:VCALENDAR