BEGIN:VCALENDAR
VERSION:2.0
PRODID:-//The Wellbeing Hub - ECPv6.15.20//NONSGML v1.0//EN
CALSCALE:GREGORIAN
METHOD:PUBLISH
X-WR-CALNAME:The Wellbeing Hub
X-ORIGINAL-URL:https://thewellbeinghub.com.au
X-WR-CALDESC:Events for The Wellbeing Hub
REFRESH-INTERVAL;VALUE=DURATION:PT1H
X-Robots-Tag:noindex
X-PUBLISHED-TTL:PT1H
BEGIN:VTIMEZONE
TZID:Australia/Brisbane
BEGIN:STANDARD
TZOFFSETFROM:+1000
TZOFFSETTO:+1000
TZNAME:AEST
DTSTART:20250101T000000
END:STANDARD
END:VTIMEZONE
BEGIN:VEVENT
DTSTART;TZID=Australia/Brisbane:20260303T100000
DTEND;TZID=Australia/Brisbane:20260303T110000
DTSTAMP:20260422T053227
CREATED:20260128T004732Z
LAST-MODIFIED:20260128T004732Z
UID:10000273-1772532000-1772535600@thewellbeinghub.com.au
SUMMARY:Where is the Green Sheep?
DESCRIPTION:Monkey Baa Theatre’s Where is the Green Sheep? is an immersive visual theatre experience based on the beloved children’s book by Mem Fox and Judy Horacek. We meet Blue Sheep who loves blue flowers and Red Sheep who loves to cartwheel in the fields\, Bath Sheep who loves bubbles and Bed Sheep who loves to bounce… But where IS that Green Sheep?\n\nTickets and info: www.seeitlive.com.auSuitable for ages 1-6 and their families.\nBlending puppetry and animation\, this beautiful production invites young audiences to join our three farmers on their quest to find the elusive green sheep. Co-created with students from Bankstown West Public School\, this production integrates their voices as narrators\, ensuring the work resonates deeply with young audiences.\n\nA Monkey Baa Theatre Company and QPAC’s Out of the Box co-production.\n\nBased on the book by Mem Fox and Judy Horacek.\nWritten for the stage and directed by Eva Di Cesare.\n\nWhere is the Green Sheep? is a co-production with QPAC’s Out of the Box in association with Arts Centre Melbourne\, The Sydney Opera House and The Art House\, Wyong.\nPresented by Rockhampton Regional Council. Part of the 2026 See It Live Theatre Season.
URL:https://thewellbeinghub.com.au/event/where-is-the-green-sheep/
LOCATION:Pilbeam Theatre\, Cnr Victoria Parade & Campbell Streets\, Rockhampton\, Queensland\, 4703\, Australia
CATEGORIES:Kid friendly,Live show
ATTACH;FMTTYPE=image/jpeg:https://thewellbeinghub.com.au/wp-content/uploads/2026/01/614437905_1285036930314460_4858063460874754777_n.jpg
END:VEVENT
END:VCALENDAR