BEGIN:VCALENDAR
VERSION:2.0
PRODID:-//The Wellbeing Hub - ECPv6.15.20//NONSGML v1.0//EN
CALSCALE:GREGORIAN
METHOD:PUBLISH
X-WR-CALNAME:The Wellbeing Hub
X-ORIGINAL-URL:https://thewellbeinghub.com.au
X-WR-CALDESC:Events for The Wellbeing Hub
REFRESH-INTERVAL;VALUE=DURATION:PT1H
X-Robots-Tag:noindex
X-PUBLISHED-TTL:PT1H
BEGIN:VTIMEZONE
TZID:Australia/Brisbane
BEGIN:STANDARD
TZOFFSETFROM:+1000
TZOFFSETTO:+1000
TZNAME:AEST
DTSTART:20240101T000000
END:STANDARD
END:VTIMEZONE
BEGIN:VEVENT
DTSTART;TZID=Australia/Brisbane:20260412T103000
DTEND;TZID=Australia/Brisbane:20260412T123000
DTSTAMP:20260421T210939
CREATED:20260409T034358Z
LAST-MODIFIED:20260409T034358Z
UID:10003848-1775989800-1775997000@thewellbeinghub.com.au
SUMMARY:Free BBQ for Men - Mr Perfect Yeppoon
DESCRIPTION:Location – Bluff Point – Kemp Beach Picnic AreaTime 10:30am – 12:30pm\nWet Weather Location – Causeway Lake Coffee Shop\nWHAT IS IT?A community organisation connecting men across Australia over a relaxed free BBQ to chat about all things life.But we are more than a BBQ.Online we provide quality resources for the good of men’s mental health.WHY DO IT? Conversation (and listening) always helps.Weather\, work\, footy\, family challenges and life changes. Getting outside in the sunshine is healthy.An antidote to the COVID-age isolation\, meeting a welcoming bunch of guys. Meeting new mates.Our community has met outside of the BBQ\, to cycle\, have coffee and form a support network.
URL:https://thewellbeinghub.com.au/event/free-bbq-for-men-mr-perfect-yeppoon/2026-04-12/
LOCATION:Kemp Beach Picnic Area\, Kemp Beach\, Queen\, Australia
CATEGORIES:Community event,Free event,Men's Mental Health
ATTACH;FMTTYPE=image/jpeg:https://thewellbeinghub.com.au/wp-content/uploads/2026/04/581909344_1274838208022192_3216855842347969210_n.jpg
END:VEVENT
BEGIN:VEVENT
DTSTART;TZID=Australia/Brisbane:20260328T070000
DTEND;TZID=Australia/Brisbane:20260328T090000
DTSTAMP:20260421T210939
CREATED:20260128T002548Z
LAST-MODIFIED:20260128T002548Z
UID:10000269-1774681200-1774688400@thewellbeinghub.com.au
SUMMARY:Walk & Talk - Yeppoon Catch Up Men's Walk
DESCRIPTION:Start your weekend right with:– Free coffee or beverage– Fresh donuts from Galactic Donuts– wholesome and engaging conversation with like-minded fellas!No Pressure\, just blokes catching up and enjoying some food and drink and socialising.Not a fan of walking? Stay back at the coffee shop with others to keep the donuts safe until the others return
URL:https://thewellbeinghub.com.au/event/walk-talk-yeppoon-catch-up-mens-walk/
LOCATION:Keppel Bay Sailing Club\, Anzac Parade\, Yeppoon\, Queensland\, Australia
CATEGORIES:Men's Mental Health,mental health,walking group
ATTACH;FMTTYPE=image/jpeg:https://thewellbeinghub.com.au/wp-content/uploads/2026/01/605303752_793445407079652_7898634319489365304_n.jpg
ORGANIZER;CN="Walk n Talk":MAILTO:Enquiry@walkntalkcollective.org.au
END:VEVENT
BEGIN:VEVENT
DTSTART;TZID=Australia/Brisbane:20260228T070000
DTEND;TZID=Australia/Brisbane:20260228T100000
DTSTAMP:20260421T210939
CREATED:20260112T045914Z
LAST-MODIFIED:20260112T045914Z
UID:10000225-1772262000-1772272800@thewellbeinghub.com.au
SUMMARY:Men's Catch Up Yeppoon
DESCRIPTION:Come along for a relaxed walk and chat by the beach with free coffee and donuts all thanks to Galactic Donuts and The Keppel Bay Sailing Club.\nMeet some mates\, have a good yarn and stretch the legs.\nIf you are unable to walk far\, that’s no sweat\, we always need people to run a BBQ or look after the coffees!\n\nThanks to Ergon Energy Retail for sponsoring this walk. They will be there with some tips of how to save energy and with information on how you can get help with your bill if you’re having a tough time.
URL:https://thewellbeinghub.com.au/event/mens-catch-up-yeppoon-2/
LOCATION:Keppel Bay Sailing Club\, Anzac Parade\, Yeppoon\, Queensland\, Australia
CATEGORIES:Men's Mental Health,mental health,walking group
ATTACH;FMTTYPE=image/jpeg:https://thewellbeinghub.com.au/wp-content/uploads/2026/01/609065966_797333136690879_4390415267933611010_n.jpg
ORGANIZER;CN="Walk n Talk":MAILTO:Enquiry@walkntalkcollective.org.au
END:VEVENT
BEGIN:VEVENT
DTSTART;TZID=Australia/Brisbane:20260225T183000
DTEND;TZID=Australia/Brisbane:20260225T193000
DTSTAMP:20260421T210939
CREATED:20260223T015012Z
LAST-MODIFIED:20260223T015012Z
UID:10000385-1772044200-1772047800@thewellbeinghub.com.au
SUMMARY:Yeppoon Men's Circle
DESCRIPTION:If you are looking for a safe supportive place to talk about what is going on in your life\, join us this Wednesday night 6.30pm at the Yeppoon Men’s Circle.
URL:https://thewellbeinghub.com.au/event/yeppoon-mens-circle-3/
LOCATION:Yeppoon Community Centre\, John Street\, Yeppoon\, Q\, Australia
CATEGORIES:Men's Mental Health,mental health,peer support
ATTACH;FMTTYPE=image/jpeg:https://thewellbeinghub.com.au/wp-content/uploads/2026/01/621807063_4330047170560619_8482350448097125721_n.jpg
ORGANIZER;CN="The Outback Mind Foundation":MAILTO:support@outbackmind.org.au
END:VEVENT
BEGIN:VEVENT
DTSTART;TZID=Australia/Brisbane:20260221T090000
DTEND;TZID=Australia/Brisbane:20260221T120000
DTSTAMP:20260421T210939
CREATED:20260219T032225Z
LAST-MODIFIED:20260219T032225Z
UID:10000347-1771664400-1771675200@thewellbeinghub.com.au
SUMMARY:The Noise - The Reset Every Man Needs
DESCRIPTION:If you’re a high‑performing man who’s been running on empty\, this is your circuit‑breaker.\nThe Noise is a somatic initiation workshop designed for men who look strong on the outside but feel overloaded on the inside.If your mind won’t switch off…If the pressure never lets up…If you’re tired of reacting instead of responding…\n\nThis is where everything shifts.\nThrough high‑intensity somatic work\, grounded leadership practices\, and a space built for honesty\, you’ll learn how to quiet the internal noise that’s been driving your burnout\, and reconnect with clarity\, strength\, and purpose.\nThis isn’t motivation.This isn’t mindset coaching.This is embodied work that hits deeper than thinking ever could.\n\nWHO THIS IS FOR:Men who are:\n* Burnt out or redlining\n* Carrying too much responsibility\n* Feeling disconnected from themselves or their family\n* Overwhelmed by business\, pressure\, or expectations\n* Tired of doing everything alone\n* Ready for a real shift\, not another quick fix\n\nWHAT YOU’LL EXPERIENCE:* A calmer\, clearer internal state\n* Tools to regulate stress under pressure\n* A reset for your nervous system\n* A deeper connection to purpose\n* A space where you don’t have to hold everything together\n* Brotherhood with men who get it\n\nINVESTMENT:$349Limited to 12 men only (7 spots already taken.)\n\nWHY IT WORKS:Because you can’t think your way out of burnout.You have to get out of your head and into your body.That’s what The Noise delivers.\n\nSECURE YOUR SPOT:Click Going and then book a time to chat using the ticket link\, to lock in your place.Your next level responds to this decision.
URL:https://thewellbeinghub.com.au/event/the-noise-the-reset-every-man-needs/
LOCATION:Emerge Recovery & Wellness
CATEGORIES:Men's Mental Health,workshop
ATTACH;FMTTYPE=image/jpeg:https://thewellbeinghub.com.au/wp-content/uploads/2026/02/625141253_874603531979223_3463501505659764136_n.jpg
END:VEVENT
BEGIN:VEVENT
DTSTART;TZID=Australia/Brisbane:20260221T070000
DTEND;TZID=Australia/Brisbane:20260221T100000
DTSTAMP:20260421T210939
CREATED:20260219T033909Z
LAST-MODIFIED:20260219T033909Z
UID:10000354-1771657200-1771668000@thewellbeinghub.com.au
SUMMARY:Walk n Talk - Mens Catch Up Rockhampton
DESCRIPTION:Walk ’n’ Talk Collective and Ergon Energy Retail are coming together to support the men in our region and strengthen a local mental health charity built right here in our community.\n\n\n\nTimes are tight. Pressure builds quietly. And financial stress doesn’t stay in your wallet\, it follows you home.\n\n\n\nThat’s why Ergon are sponsoring both our Rockhampton and Yeppoon Walk ’n’ Talk catch-ups because supporting mental health also means recognising the real-life pressures men are under.\n\n\n\nAt the Yeppoon walk\, Chris from Ergon will share practical information on bill relief and financial support programs.\n\n\n At Rockhampton\, flyers and support information will be available so no one misses out.\n\n\nBuilt by Blokes\, Back by community.\n\n\nFree donuts.\nFree coffee (or whatever you drink).\nFree BBQ.\nZero cost. Zero pressure.\n\n\nAll men welcome — 18+.\nIf you’ve been saying “I’ll get there one day” make it this one.
URL:https://thewellbeinghub.com.au/event/walk-n-talk-mens-catch-up-rockhampton/
LOCATION:Poppies Cafe\, Southside Pool Rockhampton\, Huish Drive\, Rockhampton\, Queensland\, 4702\, Australia
CATEGORIES:Community event,Free event,Men's Mental Health,mental health,walking group
ATTACH;FMTTYPE=image/jpeg:https://thewellbeinghub.com.au/wp-content/uploads/2026/02/636963111_833640796393446_258557839730823722_n.jpg
ORGANIZER;CN="Walk n Talk":MAILTO:Enquiry@walkntalkcollective.org.au
END:VEVENT
BEGIN:VEVENT
DTSTART;TZID=Australia/Brisbane:20260211T183000
DTEND;TZID=Australia/Brisbane:20260211T200000
DTSTAMP:20260421T210939
CREATED:20260128T011519Z
LAST-MODIFIED:20260128T011519Z
UID:10000281-1770834600-1770840000@thewellbeinghub.com.au
SUMMARY:Yeppoon Men's Circle
DESCRIPTION:If you are looking for a safe supportive place to talk about what is going on in your life\, join us this Wednesday night 6.30pm at the Yeppoon Men’s Circle
URL:https://thewellbeinghub.com.au/event/yeppoon-mens-circle-2/
LOCATION:Yeppoon Community Centre\, John Street\, Yeppoon\, Q\, Australia
CATEGORIES:Men's Mental Health,mental health
ATTACH;FMTTYPE=image/jpeg:https://thewellbeinghub.com.au/wp-content/uploads/2026/01/621807063_4330047170560619_8482350448097125721_n.jpg
ORGANIZER;CN="The Outback Mind Foundation":MAILTO:support@outbackmind.org.au
END:VEVENT
BEGIN:VEVENT
DTSTART;TZID=Australia/Brisbane:20260208T103000
DTEND;TZID=Australia/Brisbane:20260208T123000
DTSTAMP:20260421T210939
CREATED:20260114T004106Z
LAST-MODIFIED:20260114T004106Z
UID:10000233-1770546600-1770553800@thewellbeinghub.com.au
SUMMARY:FREE BBQ for Men
DESCRIPTION:Location – Bluff Point – Kemp Beach Picnic AreaTime 10:30am – 12:30pm\n\nWet Weather Location – Causeway Lake Coffee Shop\n\nWHAT IS IT?A community organisation connecting men across Australia over a relaxed free BBQ to chat about all things life.But we are more than a BBQ.Online we provide quality resources for the good of men’s mental health.\nWHY DO IT? Conversation (and listening) always helps.Weather\, work\, footy\, family challenges and life changes. Getting outside in the sunshine is healthy.An antidote to the COVID-age isolation\, meeting a welcoming bunch of guys. Meeting new mates.\n\nOur community has met outside of the BBQ\, to cycle\, have coffee and form a support network.
URL:https://thewellbeinghub.com.au/event/free-bbq-for-men/
LOCATION:Kemp Beach Picnic Area\, Kemp Beach\, Queen\, Australia
CATEGORIES:Free event,Men's Mental Health,mental health,peer support
ATTACH;FMTTYPE=image/png:https://thewellbeinghub.com.au/wp-content/uploads/2025/10/mr-perfect.png
END:VEVENT
BEGIN:VEVENT
DTSTART;TZID=Australia/Brisbane:20260128T183000
DTEND;TZID=Australia/Brisbane:20260128T203000
DTSTAMP:20260421T210939
CREATED:20260128T011340Z
LAST-MODIFIED:20260128T011340Z
UID:10000280-1769625000-1769632200@thewellbeinghub.com.au
SUMMARY:Yeppoon Men's Circle
DESCRIPTION:If you are looking for a safe supportive place to talk about what is going on in your life\, join us this Wednesday night 6.30pm at the Yeppoon Men’s Circle.
URL:https://thewellbeinghub.com.au/event/yeppoon-mens-circle/
LOCATION:Yeppoon Community Centre\, John Street\, Yeppoon\, Q\, Australia
CATEGORIES:Men's Mental Health,mental health
ATTACH;FMTTYPE=image/jpeg:https://thewellbeinghub.com.au/wp-content/uploads/2026/01/621807063_4330047170560619_8482350448097125721_n.jpg
ORGANIZER;CN="The Outback Mind Foundation":MAILTO:support@outbackmind.org.au
END:VEVENT
BEGIN:VEVENT
DTSTART;TZID=Australia/Brisbane:20260124T070000
DTEND;TZID=Australia/Brisbane:20260124T090000
DTSTAMP:20260421T210939
CREATED:20260121T062216Z
LAST-MODIFIED:20260121T062216Z
UID:10000265-1769238000-1769245200@thewellbeinghub.com.au
SUMMARY:Walk 'N' Talk x Smoked Festival / Breakfast & Walk Yeppoon
DESCRIPTION:Walk ‘N’ Talk and Smoked Festival are teaming up again\, but this time in Yepoon for a relaxed feed and catch-up. No pressure\, no expectations. Just blokes getting out\, having a yarn\, and sharing a feed.\n\nWe’ll be firing up the Maple Leaf smoker\, serving smoked burgers and snags with that unmistakable wood-fired flavour. Big smoker\, good smoke\, simple food done right. Add a coffee or beverage and you’re set.\n\n Meet at the Sail Inn Cafe Coffee or beverage Smoked meat off the big Maple Leaf smoker Optional walk for those keen Easy\, genuine chats with like-minded fellas\n\nNot into walking? No worries at all. Hang back at the coffee shop\, keep the donuts safe\, and have a chat while the walkers head out.\nThis is about connection\, not pressure. Come for the food\, stay for the chats\, or just swing by and say g’day.\n\n Big thanks to Parkhurst Quality Meats\, Banjo’s Bakery\, Sail Inn Cafe\, Galactic Donuts and Maple Leaf for supporting the day.Come along for a relaxed walk and chat by the beach with free coffee and donuts all thanks to Galactic Donuts and The Keppel Bay Sailing Club
URL:https://thewellbeinghub.com.au/event/walk-n-talk-x-smoked-festival-breakfast-walk-yeppoon/
LOCATION:Keppel Bay Sailing Club\, Anzac Parade\, Yeppoon\, Queensland\, Australia
CATEGORIES:Community event,Free event,Men's Mental Health,peer support
ATTACH;FMTTYPE=image/jpeg:https://thewellbeinghub.com.au/wp-content/uploads/2026/01/605303752_793445407079652_7898634319489365304_n.jpg
ORGANIZER;CN="Walk n Talk":MAILTO:Enquiry@walkntalkcollective.org.au
END:VEVENT
BEGIN:VEVENT
DTSTART;TZID=Australia/Brisbane:20251214T103000
DTEND;TZID=Australia/Brisbane:20251214T123000
DTSTAMP:20260421T210939
CREATED:20251209T061023Z
LAST-MODIFIED:20251209T061023Z
UID:10000210-1765708200-1765715400@thewellbeinghub.com.au
SUMMARY:Mr Perfect - FREE BBQ for Men
DESCRIPTION:Location – Bluff Point – Kemp Beach Picnic Area\nTime 10:30am – 12:30pm\n\nWet Weather Location – Causeway Lake Coffee Shop\n\nWHAT IS IT?A community organisation connecting men across Australia over a relaxed free BBQ to chat about all things life.But we are more than a BBQ.Online we provide quality resources for the good of men’s mental health.\nWHY DO IT? Conversation (and listening) always helps.Weather\, work\, footy\, family challenges and life changes. Getting outside in the sunshine is healthy.An antidote to the COVID-age isolation\, meeting a welcoming bunch of guys. Meeting new mates.Our community has met outside of the BBQ\, to cycle\, have coffee and form a support network.
URL:https://thewellbeinghub.com.au/event/mr-perfect-free-bbq-for-men/
LOCATION:Kemp Beach\, Kemp Beach\, Queensland\, Australia
CATEGORIES:Community event,Free event,Men's Mental Health,peer support
ATTACH;FMTTYPE=image/png:https://thewellbeinghub.com.au/wp-content/uploads/2025/10/mr-perfect.png
END:VEVENT
BEGIN:VEVENT
DTSTART;TZID=Australia/Brisbane:20251122T070000
DTEND;TZID=Australia/Brisbane:20251122T090000
DTSTAMP:20260421T210939
CREATED:20251119T013831Z
LAST-MODIFIED:20251119T013831Z
UID:10000146-1763794800-1763802000@thewellbeinghub.com.au
SUMMARY:Men's Catch-Up Yeppoon
DESCRIPTION:Thanks to The Keppel Bay Sailing Club our Men’s walks are coming to Yeppoon!Starting from 7am on the Fourth Saturday of each month we will meet at the Sail Inn Cafe underneath the Keppel Bay Sailing Club for a catch up\, go for a walk along the Yeppoon beachfront then back to the cafe for coffees\, a feed and a chat.\nCome and meet some blokes\, clear your head\, get some fresh air and make some connections!
URL:https://thewellbeinghub.com.au/event/mens-catch-up-yeppoon/
LOCATION:Keppel Bay Sailing Club\, Anzac Parade\, Yeppoon\, Queensland\, Australia
CATEGORIES:Community event,Men's Mental Health,mental health
ATTACH;FMTTYPE=image/jpeg:https://thewellbeinghub.com.au/wp-content/uploads/2025/10/yeppoon-walk-n-talk.jpg
ORGANIZER;CN="Walk n Talk":MAILTO:Enquiry@walkntalkcollective.org.au
END:VEVENT
BEGIN:VEVENT
DTSTART;TZID=Australia/Brisbane:20251120T080000
DTEND;TZID=Australia/Brisbane:20251120T093000
DTSTAMP:20260421T210939
CREATED:20251119T014226Z
LAST-MODIFIED:20251119T014226Z
UID:10000147-1763625600-1763631000@thewellbeinghub.com.au
SUMMARY:Rockhampton - Chin Wag
DESCRIPTION:Head on down to the Boat House\, grab yourself a coffee and have a chin wag with John and Brenton.\n\nGrab Life By The Balls is a registered charity. We are on a mission to make positive change to men’s health and well-being across Australia. Mateship is a simple\, aussie thing we can all get behind to improve men’s health and well-being.\nABOUT OUR EVENTS: – ​we run laid back social events for men to connect\, hang out and be themselves – there isn’t much structure or formalities to our events – we stand around\, mingle\, chat have a laugh\, have a good time – we definitely don’t take ourselves too seriously – we create a vibe that is fun and relaxed some examples of our events: coffee catch up\, bacon and egg bbq breaky\, burger nights\n\nWHO COMES TO OUR EVENTS: – blokes from all walks of life\n\nWHAT DO I DO WHEN I GET THERE?: – keep an eye out for John and Brenton- they’ll be wearing a Grab Life By The Balls shirt – introduce yourself to John and Brenton\, order a coffee and some food – sit down and have a chat with the rest of the crew – That’s it\n\nThanks to the Boat House for their generous support.
URL:https://thewellbeinghub.com.au/event/rockhampton-chin-wag/
LOCATION:Boathouse Rockhampton\, 189 Quay Street\, Rockhampton\, Queensland\, Australia
CATEGORIES:Community event,Men's Mental Health,mental health
ATTACH;FMTTYPE=image/jpeg:https://thewellbeinghub.com.au/wp-content/uploads/2025/11/grab.jpg
ORGANIZER;CN="Grab Life By the Balls":MAILTO:gday@grablifebytheballs.com.au
END:VEVENT
BEGIN:VEVENT
DTSTART;TZID=Australia/Brisbane:20251115T070000
DTEND;TZID=Australia/Brisbane:20251115T090000
DTSTAMP:20260421T210939
CREATED:20251112T044919Z
LAST-MODIFIED:20251112T044919Z
UID:10000096-1763190000-1763197200@thewellbeinghub.com.au
SUMMARY:Walk n Talk Men's Catch Up
DESCRIPTION:Start your weekend right with:– Free coffee or beverage– Fresh donuts from Galactic Donuts– wholesome and engaging conversation with like-minded fellas! \nNo Pressure\, just blokes catching up and enjoying some food and drink and socialising. \nNot a fan of walking? Stay back at the coffee shop with others to keep the donuts safe until the others return.
URL:https://thewellbeinghub.com.au/event/walk-n-talk-mens-catch-up/
LOCATION:Poppies Cafe\, Southside Pool Rockhampton\, Huish Drive\, Rockhampton\, Queensland\, 4702\, Australia
CATEGORIES:Men's Mental Health,mental health
ATTACH;FMTTYPE=image/jpeg:https://thewellbeinghub.com.au/wp-content/uploads/2025/11/walk.jpg
ORGANIZER;CN="Walk n Talk":MAILTO:Enquiry@walkntalkcollective.org.au
END:VEVENT
BEGIN:VEVENT
DTSTART;TZID=Australia/Brisbane:20251025T070000
DTEND;TZID=Australia/Brisbane:20251025T090000
DTSTAMP:20260421T210939
CREATED:20251017T060917Z
LAST-MODIFIED:20251017T061112Z
UID:10000035-1761375600-1761382800@thewellbeinghub.com.au
SUMMARY:Walk n Talk Men's Catch Up- Yeppoon
DESCRIPTION:Thanks to The Keppel Bay Sailing Club our Men’s walks are coming to Yeppoon!\nStarting from 7am on the Fourth Saturday of each month we will meet at the Sail Inn Cafe underneath the Keppel Bay Sailing Club for a catch up\, go for a walk along the Yeppoon beachfront then back to the cafe for coffees\, a feed and a chat.\n\nCome and meet some blokes\, clear your head\, get some fresh air and make some connections!
URL:https://thewellbeinghub.com.au/event/walk-n-talk-yeppoon/
LOCATION:Queen
CATEGORIES:Community event,Men's Mental Health,peer support,walking group
ATTACH;FMTTYPE=image/jpeg:https://thewellbeinghub.com.au/wp-content/uploads/2025/10/yeppoon-walk-n-talk.jpg
END:VEVENT
BEGIN:VEVENT
DTSTART;TZID=Australia/Brisbane:20251022T183000
DTEND;TZID=Australia/Brisbane:20251022T203000
DTSTAMP:20260421T210939
CREATED:20251022T032745Z
LAST-MODIFIED:20251022T032804Z
UID:10000045-1761157800-1761165000@thewellbeinghub.com.au
SUMMARY:Yeppoon Men's Circle - The Outback Mind Foundation
DESCRIPTION:If you are looking for a safe supportive place to talk about what is going on in your life\, join us this Wednesday night 6.30pm at the Yeppoon Men’s Circle.
URL:https://thewellbeinghub.com.au/event/yeppoon-mens-circle-outback-mind/
LOCATION:Yeppoon Community Centre\, John Street\, Yeppoon\, Q\, Australia
CATEGORIES:Community event,Men's Mental Health,peer support
ATTACH;FMTTYPE=image/jpeg:https://thewellbeinghub.com.au/wp-content/uploads/2025/10/outbak-minds.jpg
ORGANIZER;CN="The Outback Mind Foundation":MAILTO:support@outbackmind.org.au
END:VEVENT
END:VCALENDAR