BEGIN:VCALENDAR
VERSION:2.0
PRODID:-//The Wellbeing Hub - ECPv6.15.20//NONSGML v1.0//EN
CALSCALE:GREGORIAN
METHOD:PUBLISH
X-WR-CALNAME:The Wellbeing Hub
X-ORIGINAL-URL:https://thewellbeinghub.com.au
X-WR-CALDESC:Events for The Wellbeing Hub
REFRESH-INTERVAL;VALUE=DURATION:PT1H
X-Robots-Tag:noindex
X-PUBLISHED-TTL:PT1H
BEGIN:VTIMEZONE
TZID:Australia/Brisbane
BEGIN:STANDARD
TZOFFSETFROM:+1000
TZOFFSETTO:+1000
TZNAME:AEST
DTSTART:20250101T000000
END:STANDARD
END:VTIMEZONE
BEGIN:VEVENT
DTSTART;TZID=Australia/Brisbane:20260613T120000
DTEND;TZID=Australia/Brisbane:20260613T180000
DTSTAMP:20260419T225230
CREATED:20260222T023437Z
LAST-MODIFIED:20260222T023437Z
UID:10000378-1781352000-1781373600@thewellbeinghub.com.au
SUMMARY:Rockhampton Long Lunch
DESCRIPTION:Join us at the RRR Women’s Rockhampton Long Lunch: Together We Rise.\n\nIt’s a vibrant community event designed to connect\, celebrate\, and empower women in business across the region. Over a relaxed and welcoming lunch\, you’ll have the chance to:\n– Network with like-minded women and build meaningful professional relationships.– Celebrate achievements and share experiences that spark collaboration and growth.– Gain insights from inspiring voices who have embraced collaboration as a pathway to success.\n\nThis event is all about creating opportunities\, building confidence\, and strengthening the networks that drive long-term success for rural and regional women.\n\nEnjoy a delicious lunch\, a welcome drink and the chance to participate in our silent auction.\nWith thanks to our Rockhampton Long Lunch event supporter: Community Underwriting.\nTICKETS ON SALE NOWhttps://qrrrwn.org.au/…/rockhampton-long-lunch…/
URL:https://thewellbeinghub.com.au/event/rockhampton-long-lunch/
LOCATION:Frenchville Sports Club\, Clifton Street\, Berserker\, Australia
CATEGORIES:Business,networking
ATTACH;FMTTYPE=image/jpeg:https://thewellbeinghub.com.au/wp-content/uploads/2026/02/616820362_1317672760394094_8752860256722673399_n.jpg
END:VEVENT
END:VCALENDAR