BEGIN:VCALENDAR
VERSION:2.0
PRODID:-//The Wellbeing Hub - ECPv6.15.20//NONSGML v1.0//EN
CALSCALE:GREGORIAN
METHOD:PUBLISH
X-WR-CALNAME:The Wellbeing Hub
X-ORIGINAL-URL:https://thewellbeinghub.com.au
X-WR-CALDESC:Events for The Wellbeing Hub
REFRESH-INTERVAL;VALUE=DURATION:PT1H
X-Robots-Tag:noindex
X-PUBLISHED-TTL:PT1H
BEGIN:VTIMEZONE
TZID:Australia/Brisbane
BEGIN:STANDARD
TZOFFSETFROM:+1000
TZOFFSETTO:+1000
TZNAME:AEST
DTSTART:20250101T000000
END:STANDARD
END:VTIMEZONE
BEGIN:VEVENT
DTSTART;TZID=Australia/Brisbane:20260322T160000
DTEND;TZID=Australia/Brisbane:20260322T190000
DTSTAMP:20260424T200133
CREATED:20260319T021619Z
LAST-MODIFIED:20260319T021619Z
UID:10002186-1774195200-1774206000@thewellbeinghub.com.au
SUMMARY:Open Mic Sundays - Lure Living
DESCRIPTION:Every sunday from 4 to 7 pm \n\n\nPlay a song a receive 50% off a drink and an entree
URL:https://thewellbeinghub.com.au/event/open-mic-sundays-lure-living/
LOCATION:Lure Living\, Anzac Parade\, Yeppoon
CATEGORIES:Open Mic
ATTACH;FMTTYPE=image/jpeg:https://thewellbeinghub.com.au/wp-content/uploads/2026/03/480426817_1166807752118346_1081685517913591725_n-1.jpg
END:VEVENT
END:VCALENDAR